{"text_format":"2","workbook":"xlsx","n_sheets":6,"sheets":["汇总","江西余干库","庄河荣名库","安阳荣名库","藁城荣名库","曲阜荣名库"],"not_rendered":{"charts":0,"images":0,"macros":0,"external_links":0,"defined_names":0,"comments":0,"pivot_tables":0},"unopened":[],"bounds":{"document_bytes":16777216,"sheet_cells":100000,"run_cost":"one","rows_first":2000,"rows_last":500,"rows_between":2000,"halvings":0,"cell_chars":16384,"cell_head_chars":4096},"cells_cut":0,"cells_raw":0,"read":"whole","date_system":"1900"}

{"sheet":"汇总","index":0,"n_rows":8,"n_cols":4,"rows_kept":8,"cut":false,"hidden":false,"merged":[[0,0,0,3]]}
["库存汇总"]
["序号","仓库名称","物料数量","货值"]
[1,"江西余干库",{"$f":"江西余干库!H13","v":3986},{"$f":"江西余干库!I13","v":5834642}]
[2,"庄河荣名库",{"$f":"庄河荣名库!H23","v":3064},{"$f":"庄河荣名库!I23","v":6240961}]
[3,"安阳荣名库",{"$f":"安阳荣名库!H23","v":41347},{"$f":"安阳荣名库!I23","v":40375436.2}]
[4,"藁城荣名库",{"$f":"藁城荣名库!H21","v":12289},{"$f":"藁城荣名库!I21","v":11275196}]
[5,"曲阜荣名库",{"$f":"曲阜荣名库!H24","v":14649},{"$f":"曲阜荣名库!I24","v":16563951.6}]
["合计",null,{"$f":"SUM(C3:C7)","v":75335},{"$f":"SUM(D3:D7)","v":80290186.8}]

{"sheet":"江西余干库","index":1,"n_rows":13,"n_cols":9,"rows_kept":13,"cut":false,"hidden":false,"merged":[[0,0,0,8]]}
["江西余干库"]
["序号","仓库名称","物料组","物料编号","物料名称","物料品牌","物料单价","库存数量","货值"]
[1,"江西余干库","组件",1004000067,"东方日升660双玻","山海新能-东方日升",1082.4,3680,{"$f":"G3*H3","v":3983232}]
[2,"江西余干库","逆变器",2001000015,"逆变器-15","山海新能-锦浪",3905,10,{"$f":"G4*H4","v":39050}]
[3,"江西余干库","逆变器",2001000020,"逆变器-20","山海新能-锦浪",4510,64,{"$f":"G5*H5","v":288640}]
[4,"江西余干库","逆变器",2001000025,"逆变器-25","山海新能-锦浪",5170,120,620400]
[5,"江西余干库","逆变器",2001000030,"逆变器-30","山海新能-锦浪",7700,81,623700]
[6,"江西余干库","逆变器",2001000036,"逆变器-36","山海新能-锦浪",8525,18,153450]
[7,"江西余干库","逆变器",2001000040,"逆变器-40","山海新能-锦浪",8690,9,78210]
[8,"江西余干库","逆变器",2001000050,"逆变器-50","山海新能-锦浪",11990,4,47960]
[]
[]
["总计",{"$nulls":6},{"$f":"SUM(H3:H12)","v":3986},{"$f":"SUM(I3:I12)","v":5834642}]

{"sheet":"庄河荣名库","index":2,"n_rows":23,"n_cols":9,"rows_kept":23,"cut":false,"hidden":false,"merged":[[0,0,0,8]]}
["庄河荣名库"]
["序号","仓库名称","物料组","物料编号","物料名称","物料品牌","物料单价","库存数量","货值"]
[1,"庄河荣名库","组件","1004000060","东方日升600","山海新能-东方日升",1108.8,160,{"$f":"G3*H3","v":177408}]
[2,"庄河荣名库","组件",1001000054,"天合600","山海智慧-天合",1267,0,{"$f":"G4*H4","v":0}]
[3,"庄河荣名库","组件",1004000047,"晶科475","山海智慧-天合",904,2418,{"$f":"G5*H5","v":2185872}]
[4,"庄河荣名库","逆变器",2003000060,"逆变器-60","山海新能-锦浪",11300,21,{"$f":"G6*H6","v":237300}]
[5,"庄河荣名库","逆变器",2003000040,"逆变器-40","山海新能-固德威",8171,31,253301]
[6,"庄河荣名库","逆变器",2003000036,"逆变器-36","山海新能-固德威",7660,5,38300]
[7,"庄河荣名库","逆变器",2003000030,"逆变器-30","山海新能-固德威",7100,18,127800]
[8,"庄河荣名库","逆变器",20010000110,"逆变器-110","山海新能-锦浪",19800,22,435600]
[9,"庄河荣名库","逆变器",2001000080,"逆变器-80","山海新能-锦浪",17300,34,588200]
[10,"庄河荣名库","逆变器",2001000008,"逆变器-8","山海新能-锦浪",2830,50,141500]
[11,"庄河荣名库","逆变器",2001000050,"逆变器-50","山海新能-锦浪",11990,34,407660]
[12,"庄河荣名库","逆变器",2001000013,"逆变器-13","山海新能-锦浪",3520,0,0]
[13,"庄河荣名库","逆变器",2001000015,"逆变器-15","山海新能-锦浪",3905,45,175725]
[14,"庄河荣名库","逆变器",2001000036,"逆变器-36","山海新能-锦浪",8525,25,213125]
[15,"庄河荣名库","逆变器",2001000030,"逆变器-30","山海新能-锦浪",7700,49,377300]
[16,"庄河荣名库","逆变器",2001000040,"逆变器-40","山海新能-锦浪",8690,7,60830]
[17,"庄河荣名库","逆变器",2001000033,"逆变器-33","山海新能-锦浪",8195,38,311410]
[18,"庄河荣名库","逆变器",2001000025,"逆变器-25","山海新能-锦浪",5170,41,211970]
[19,"庄河荣名库","逆变器",2001000020,"逆变器-20","山海新能-锦浪",4510,66,297660]
[]
["总计",{"$nulls":6},{"$f":"SUM(H3:H22)","v":3064},{"$f":"SUM(I3:I22)","v":6240961}]

{"sheet":"安阳荣名库","index":3,"n_rows":23,"n_cols":9,"rows_kept":23,"cut":false,"hidden":false,"merged":[[0,0,0,8]]}
["安阳荣名库"]
["序号","仓库名称","物料组","物料编号","物料名称","物料品牌","物料单价","库存数量","货值"]
[1,"安阳荣名库","组件","1004000048","晶科470","山海新能","904",11036,{"$f":"G3*H3","v":9976544}]
[2,"安阳荣名库","组件","1004000067","东方日升660双玻","山海新能-东方日升",1082.4,1287,{"$f":"G4*H4","v":1393048.8}]
[3,"安阳荣名库","组件",1005000066,"阿特斯660","山海新能-阿特斯",1075.8,1133,1218881.4]
[4,"安阳荣名库","组件",1004000047,"晶科475","山海智慧-天合",904,27628,24975712]
[5,"安阳荣名库","逆变器","2002000040","逆变器-40","山海新能-古瑞瓦特","7600",12,91200]
[6,"安阳荣名库","逆变器","2002000050","逆变器-50","山海新能-古瑞瓦特","9000",36,324000]
[7,"安阳荣名库","逆变器",20010000110,"逆变器-110","山海新能-锦浪",19800,71,1405800]
[8,"安阳荣名库","逆变器",2001000030,"逆变器-30","山海新能-锦浪",7700,4,30800]
[9,"安阳荣名库","逆变器","2001000060","逆变器-60","山海新能-锦浪","11300",0,0]
[10,"安阳荣名库","逆变器","2001000080","逆变器-80","山海新能-锦浪","17300",1,17300]
[11,"安阳荣名库","逆变器","2001000036","逆变器-36","山海新能-锦浪","8525",1,8525]
[12,"安阳荣名库","逆变器",2001000050,"逆变器-50","山海新能-锦浪",11990,4,{"$f":"G14*H14","v":47960}]
[13,"安阳荣名库","逆变器",2001000040,"逆变器-40","山海新能-锦浪",8690,13,112970]
[14,"安阳荣名库","逆变器",2001000013,"逆变器-13","山海新能-锦浪",3520,5,17600]
[15,"安阳荣名库","逆变器",2001000015,"逆变器-15","山海新能-锦浪",3905,5,19525]
[16,"安阳荣名库","逆变器","2004000133","逆变器-33","禾望","7260",34,246840]
[17,"安阳荣名库","逆变器",2001000025,"逆变器-25","山海新能-锦浪",5170,0,0]
[18,"安阳荣名库","逆变器",2001000020,"逆变器-20","山海新能-锦浪",4510,27,121770]
[19,"安阳荣名库","逆变器","2004000130","逆变器-30","禾望","7040",33,232320]
[20,"安阳荣名库","逆变器","2004000136","逆变器-36","禾望","7920",17,134640]
["总计",{"$nulls":6},{"$f":"SUM(H3:H22)","v":41347},{"$f":"SUM(I3:I22)","v":40375436.2}]

{"sheet":"藁城荣名库","index":4,"n_rows":21,"n_cols":9,"rows_kept":21,"cut":false,"hidden":false,"merged":[[0,0,0,8]]}
["藁城荣名库"]
["序号","仓库名称","物料组","物料编号","物料名称","物料品牌","物料单价","库存数量","货值"]
[1,"藁城荣名库","组件",1001000050,"TSM-500DE18M(II）","山海智慧-天合",900,71,{"$f":"G3*H3","v":63900}]
[2,"藁城荣名库","组件",1001000053,"TSM-535DE19","山海智慧-天合",963,12,{"$f":"G4*H4","v":11556}]
[3,"藁城荣名库","组件",1002000053,"TSM-535DE19","山海智慧-远显",996,561,558756]
[4,"藁城荣名库","组件",1003000053,"TSM-535DE19","山海智慧-乐丰",996,215,214140]
[5,"藁城荣名库","组件",1003010053,"TSM-535DE19","山海智慧-乐丰（宽）",996,1066,1061736]
[6,"藁城荣名库","组件",1004000047,"晶科475","山海智慧-天合",904,314,283856]
[7,"藁城荣名库","组件",1001000045,"TSM-450DE17M(II）","山海智慧-天合",810,42,34020]
[8,"藁城荣名库","组件",1004000048,"晶科470","山海智慧-天合",904,10008,9047232]
[9,"藁城荣名库","逆变器",2002000040,"逆变器-40","山海新能-古瑞瓦特",7600,"0",0]
[10,"藁城荣名库","逆变器",2001000015,"逆变器-15","山海新能-锦浪",3905,"0",0]
[11,"藁城荣名库","逆变器",2001000036,"逆变器-36","山海新能-锦浪","8525","0",0]
[12,"藁城荣名库","逆变器",2002000050,"逆变器-50","山海新能-古瑞瓦特",9000,"0",0]
[13,"藁城荣名库","逆变器",2004000136,"逆变器-36","禾望",7920,"0",0]
[14,"藁城荣名库","逆变器",2004000133,"逆变器-33","禾望",7260,"0",0]
[15,"藁城荣名库","逆变器",2004000130,"逆变器-30","禾望",7040,"0",0]
[]
[]
[]
["总计",{"$nulls":6},{"$f":"SUM(H3:H20)","v":12289},{"$f":"SUM(I3:I20)","v":11275196}]

{"sheet":"曲阜荣名库","index":5,"n_rows":24,"n_cols":9,"rows_kept":24,"cut":false,"hidden":false,"merged":[[0,0,0,8]]}
["曲阜荣名库"]
["序号","仓库名称","物料组","物料编号","物料名称","物料品牌","物料单价","库存数量","货值"]
[1,"曲阜荣名库","组件",1004000060,"东方日升600","山海新能-东方日升",1108.8,7192,{"$f":"G3*H3","v":7974489.6}]
[2,"曲阜荣名库","组件",1004000047,"晶科475","山海智慧-天合",904,6448,{"$f":"G4*H4","v":5828992}]
[3,"曲阜荣名库","组件",1001000054,"天合600","山海智慧-天合",1267,785,994595]
[4,"曲阜荣名库","逆变器","2001000013","逆变器-13","山海新能-锦浪",3520,9,31680]
[5,"曲阜荣名库","逆变器",2001000050,"逆变器-50","山海新能-锦浪",11990,20,239800]
[6,"曲阜荣名库","逆变器",2001000080,"逆变器-80","山海新能-锦浪",17300,4,69200]
[7,"曲阜荣名库","逆变器",20010000110,"逆变器-110","山海新能-锦浪",19800,5,99000]
[8,"曲阜荣名库","逆变器","2001000060","逆变器-60","山海新能-锦浪",11300,6,67800]
[9,"曲阜荣名库","逆变器",2002000050,"逆变器-50","山海新能-古瑞瓦特",9000,10,{"$f":"G11*H11","v":90000}]
[10,"曲阜荣名库","逆变器",2002000040,"逆变器-40","山海新能-古瑞瓦特",7600,14,106400]
[11,"曲阜荣名库","逆变器",2003000050,"逆变器-50","山海新能-固德威",9900,2,19800]
[12,"曲阜荣名库","逆变器",2001000040,"逆变器-40","山海新能-锦浪",8690,10,86900]
[13,"曲阜荣名库","逆变器",2001000033,"逆变器-33","山海新能-锦浪",8195,44,360580]
[14,"曲阜荣名库","逆变器",2001000036,"逆变器-36","山海新能-锦浪",8525,10,85250]
[15,"曲阜荣名库","逆变器",2001000030,"逆变器-30","山海新能-锦浪",7700,31,238700]
[16,"曲阜荣名库","逆变器",2001000015,"逆变器-15","山海新能-锦浪",3905,13,50765]
[17,"曲阜荣名库","逆变器",2001000025,"逆变器-25","山海新能-锦浪",5170,19,98230]
[18,"曲阜荣名库","逆变器",2001000020,"逆变器-20","山海新能-锦浪",4510,27,121770]
[]
[]
[]
["总计",{"$nulls":6},{"$f":"SUM(H3:H23)","v":14649},{"$f":"SUM(I3:I23)","v":16563951.6}]