{"text_format":"2","workbook":"xlsx","n_sheets":3,"sheets":["Sheet1","Sheet2","Sheet3"],"not_rendered":{"charts":0,"images":0,"macros":0,"external_links":0,"defined_names":0,"comments":0,"pivot_tables":0},"unopened":[],"bounds":{"document_bytes":16777216,"sheet_cells":100000,"run_cost":"one","rows_first":2000,"rows_last":500,"rows_between":2000,"halvings":0,"cell_chars":16384,"cell_head_chars":4096},"cells_cut":0,"cells_raw":0,"read":"whole","date_system":"1900"}

{"sheet":"Sheet1","index":0,"n_rows":982,"n_cols":15,"rows_kept":982,"cut":false,"hidden":false,"merged":[[0,0,0,14],[1,6,1,11],[1,0,2,0],[1,1,2,1],[1,2,2,2],[1,3,2,3],[1,4,2,4],[1,5,2,5],[1,12,2,12],[1,13,2,13],[1,14,2,14]]}
["***支行“家庭云菜窖”订单明细表"]
["序号","支行名称","分理处名称","菜窖卡\n实际领用人","客户姓名","客户电话","菜品",{"$nulls":5},"菜窖重量合计（斤）","填报日期","备注"]
[{"$nulls":6},"北方白菜（份）","张北土豆（份）","太行山丘陵红薯（份）","纯红薯粉条（份）","沙窝萝卜（份）","泥坑藕（份）"]
["1（列如）","营业部",null,"职工自用","张三",130000000,14,1,1,1,null,null,{"$f":"G4*Sheet2!$A$3+H4*Sheet2!$B$3+I4*Sheet2!$C$3+J4*Sheet2!$D$3+K4*Sheet2!$E$3+L4*Sheet2!$F$3","v":224},20231223]
[1,{"$nulls":11},{"$f":"G5*Sheet2!$A$3+H5*Sheet2!$B$3+I5*Sheet2!$C$3+J5*Sheet2!$D$3+K5*Sheet2!$E$3+L5*Sheet2!$F$3","v":0}]
[2,{"$nulls":11},{"$f":"G6*Sheet2!$A$3+H6*Sheet2!$B$3+I6*Sheet2!$C$3+J6*Sheet2!$D$3+K6*Sheet2!$E$3+L6*Sheet2!$F$3","v":0}]
[3,{"$nulls":11},{"$f":"G7*Sheet2!$A$3+H7*Sheet2!$B$3+I7*Sheet2!$C$3+J7*Sheet2!$D$3+K7*Sheet2!$E$3+L7*Sheet2!$F$3","v":0}]
[4,{"$nulls":11},{"$f":"G8*Sheet2!$A$3+H8*Sheet2!$B$3+I8*Sheet2!$C$3+J8*Sheet2!$D$3+K8*Sheet2!$E$3+L8*Sheet2!$F$3","v":0}]
[5,{"$nulls":11},{"$f":"G9*Sheet2!$A$3+H9*Sheet2!$B$3+I9*Sheet2!$C$3+J9*Sheet2!$D$3+K9*Sheet2!$E$3+L9*Sheet2!$F$3","v":0}]
[6,{"$nulls":11},{"$f":"G10*Sheet2!$A$3+H10*Sheet2!$B$3+I10*Sheet2!$C$3+J10*Sheet2!$D$3+K10*Sheet2!$E$3+L10*Sheet2!$F$3","v":0}]
[7,{"$nulls":11},{"$f":"G11*Sheet2!$A$3+H11*Sheet2!$B$3+I11*Sheet2!$C$3+J11*Sheet2!$D$3+K11*Sheet2!$E$3+L11*Sheet2!$F$3","v":0}]
[8,{"$nulls":11},{"$f":"G12*Sheet2!$A$3+H12*Sheet2!$B$3+I12*Sheet2!$C$3+J12*Sheet2!$D$3+K12*Sheet2!$E$3+L12*Sheet2!$F$3","v":0}]
[9,{"$nulls":11},{"$f":"G13*Sheet2!$A$3+H13*Sheet2!$B$3+I13*Sheet2!$C$3+J13*Sheet2!$D$3+K13*Sheet2!$E$3+L13*Sheet2!$F$3","v":0}]
[10,{"$nulls":11},{"$f":"G14*Sheet2!$A$3+H14*Sheet2!$B$3+I14*Sheet2!$C$3+J14*Sheet2!$D$3+K14*Sheet2!$E$3+L14*Sheet2!$F$3","v":0}]
[11,{"$nulls":11},{"$f":"G15*Sheet2!$A$3+H15*Sheet2!$B$3+I15*Sheet2!$C$3+J15*Sheet2!$D$3+K15*Sheet2!$E$3+L15*Sheet2!$F$3","v":0}]
[12,{"$nulls":11},{"$f":"G16*Sheet2!$A$3+H16*Sheet2!$B$3+I16*Sheet2!$C$3+J16*Sheet2!$D$3+K16*Sheet2!$E$3+L16*Sheet2!$F$3","v":0}]
[13,{"$nulls":11},{"$f":"G17*Sheet2!$A$3+H17*Sheet2!$B$3+I17*Sheet2!$C$3+J17*Sheet2!$D$3+K17*Sheet2!$E$3+L17*Sheet2!$F$3","v":0}]
[14,{"$nulls":11},{"$f":"G18*Sheet2!$A$3+H18*Sheet2!$B$3+I18*Sheet2!$C$3+J18*Sheet2!$D$3+K18*Sheet2!$E$3+L18*Sheet2!$F$3","v":0}]
[15,{"$nulls":11},{"$f":"G19*Sheet2!$A$3+H19*Sheet2!$B$3+I19*Sheet2!$C$3+J19*Sheet2!$D$3+K19*Sheet2!$E$3+L19*Sheet2!$F$3","v":0}]
[16,{"$nulls":11},{"$f":"G20*Sheet2!$A$3+H20*Sheet2!$B$3+I20*Sheet2!$C$3+J20*Sheet2!$D$3+K20*Sheet2!$E$3+L20*Sheet2!$F$3","v":0}]
[17,{"$nulls":11},{"$f":"G21*Sheet2!$A$3+H21*Sheet2!$B$3+I21*Sheet2!$C$3+J21*Sheet2!$D$3+K21*Sheet2!$E$3+L21*Sheet2!$F$3","v":0}]
[18,{"$nulls":11},{"$f":"G22*Sheet2!$A$3+H22*Sheet2!$B$3+I22*Sheet2!$C$3+J22*Sheet2!$D$3+K22*Sheet2!$E$3+L22*Sheet2!$F$3","v":0}]
[19,{"$nulls":11},{"$f":"G23*Sheet2!$A$3+H23*Sheet2!$B$3+I23*Sheet2!$C$3+J23*Sheet2!$D$3+K23*Sheet2!$E$3+L23*Sheet2!$F$3","v":0}]
[20,{"$nulls":11},{"$f":"G24*Sheet2!$A$3+H24*Sheet2!$B$3+I24*Sheet2!$C$3+J24*Sheet2!$D$3+K24*Sheet2!$E$3+L24*Sheet2!$F$3","v":0}]
[21,{"$nulls":11},{"$f":"G25*Sheet2!$A$3+H25*Sheet2!$B$3+I25*Sheet2!$C$3+J25*Sheet2!$D$3+K25*Sheet2!$E$3+L25*Sheet2!$F$3","v":0}]
[22,{"$nulls":11},{"$f":"G26*Sheet2!$A$3+H26*Sheet2!$B$3+I26*Sheet2!$C$3+J26*Sheet2!$D$3+K26*Sheet2!$E$3+L26*Sheet2!$F$3","v":0}]
[23,{"$nulls":11},{"$f":"G27*Sheet2!$A$3+H27*Sheet2!$B$3+I27*Sheet2!$C$3+J27*Sheet2!$D$3+K27*Sheet2!$E$3+L27*Sheet2!$F$3","v":0}]
[24,{"$nulls":11},{"$f":"G28*Sheet2!$A$3+H28*Sheet2!$B$3+I28*Sheet2!$C$3+J28*Sheet2!$D$3+K28*Sheet2!$E$3+L28*Sheet2!$F$3","v":0}]
[25,{"$nulls":11},{"$f":"G29*Sheet2!$A$3+H29*Sheet2!$B$3+I29*Sheet2!$C$3+J29*Sheet2!$D$3+K29*Sheet2!$E$3+L29*Sheet2!$F$3","v":0}]
[26,{"$nulls":11},{"$f":"G30*Sheet2!$A$3+H30*Sheet2!$B$3+I30*Sheet2!$C$3+J30*Sheet2!$D$3+K30*Sheet2!$E$3+L30*Sheet2!$F$3","v":0}]
[27,{"$nulls":11},{"$f":"G31*Sheet2!$A$3+H31*Sheet2!$B$3+I31*Sheet2!$C$3+J31*Sheet2!$D$3+K31*Sheet2!$E$3+L31*Sheet2!$F$3","v":0}]
[28,{"$nulls":11},{"$f":"G32*Sheet2!$A$3+H32*Sheet2!$B$3+I32*Sheet2!$C$3+J32*Sheet2!$D$3+K32*Sheet2!$E$3+L32*Sheet2!$F$3","v":0}]
[29,{"$nulls":11},{"$f":"G33*Sheet2!$A$3+H33*Sheet2!$B$3+I33*Sheet2!$C$3+J33*Sheet2!$D$3+K33*Sheet2!$E$3+L33*Sheet2!$F$3","v":0}]
[30,{"$nulls":11},{"$f":"G34*Sheet2!$A$3+H34*Sheet2!$B$3+I34*Sheet2!$C$3+J34*Sheet2!$D$3+K34*Sheet2!$E$3+L34*Sheet2!$F$3","v":0}]
[31,{"$nulls":11},{"$f":"G35*Sheet2!$A$3+H35*Sheet2!$B$3+I35*Sheet2!$C$3+J35*Sheet2!$D$3+K35*Sheet2!$E$3+L35*Sheet2!$F$3","v":0}]
[32,{"$nulls":11},{"$f":"G36*Sheet2!$A$3+H36*Sheet2!$B$3+I36*Sheet2!$C$3+J36*Sheet2!$D$3+K36*Sheet2!$E$3+L36*Sheet2!$F$3","v":0}]
[33,{"$nulls":11},{"$f":"G37*Sheet2!$A$3+H37*Sheet2!$B$3+I37*Sheet2!$C$3+J37*Sheet2!$D$3+K37*Sheet2!$E$3+L37*Sheet2!$F$3","v":0}]
[34,{"$nulls":11},{"$f":"G38*Sheet2!$A$3+H38*Sheet2!$B$3+I38*Sheet2!$C$3+J38*Sheet2!$D$3+K38*Sheet2!$E$3+L38*Sheet2!$F$3","v":0}]
[35,{"$nulls":11},{"$f":"G39*Sheet2!$A$3+H39*Sheet2!$B$3+I39*Sheet2!$C$3+J39*Sheet2!$D$3+K39*Sheet2!$E$3+L39*Sheet2!$F$3","v":0}]
[36,{"$nulls":11},{"$f":"G40*Sheet2!$A$3+H40*Sheet2!$B$3+I40*Sheet2!$C$3+J40*Sheet2!$D$3+K40*Sheet2!$E$3+L40*Sheet2!$F$3","v":0}]
[37,{"$nulls":11},{"$f":"G41*Sheet2!$A$3+H41*Sheet2!$B$3+I41*Sheet2!$C$3+J41*Sheet2!$D$3+K41*Sheet2!$E$3+L41*Sheet2!$F$3","v":0}]
[38,{"$nulls":11},{"$f":"G42*Sheet2!$A$3+H42*Sheet2!$B$3+I42*Sheet2!$C$3+J42*Sheet2!$D$3+K42*Sheet2!$E$3+L42*Sheet2!$F$3","v":0}]
[39,{"$nulls":11},{"$f":"G43*Sheet2!$A$3+H43*Sheet2!$B$3+I43*Sheet2!$C$3+J43*Sheet2!$D$3+K43*Sheet2!$E$3+L43*Sheet2!$F$3","v":0}]
[40,{"$nulls":11},{"$f":"G44*Sheet2!$A$3+H44*Sheet2!$B$3+I44*Sheet2!$C$3+J44*Sheet2!$D$3+K44*Sheet2!$E$3+L44*Sheet2!$F$3","v":0}]
[41,{"$nulls":11},{"$f":"G45*Sheet2!$A$3+H45*Sheet2!$B$3+I45*Sheet2!$C$3+J45*Sheet2!$D$3+K45*Sheet2!$E$3+L45*Sheet2!$F$3","v":0}]
[42,{"$nulls":11},{"$f":"G46*Sheet2!$A$3+H46*Sheet2!$B$3+I46*Sheet2!$C$3+J46*Sheet2!$D$3+K46*Sheet2!$E$3+L46*Sheet2!$F$3","v":0}]
[43,{"$nulls":11},{"$f":"G47*Sheet2!$A$3+H47*Sheet2!$B$3+I47*Sheet2!$C$3+J47*Sheet2!$D$3+K47*Sheet2!$E$3+L47*Sheet2!$F$3","v":0}]
[44,{"$nulls":11},{"$f":"G48*Sheet2!$A$3+H48*Sheet2!$B$3+I48*Sheet2!$C$3+J48*Sheet2!$D$3+K48*Sheet2!$E$3+L48*Sheet2!$F$3","v":0}]
[45,{"$nulls":11},{"$f":"G49*Sheet2!$A$3+H49*Sheet2!$B$3+I49*Sheet2!$C$3+J49*Sheet2!$D$3+K49*Sheet2!$E$3+L49*Sheet2!$F$3","v":0}]
[46,{"$nulls":11},{"$f":"G50*Sheet2!$A$3+H50*Sheet2!$B$3+I50*Sheet2!$C$3+J50*Sheet2!$D$3+K50*Sheet2!$E$3+L50*Sheet2!$F$3","v":0}]
[47,{"$nulls":11},{"$f":"G51*Sheet2!$A$3+H51*Sheet2!$B$3+I51*Sheet2!$C$3+J51*Sheet2!$D$3+K51*Sheet2!$E$3+L51*Sheet2!$F$3","v":0}]
[48,{"$nulls":11},{"$f":"G52*Sheet2!$A$3+H52*Sheet2!$B$3+I52*Sheet2!$C$3+J52*Sheet2!$D$3+K52*Sheet2!$E$3+L52*Sheet2!$F$3","v":0}]
[49,{"$nulls":11},{"$f":"G53*Sheet2!$A$3+H53*Sheet2!$B$3+I53*Sheet2!$C$3+J53*Sheet2!$D$3+K53*Sheet2!$E$3+L53*Sheet2!$F$3","v":0}]
[50,{"$nulls":11},{"$f":"G54*Sheet2!$A$3+H54*Sheet2!$B$3+I54*Sheet2!$C$3+J54*Sheet2!$D$3+K54*Sheet2!$E$3+L54*Sheet2!$F$3","v":0}]
[51,{"$nulls":11},{"$f":"G55*Sheet2!$A$3+H55*Sheet2!$B$3+I55*Sheet2!$C$3+J55*Sheet2!$D$3+K55*Sheet2!$E$3+L55*Sheet2!$F$3","v":0}]
[52,{"$nulls":11},{"$f":"G56*Sheet2!$A$3+H56*Sheet2!$B$3+I56*Sheet2!$C$3+J56*Sheet2!$D$3+K56*Sheet2!$E$3+L56*Sheet2!$F$3","v":0}]
[53,{"$nulls":11},{"$f":"G57*Sheet2!$A$3+H57*Sheet2!$B$3+I57*Sheet2!$C$3+J57*Sheet2!$D$3+K57*Sheet2!$E$3+L57*Sheet2!$F$3","v":0}]
[54,{"$nulls":11},{"$f":"G58*Sheet2!$A$3+H58*Sheet2!$B$3+I58*Sheet2!$C$3+J58*Sheet2!$D$3+K58*Sheet2!$E$3+L58*Sheet2!$F$3","v":0}]
[55,{"$nulls":11},{"$f":"G59*Sheet2!$A$3+H59*Sheet2!$B$3+I59*Sheet2!$C$3+J59*Sheet2!$D$3+K59*Sheet2!$E$3+L59*Sheet2!$F$3","v":0}]
[56,{"$nulls":11},{"$f":"G60*Sheet2!$A$3+H60*Sheet2!$B$3+I60*Sheet2!$C$3+J60*Sheet2!$D$3+K60*Sheet2!$E$3+L60*Sheet2!$F$3","v":0}]
[57,{"$nulls":11},{"$f":"G61*Sheet2!$A$3+H61*Sheet2!$B$3+I61*Sheet2!$C$3+J61*Sheet2!$D$3+K61*Sheet2!$E$3+L61*Sheet2!$F$3","v":0}]
[58,{"$nulls":11},{"$f":"G62*Sheet2!$A$3+H62*Sheet2!$B$3+I62*Sheet2!$C$3+J62*Sheet2!$D$3+K62*Sheet2!$E$3+L62*Sheet2!$F$3","v":0}]
[59,{"$nulls":11},{"$f":"G63*Sheet2!$A$3+H63*Sheet2!$B$3+I63*Sheet2!$C$3+J63*Sheet2!$D$3+K63*Sheet2!$E$3+L63*Sheet2!$F$3","v":0}]
[60,{"$nulls":11},{"$f":"G64*Sheet2!$A$3+H64*Sheet2!$B$3+I64*Sheet2!$C$3+J64*Sheet2!$D$3+K64*Sheet2!$E$3+L64*Sheet2!$F$3","v":0}]
[61,{"$nulls":11},{"$f":"G65*Sheet2!$A$3+H65*Sheet2!$B$3+I65*Sheet2!$C$3+J65*Sheet2!$D$3+K65*Sheet2!$E$3+L65*Sheet2!$F$3","v":0}]
[62,{"$nulls":11},{"$f":"G66*Sheet2!$A$3+H66*Sheet2!$B$3+I66*Sheet2!$C$3+J66*Sheet2!$D$3+K66*Sheet2!$E$3+L66*Sheet2!$F$3","v":0}]
[63,{"$nulls":11},{"$f":"G67*Sheet2!$A$3+H67*Sheet2!$B$3+I67*Sheet2!$C$3+J67*Sheet2!$D$3+K67*Sheet2!$E$3+L67*Sheet2!$F$3","v":0}]
[64,{"$nulls":11},{"$f":"G68*Sheet2!$A$3+H68*Sheet2!$B$3+I68*Sheet2!$C$3+J68*Sheet2!$D$3+K68*Sheet2!$E$3+L68*Sheet2!$F$3","v":0}]
[65,{"$nulls":11},{"$f":"G69*Sheet2!$A$3+H69*Sheet2!$B$3+I69*Sheet2!$C$3+J69*Sheet2!$D$3+K69*Sheet2!$E$3+L69*Sheet2!$F$3","v":0}]
[66,{"$nulls":11},{"$f":"G70*Sheet2!$A$3+H70*Sheet2!$B$3+I70*Sheet2!$C$3+J70*Sheet2!$D$3+K70*Sheet2!$E$3+L70*Sheet2!$F$3","v":0}]
[67,{"$nulls":11},{"$f":"G71*Sheet2!$A$3+H71*Sheet2!$B$3+I71*Sheet2!$C$3+J71*Sheet2!$D$3+K71*Sheet2!$E$3+L71*Sheet2!$F$3","v":0}]
[68,{"$nulls":11},{"$f":"G72*Sheet2!$A$3+H72*Sheet2!$B$3+I72*Sheet2!$C$3+J72*Sheet2!$D$3+K72*Sheet2!$E$3+L72*Sheet2!$F$3","v":0}]
[69,{"$nulls":11},{"$f":"G73*Sheet2!$A$3+H73*Sheet2!$B$3+I73*Sheet2!$C$3+J73*Sheet2!$D$3+K73*Sheet2!$E$3+L73*Sheet2!$F$3","v":0}]
[70,{"$nulls":11},{"$f":"G74*Sheet2!$A$3+H74*Sheet2!$B$3+I74*Sheet2!$C$3+J74*Sheet2!$D$3+K74*Sheet2!$E$3+L74*Sheet2!$F$3","v":0}]
[71,{"$nulls":11},{"$f":"G75*Sheet2!$A$3+H75*Sheet2!$B$3+I75*Sheet2!$C$3+J75*Sheet2!$D$3+K75*Sheet2!$E$3+L75*Sheet2!$F$3","v":0}]
[72,{"$nulls":11},{"$f":"G76*Sheet2!$A$3+H76*Sheet2!$B$3+I76*Sheet2!$C$3+J76*Sheet2!$D$3+K76*Sheet2!$E$3+L76*Sheet2!$F$3","v":0}]
[73,{"$nulls":11},{"$f":"G77*Sheet2!$A$3+H77*Sheet2!$B$3+I77*Sheet2!$C$3+J77*Sheet2!$D$3+K77*Sheet2!$E$3+L77*Sheet2!$F$3","v":0}]
[74,{"$nulls":11},{"$f":"G78*Sheet2!$A$3+H78*Sheet2!$B$3+I78*Sheet2!$C$3+J78*Sheet2!$D$3+K78*Sheet2!$E$3+L78*Sheet2!$F$3","v":0}]
[75,{"$nulls":11},{"$f":"G79*Sheet2!$A$3+H79*Sheet2!$B$3+I79*Sheet2!$C$3+J79*Sheet2!$D$3+K79*Sheet2!$E$3+L79*Sheet2!$F$3","v":0}]
[76,{"$nulls":11},{"$f":"G80*Sheet2!$A$3+H80*Sheet2!$B$3+I80*Sheet2!$C$3+J80*Sheet2!$D$3+K80*Sheet2!$E$3+L80*Sheet2!$F$3","v":0}]
[77,{"$nulls":11},{"$f":"G81*Sheet2!$A$3+H81*Sheet2!$B$3+I81*Sheet2!$C$3+J81*Sheet2!$D$3+K81*Sheet2!$E$3+L81*Sheet2!$F$3","v":0}]
[78,{"$nulls":11},{"$f":"G82*Sheet2!$A$3+H82*Sheet2!$B$3+I82*Sheet2!$C$3+J82*Sheet2!$D$3+K82*Sheet2!$E$3+L82*Sheet2!$F$3","v":0}]
[79,{"$nulls":11},{"$f":"G83*Sheet2!$A$3+H83*Sheet2!$B$3+I83*Sheet2!$C$3+J83*Sheet2!$D$3+K83*Sheet2!$E$3+L83*Sheet2!$F$3","v":0}]
[80,{"$nulls":11},{"$f":"G84*Sheet2!$A$3+H84*Sheet2!$B$3+I84*Sheet2!$C$3+J84*Sheet2!$D$3+K84*Sheet2!$E$3+L84*Sheet2!$F$3","v":0}]
[81,{"$nulls":11},{"$f":"G85*Sheet2!$A$3+H85*Sheet2!$B$3+I85*Sheet2!$C$3+J85*Sheet2!$D$3+K85*Sheet2!$E$3+L85*Sheet2!$F$3","v":0}]
[82,{"$nulls":11},{"$f":"G86*Sheet2!$A$3+H86*Sheet2!$B$3+I86*Sheet2!$C$3+J86*Sheet2!$D$3+K86*Sheet2!$E$3+L86*Sheet2!$F$3","v":0}]
[83,{"$nulls":11},{"$f":"G87*Sheet2!$A$3+H87*Sheet2!$B$3+I87*Sheet2!$C$3+J87*Sheet2!$D$3+K87*Sheet2!$E$3+L87*Sheet2!$F$3","v":0}]
[84,{"$nulls":11},{"$f":"G88*Sheet2!$A$3+H88*Sheet2!$B$3+I88*Sheet2!$C$3+J88*Sheet2!$D$3+K88*Sheet2!$E$3+L88*Sheet2!$F$3","v":0}]
[85,{"$nulls":11},{"$f":"G89*Sheet2!$A$3+H89*Sheet2!$B$3+I89*Sheet2!$C$3+J89*Sheet2!$D$3+K89*Sheet2!$E$3+L89*Sheet2!$F$3","v":0}]
[86,{"$nulls":11},{"$f":"G90*Sheet2!$A$3+H90*Sheet2!$B$3+I90*Sheet2!$C$3+J90*Sheet2!$D$3+K90*Sheet2!$E$3+L90*Sheet2!$F$3","v":0}]
[87,{"$nulls":11},{"$f":"G91*Sheet2!$A$3+H91*Sheet2!$B$3+I91*Sheet2!$C$3+J91*Sheet2!$D$3+K91*Sheet2!$E$3+L91*Sheet2!$F$3","v":0}]
[88,{"$nulls":11},{"$f":"G92*Sheet2!$A$3+H92*Sheet2!$B$3+I92*Sheet2!$C$3+J92*Sheet2!$D$3+K92*Sheet2!$E$3+L92*Sheet2!$F$3","v":0}]
[89,{"$nulls":11},{"$f":"G93*Sheet2!$A$3+H93*Sheet2!$B$3+I93*Sheet2!$C$3+J93*Sheet2!$D$3+K93*Sheet2!$E$3+L93*Sheet2!$F$3","v":0}]
[90,{"$nulls":11},{"$f":"G94*Sheet2!$A$3+H94*Sheet2!$B$3+I94*Sheet2!$C$3+J94*Sheet2!$D$3+K94*Sheet2!$E$3+L94*Sheet2!$F$3","v":0}]
[91,{"$nulls":11},{"$f":"G95*Sheet2!$A$3+H95*Sheet2!$B$3+I95*Sheet2!$C$3+J95*Sheet2!$D$3+K95*Sheet2!$E$3+L95*Sheet2!$F$3","v":0}]
[92,{"$nulls":11},{"$f":"G96*Sheet2!$A$3+H96*Sheet2!$B$3+I96*Sheet2!$C$3+J96*Sheet2!$D$3+K96*Sheet2!$E$3+L96*Sheet2!$F$3","v":0}]
[93,{"$nulls":11},{"$f":"G97*Sheet2!$A$3+H97*Sheet2!$B$3+I97*Sheet2!$C$3+J97*Sheet2!$D$3+K97*Sheet2!$E$3+L97*Sheet2!$F$3","v":0}]
[94,{"$nulls":11},{"$f":"G98*Sheet2!$A$3+H98*Sheet2!$B$3+I98*Sheet2!$C$3+J98*Sheet2!$D$3+K98*Sheet2!$E$3+L98*Sheet2!$F$3","v":0}]
[95,{"$nulls":11},{"$f":"G99*Sheet2!$A$3+H99*Sheet2!$B$3+I99*Sheet2!$C$3+J99*Sheet2!$D$3+K99*Sheet2!$E$3+L99*Sheet2!$F$3","v":0}]
[96,{"$nulls":11},{"$f":"G100*Sheet2!$A$3+H100*Sheet2!$B$3+I100*Sheet2!$C$3+J100*Sheet2!$D$3+K100*Sheet2!$E$3+L100*Sheet2!$F$3","v":0}]
[97,{"$nulls":11},{"$f":"G101*Sheet2!$A$3+H101*Sheet2!$B$3+I101*Sheet2!$C$3+J101*Sheet2!$D$3+K101*Sheet2!$E$3+L101*Sheet2!$F$3","v":0}]
[98,{"$nulls":11},{"$f":"G102*Sheet2!$A$3+H102*Sheet2!$B$3+I102*Sheet2!$C$3+J102*Sheet2!$D$3+K102*Sheet2!$E$3+L102*Sheet2!$F$3","v":0}]
[99,{"$nulls":11},{"$f":"G103*Sheet2!$A$3+H103*Sheet2!$B$3+I103*Sheet2!$C$3+J103*Sheet2!$D$3+K103*Sheet2!$E$3+L103*Sheet2!$F$3","v":0}]
[100,{"$nulls":11},{"$f":"G104*Sheet2!$A$3+H104*Sheet2!$B$3+I104*Sheet2!$C$3+J104*Sheet2!$D$3+K104*Sheet2!$E$3+L104*Sheet2!$F$3","v":0}]
[101,{"$nulls":11},{"$f":"G105*Sheet2!$A$3+H105*Sheet2!$B$3+I105*Sheet2!$C$3+J105*Sheet2!$D$3+K105*Sheet2!$E$3+L105*Sheet2!$F$3","v":0}]
[102,{"$nulls":11},{"$f":"G106*Sheet2!$A$3+H106*Sheet2!$B$3+I106*Sheet2!$C$3+J106*Sheet2!$D$3+K106*Sheet2!$E$3+L106*Sheet2!$F$3","v":0}]
[103,{"$nulls":11},{"$f":"G107*Sheet2!$A$3+H107*Sheet2!$B$3+I107*Sheet2!$C$3+J107*Sheet2!$D$3+K107*Sheet2!$E$3+L107*Sheet2!$F$3","v":0}]
[104,{"$nulls":11},{"$f":"G108*Sheet2!$A$3+H108*Sheet2!$B$3+I108*Sheet2!$C$3+J108*Sheet2!$D$3+K108*Sheet2!$E$3+L108*Sheet2!$F$3","v":0}]
[105,{"$nulls":11},{"$f":"G109*Sheet2!$A$3+H109*Sheet2!$B$3+I109*Sheet2!$C$3+J109*Sheet2!$D$3+K109*Sheet2!$E$3+L109*Sheet2!$F$3","v":0}]
[106,{"$nulls":11},{"$f":"G110*Sheet2!$A$3+H110*Sheet2!$B$3+I110*Sheet2!$C$3+J110*Sheet2!$D$3+K110*Sheet2!$E$3+L110*Sheet2!$F$3","v":0}]
[107,{"$nulls":11},{"$f":"G111*Sheet2!$A$3+H111*Sheet2!$B$3+I111*Sheet2!$C$3+J111*Sheet2!$D$3+K111*Sheet2!$E$3+L111*Sheet2!$F$3","v":0}]
[108,{"$nulls":11},{"$f":"G112*Sheet2!$A$3+H112*Sheet2!$B$3+I112*Sheet2!$C$3+J112*Sheet2!$D$3+K112*Sheet2!$E$3+L112*Sheet2!$F$3","v":0}]
[109,{"$nulls":11},{"$f":"G113*Sheet2!$A$3+H113*Sheet2!$B$3+I113*Sheet2!$C$3+J113*Sheet2!$D$3+K113*Sheet2!$E$3+L113*Sheet2!$F$3","v":0}]
[110,{"$nulls":11},{"$f":"G114*Sheet2!$A$3+H114*Sheet2!$B$3+I114*Sheet2!$C$3+J114*Sheet2!$D$3+K114*Sheet2!$E$3+L114*Sheet2!$F$3","v":0}]
[111,{"$nulls":11},{"$f":"G115*Sheet2!$A$3+H115*Sheet2!$B$3+I115*Sheet2!$C$3+J115*Sheet2!$D$3+K115*Sheet2!$E$3+L115*Sheet2!$F$3","v":0}]
[112,{"$nulls":11},{"$f":"G116*Sheet2!$A$3+H116*Sheet2!$B$3+I116*Sheet2!$C$3+J116*Sheet2!$D$3+K116*Sheet2!$E$3+L116*Sheet2!$F$3","v":0}]
[113,{"$nulls":11},{"$f":"G117*Sheet2!$A$3+H117*Sheet2!$B$3+I117*Sheet2!$C$3+J117*Sheet2!$D$3+K117*Sheet2!$E$3+L117*Sheet2!$F$3","v":0}]
[114,{"$nulls":11},{"$f":"G118*Sheet2!$A$3+H118*Sheet2!$B$3+I118*Sheet2!$C$3+J118*Sheet2!$D$3+K118*Sheet2!$E$3+L118*Sheet2!$F$3","v":0}]
[115,{"$nulls":11},{"$f":"G119*Sheet2!$A$3+H119*Sheet2!$B$3+I119*Sheet2!$C$3+J119*Sheet2!$D$3+K119*Sheet2!$E$3+L119*Sheet2!$F$3","v":0}]
[116,{"$nulls":11},{"$f":"G120*Sheet2!$A$3+H120*Sheet2!$B$3+I120*Sheet2!$C$3+J120*Sheet2!$D$3+K120*Sheet2!$E$3+L120*Sheet2!$F$3","v":0}]
[117,{"$nulls":11},{"$f":"G121*Sheet2!$A$3+H121*Sheet2!$B$3+I121*Sheet2!$C$3+J121*Sheet2!$D$3+K121*Sheet2!$E$3+L121*Sheet2!$F$3","v":0}]
[118,{"$nulls":11},{"$f":"G122*Sheet2!$A$3+H122*Sheet2!$B$3+I122*Sheet2!$C$3+J122*Sheet2!$D$3+K122*Sheet2!$E$3+L122*Sheet2!$F$3","v":0}]
[119,{"$nulls":11},{"$f":"G123*Sheet2!$A$3+H123*Sheet2!$B$3+I123*Sheet2!$C$3+J123*Sheet2!$D$3+K123*Sheet2!$E$3+L123*Sheet2!$F$3","v":0}]
[120,{"$nulls":11},{"$f":"G124*Sheet2!$A$3+H124*Sheet2!$B$3+I124*Sheet2!$C$3+J124*Sheet2!$D$3+K124*Sheet2!$E$3+L124*Sheet2!$F$3","v":0}]
[121,{"$nulls":11},{"$f":"G125*Sheet2!$A$3+H125*Sheet2!$B$3+I125*Sheet2!$C$3+J125*Sheet2!$D$3+K125*Sheet2!$E$3+L125*Sheet2!$F$3","v":0}]
[122,{"$nulls":11},{"$f":"G126*Sheet2!$A$3+H126*Sheet2!$B$3+I126*Sheet2!$C$3+J126*Sheet2!$D$3+K126*Sheet2!$E$3+L126*Sheet2!$F$3","v":0}]
[123,{"$nulls":11},{"$f":"G127*Sheet2!$A$3+H127*Sheet2!$B$3+I127*Sheet2!$C$3+J127*Sheet2!$D$3+K127*Sheet2!$E$3+L127*Sheet2!$F$3","v":0}]
[124,{"$nulls":11},{"$f":"G128*Sheet2!$A$3+H128*Sheet2!$B$3+I128*Sheet2!$C$3+J128*Sheet2!$D$3+K128*Sheet2!$E$3+L128*Sheet2!$F$3","v":0}]
[125,{"$nulls":11},{"$f":"G129*Sheet2!$A$3+H129*Sheet2!$B$3+I129*Sheet2!$C$3+J129*Sheet2!$D$3+K129*Sheet2!$E$3+L129*Sheet2!$F$3","v":0}]
[126,{"$nulls":11},{"$f":"G130*Sheet2!$A$3+H130*Sheet2!$B$3+I130*Sheet2!$C$3+J130*Sheet2!$D$3+K130*Sheet2!$E$3+L130*Sheet2!$F$3","v":0}]
[127,{"$nulls":11},{"$f":"G131*Sheet2!$A$3+H131*Sheet2!$B$3+I131*Sheet2!$C$3+J131*Sheet2!$D$3+K131*Sheet2!$E$3+L131*Sheet2!$F$3","v":0}]
[128,{"$nulls":11},{"$f":"G132*Sheet2!$A$3+H132*Sheet2!$B$3+I132*Sheet2!$C$3+J132*Sheet2!$D$3+K132*Sheet2!$E$3+L132*Sheet2!$F$3","v":0}]
[129,{"$nulls":11},{"$f":"G133*Sheet2!$A$3+H133*Sheet2!$B$3+I133*Sheet2!$C$3+J133*Sheet2!$D$3+K133*Sheet2!$E$3+L133*Sheet2!$F$3","v":0}]
[130,{"$nulls":11},{"$f":"G134*Sheet2!$A$3+H134*Sheet2!$B$3+I134*Sheet2!$C$3+J134*Sheet2!$D$3+K134*Sheet2!$E$3+L134*Sheet2!$F$3","v":0}]
[131,{"$nulls":11},{"$f":"G135*Sheet2!$A$3+H135*Sheet2!$B$3+I135*Sheet2!$C$3+J135*Sheet2!$D$3+K135*Sheet2!$E$3+L135*Sheet2!$F$3","v":0}]
[132,{"$nulls":11},{"$f":"G136*Sheet2!$A$3+H136*Sheet2!$B$3+I136*Sheet2!$C$3+J136*Sheet2!$D$3+K136*Sheet2!$E$3+L136*Sheet2!$F$3","v":0}]
[133,{"$nulls":11},{"$f":"G137*Sheet2!$A$3+H137*Sheet2!$B$3+I137*Sheet2!$C$3+J137*Sheet2!$D$3+K137*Sheet2!$E$3+L137*Sheet2!$F$3","v":0}]
[134,{"$nulls":11},{"$f":"G138*Sheet2!$A$3+H138*Sheet2!$B$3+I138*Sheet2!$C$3+J138*Sheet2!$D$3+K138*Sheet2!$E$3+L138*Sheet2!$F$3","v":0}]
[135,{"$nulls":11},{"$f":"G139*Sheet2!$A$3+H139*Sheet2!$B$3+I139*Sheet2!$C$3+J139*Sheet2!$D$3+K139*Sheet2!$E$3+L139*Sheet2!$F$3","v":0}]
[136,{"$nulls":11},{"$f":"G140*Sheet2!$A$3+H140*Sheet2!$B$3+I140*Sheet2!$C$3+J140*Sheet2!$D$3+K140*Sheet2!$E$3+L140*Sheet2!$F$3","v":0}]
[137,{"$nulls":11},{"$f":"G141*Sheet2!$A$3+H141*Sheet2!$B$3+I141*Sheet2!$C$3+J141*Sheet2!$D$3+K141*Sheet2!$E$3+L141*Sheet2!$F$3","v":0}]
[138,{"$nulls":11},{"$f":"G142*Sheet2!$A$3+H142*Sheet2!$B$3+I142*Sheet2!$C$3+J142*Sheet2!$D$3+K142*Sheet2!$E$3+L142*Sheet2!$F$3","v":0}]
[139,{"$nulls":11},{"$f":"G143*Sheet2!$A$3+H143*Sheet2!$B$3+I143*Sheet2!$C$3+J143*Sheet2!$D$3+K143*Sheet2!$E$3+L143*Sheet2!$F$3","v":0}]
[140,{"$nulls":11},{"$f":"G144*Sheet2!$A$3+H144*Sheet2!$B$3+I144*Sheet2!$C$3+J144*Sheet2!$D$3+K144*Sheet2!$E$3+L144*Sheet2!$F$3","v":0}]
[141,{"$nulls":11},{"$f":"G145*Sheet2!$A$3+H145*Sheet2!$B$3+I145*Sheet2!$C$3+J145*Sheet2!$D$3+K145*Sheet2!$E$3+L145*Sheet2!$F$3","v":0}]
[142,{"$nulls":11},{"$f":"G146*Sheet2!$A$3+H146*Sheet2!$B$3+I146*Sheet2!$C$3+J146*Sheet2!$D$3+K146*Sheet2!$E$3+L146*Sheet2!$F$3","v":0}]
[143,{"$nulls":11},{"$f":"G147*Sheet2!$A$3+H147*Sheet2!$B$3+I147*Sheet2!$C$3+J147*Sheet2!$D$3+K147*Sheet2!$E$3+L147*Sheet2!$F$3","v":0}]
[144,{"$nulls":11},{"$f":"G148*Sheet2!$A$3+H148*Sheet2!$B$3+I148*Sheet2!$C$3+J148*Sheet2!$D$3+K148*Sheet2!$E$3+L148*Sheet2!$F$3","v":0}]
[145,{"$nulls":11},{"$f":"G149*Sheet2!$A$3+H149*Sheet2!$B$3+I149*Sheet2!$C$3+J149*Sheet2!$D$3+K149*Sheet2!$E$3+L149*Sheet2!$F$3","v":0}]
[146,{"$nulls":11},{"$f":"G150*Sheet2!$A$3+H150*Sheet2!$B$3+I150*Sheet2!$C$3+J150*Sheet2!$D$3+K150*Sheet2!$E$3+L150*Sheet2!$F$3","v":0}]
[147,{"$nulls":11},{"$f":"G151*Sheet2!$A$3+H151*Sheet2!$B$3+I151*Sheet2!$C$3+J151*Sheet2!$D$3+K151*Sheet2!$E$3+L151*Sheet2!$F$3","v":0}]
[148,{"$nulls":11},{"$f":"G152*Sheet2!$A$3+H152*Sheet2!$B$3+I152*Sheet2!$C$3+J152*Sheet2!$D$3+K152*Sheet2!$E$3+L152*Sheet2!$F$3","v":0}]
[149,{"$nulls":11},{"$f":"G153*Sheet2!$A$3+H153*Sheet2!$B$3+I153*Sheet2!$C$3+J153*Sheet2!$D$3+K153*Sheet2!$E$3+L153*Sheet2!$F$3","v":0}]
[150,{"$nulls":11},{"$f":"G154*Sheet2!$A$3+H154*Sheet2!$B$3+I154*Sheet2!$C$3+J154*Sheet2!$D$3+K154*Sheet2!$E$3+L154*Sheet2!$F$3","v":0}]
[151,{"$nulls":11},{"$f":"G155*Sheet2!$A$3+H155*Sheet2!$B$3+I155*Sheet2!$C$3+J155*Sheet2!$D$3+K155*Sheet2!$E$3+L155*Sheet2!$F$3","v":0}]
[152,{"$nulls":11},{"$f":"G156*Sheet2!$A$3+H156*Sheet2!$B$3+I156*Sheet2!$C$3+J156*Sheet2!$D$3+K156*Sheet2!$E$3+L156*Sheet2!$F$3","v":0}]
[153,{"$nulls":11},{"$f":"G157*Sheet2!$A$3+H157*Sheet2!$B$3+I157*Sheet2!$C$3+J157*Sheet2!$D$3+K157*Sheet2!$E$3+L157*Sheet2!$F$3","v":0}]
[154,{"$nulls":11},{"$f":"G158*Sheet2!$A$3+H158*Sheet2!$B$3+I158*Sheet2!$C$3+J158*Sheet2!$D$3+K158*Sheet2!$E$3+L158*Sheet2!$F$3","v":0}]
[155,{"$nulls":11},{"$f":"G159*Sheet2!$A$3+H159*Sheet2!$B$3+I159*Sheet2!$C$3+J159*Sheet2!$D$3+K159*Sheet2!$E$3+L159*Sheet2!$F$3","v":0}]
[156,{"$nulls":11},{"$f":"G160*Sheet2!$A$3+H160*Sheet2!$B$3+I160*Sheet2!$C$3+J160*Sheet2!$D$3+K160*Sheet2!$E$3+L160*Sheet2!$F$3","v":0}]
[157,{"$nulls":11},{"$f":"G161*Sheet2!$A$3+H161*Sheet2!$B$3+I161*Sheet2!$C$3+J161*Sheet2!$D$3+K161*Sheet2!$E$3+L161*Sheet2!$F$3","v":0}]
[158,{"$nulls":11},{"$f":"G162*Sheet2!$A$3+H162*Sheet2!$B$3+I162*Sheet2!$C$3+J162*Sheet2!$D$3+K162*Sheet2!$E$3+L162*Sheet2!$F$3","v":0}]
[159,{"$nulls":11},{"$f":"G163*Sheet2!$A$3+H163*Sheet2!$B$3+I163*Sheet2!$C$3+J163*Sheet2!$D$3+K163*Sheet2!$E$3+L163*Sheet2!$F$3","v":0}]
[160,{"$nulls":11},{"$f":"G164*Sheet2!$A$3+H164*Sheet2!$B$3+I164*Sheet2!$C$3+J164*Sheet2!$D$3+K164*Sheet2!$E$3+L164*Sheet2!$F$3","v":0}]
[161,{"$nulls":11},{"$f":"G165*Sheet2!$A$3+H165*Sheet2!$B$3+I165*Sheet2!$C$3+J165*Sheet2!$D$3+K165*Sheet2!$E$3+L165*Sheet2!$F$3","v":0}]
[162,{"$nulls":11},{"$f":"G166*Sheet2!$A$3+H166*Sheet2!$B$3+I166*Sheet2!$C$3+J166*Sheet2!$D$3+K166*Sheet2!$E$3+L166*Sheet2!$F$3","v":0}]
[163,{"$nulls":11},{"$f":"G167*Sheet2!$A$3+H167*Sheet2!$B$3+I167*Sheet2!$C$3+J167*Sheet2!$D$3+K167*Sheet2!$E$3+L167*Sheet2!$F$3","v":0}]
[164,{"$nulls":11},{"$f":"G168*Sheet2!$A$3+H168*Sheet2!$B$3+I168*Sheet2!$C$3+J168*Sheet2!$D$3+K168*Sheet2!$E$3+L168*Sheet2!$F$3","v":0}]
[165,{"$nulls":11},{"$f":"G169*Sheet2!$A$3+H169*Sheet2!$B$3+I169*Sheet2!$C$3+J169*Sheet2!$D$3+K169*Sheet2!$E$3+L169*Sheet2!$F$3","v":0}]
[166,{"$nulls":11},{"$f":"G170*Sheet2!$A$3+H170*Sheet2!$B$3+I170*Sheet2!$C$3+J170*Sheet2!$D$3+K170*Sheet2!$E$3+L170*Sheet2!$F$3","v":0}]
[167,{"$nulls":11},{"$f":"G171*Sheet2!$A$3+H171*Sheet2!$B$3+I171*Sheet2!$C$3+J171*Sheet2!$D$3+K171*Sheet2!$E$3+L171*Sheet2!$F$3","v":0}]
[168,{"$nulls":11},{"$f":"G172*Sheet2!$A$3+H172*Sheet2!$B$3+I172*Sheet2!$C$3+J172*Sheet2!$D$3+K172*Sheet2!$E$3+L172*Sheet2!$F$3","v":0}]
[169,{"$nulls":11},{"$f":"G173*Sheet2!$A$3+H173*Sheet2!$B$3+I173*Sheet2!$C$3+J173*Sheet2!$D$3+K173*Sheet2!$E$3+L173*Sheet2!$F$3","v":0}]
[170,{"$nulls":11},{"$f":"G174*Sheet2!$A$3+H174*Sheet2!$B$3+I174*Sheet2!$C$3+J174*Sheet2!$D$3+K174*Sheet2!$E$3+L174*Sheet2!$F$3","v":0}]
[171,{"$nulls":11},{"$f":"G175*Sheet2!$A$3+H175*Sheet2!$B$3+I175*Sheet2!$C$3+J175*Sheet2!$D$3+K175*Sheet2!$E$3+L175*Sheet2!$F$3","v":0}]
[172,{"$nulls":11},{"$f":"G176*Sheet2!$A$3+H176*Sheet2!$B$3+I176*Sheet2!$C$3+J176*Sheet2!$D$3+K176*Sheet2!$E$3+L176*Sheet2!$F$3","v":0}]
[173,{"$nulls":11},{"$f":"G177*Sheet2!$A$3+H177*Sheet2!$B$3+I177*Sheet2!$C$3+J177*Sheet2!$D$3+K177*Sheet2!$E$3+L177*Sheet2!$F$3","v":0}]
[174,{"$nulls":11},{"$f":"G178*Sheet2!$A$3+H178*Sheet2!$B$3+I178*Sheet2!$C$3+J178*Sheet2!$D$3+K178*Sheet2!$E$3+L178*Sheet2!$F$3","v":0}]
[175,{"$nulls":11},{"$f":"G179*Sheet2!$A$3+H179*Sheet2!$B$3+I179*Sheet2!$C$3+J179*Sheet2!$D$3+K179*Sheet2!$E$3+L179*Sheet2!$F$3","v":0}]
[176,{"$nulls":11},{"$f":"G180*Sheet2!$A$3+H180*Sheet2!$B$3+I180*Sheet2!$C$3+J180*Sheet2!$D$3+K180*Sheet2!$E$3+L180*Sheet2!$F$3","v":0}]
[177,{"$nulls":11},{"$f":"G181*Sheet2!$A$3+H181*Sheet2!$B$3+I181*Sheet2!$C$3+J181*Sheet2!$D$3+K181*Sheet2!$E$3+L181*Sheet2!$F$3","v":0}]
[178,{"$nulls":11},{"$f":"G182*Sheet2!$A$3+H182*Sheet2!$B$3+I182*Sheet2!$C$3+J182*Sheet2!$D$3+K182*Sheet2!$E$3+L182*Sheet2!$F$3","v":0}]
[179,{"$nulls":11},{"$f":"G183*Sheet2!$A$3+H183*Sheet2!$B$3+I183*Sheet2!$C$3+J183*Sheet2!$D$3+K183*Sheet2!$E$3+L183*Sheet2!$F$3","v":0}]
[180,{"$nulls":11},{"$f":"G184*Sheet2!$A$3+H184*Sheet2!$B$3+I184*Sheet2!$C$3+J184*Sheet2!$D$3+K184*Sheet2!$E$3+L184*Sheet2!$F$3","v":0}]
[181,{"$nulls":11},{"$f":"G185*Sheet2!$A$3+H185*Sheet2!$B$3+I185*Sheet2!$C$3+J185*Sheet2!$D$3+K185*Sheet2!$E$3+L185*Sheet2!$F$3","v":0}]
[182,{"$nulls":11},{"$f":"G186*Sheet2!$A$3+H186*Sheet2!$B$3+I186*Sheet2!$C$3+J186*Sheet2!$D$3+K186*Sheet2!$E$3+L186*Sheet2!$F$3","v":0}]
[183,{"$nulls":11},{"$f":"G187*Sheet2!$A$3+H187*Sheet2!$B$3+I187*Sheet2!$C$3+J187*Sheet2!$D$3+K187*Sheet2!$E$3+L187*Sheet2!$F$3","v":0}]
[184,{"$nulls":11},{"$f":"G188*Sheet2!$A$3+H188*Sheet2!$B$3+I188*Sheet2!$C$3+J188*Sheet2!$D$3+K188*Sheet2!$E$3+L188*Sheet2!$F$3","v":0}]
[185,{"$nulls":11},{"$f":"G189*Sheet2!$A$3+H189*Sheet2!$B$3+I189*Sheet2!$C$3+J189*Sheet2!$D$3+K189*Sheet2!$E$3+L189*Sheet2!$F$3","v":0}]
[186,{"$nulls":11},{"$f":"G190*Sheet2!$A$3+H190*Sheet2!$B$3+I190*Sheet2!$C$3+J190*Sheet2!$D$3+K190*Sheet2!$E$3+L190*Sheet2!$F$3","v":0}]
[187,{"$nulls":11},{"$f":"G191*Sheet2!$A$3+H191*Sheet2!$B$3+I191*Sheet2!$C$3+J191*Sheet2!$D$3+K191*Sheet2!$E$3+L191*Sheet2!$F$3","v":0}]
[188,{"$nulls":11},{"$f":"G192*Sheet2!$A$3+H192*Sheet2!$B$3+I192*Sheet2!$C$3+J192*Sheet2!$D$3+K192*Sheet2!$E$3+L192*Sheet2!$F$3","v":0}]
[189,{"$nulls":11},{"$f":"G193*Sheet2!$A$3+H193*Sheet2!$B$3+I193*Sheet2!$C$3+J193*Sheet2!$D$3+K193*Sheet2!$E$3+L193*Sheet2!$F$3","v":0}]
[190,{"$nulls":11},{"$f":"G194*Sheet2!$A$3+H194*Sheet2!$B$3+I194*Sheet2!$C$3+J194*Sheet2!$D$3+K194*Sheet2!$E$3+L194*Sheet2!$F$3","v":0}]
[191,{"$nulls":11},{"$f":"G195*Sheet2!$A$3+H195*Sheet2!$B$3+I195*Sheet2!$C$3+J195*Sheet2!$D$3+K195*Sheet2!$E$3+L195*Sheet2!$F$3","v":0}]
[192,{"$nulls":11},{"$f":"G196*Sheet2!$A$3+H196*Sheet2!$B$3+I196*Sheet2!$C$3+J196*Sheet2!$D$3+K196*Sheet2!$E$3+L196*Sheet2!$F$3","v":0}]
[193,{"$nulls":11},{"$f":"G197*Sheet2!$A$3+H197*Sheet2!$B$3+I197*Sheet2!$C$3+J197*Sheet2!$D$3+K197*Sheet2!$E$3+L197*Sheet2!$F$3","v":0}]
[194,{"$nulls":11},{"$f":"G198*Sheet2!$A$3+H198*Sheet2!$B$3+I198*Sheet2!$C$3+J198*Sheet2!$D$3+K198*Sheet2!$E$3+L198*Sheet2!$F$3","v":0}]
[195,{"$nulls":11},{"$f":"G199*Sheet2!$A$3+H199*Sheet2!$B$3+I199*Sheet2!$C$3+J199*Sheet2!$D$3+K199*Sheet2!$E$3+L199*Sheet2!$F$3","v":0}]
[196,{"$nulls":11},{"$f":"G200*Sheet2!$A$3+H200*Sheet2!$B$3+I200*Sheet2!$C$3+J200*Sheet2!$D$3+K200*Sheet2!$E$3+L200*Sheet2!$F$3","v":0}]
[197,{"$nulls":11},{"$f":"G201*Sheet2!$A$3+H201*Sheet2!$B$3+I201*Sheet2!$C$3+J201*Sheet2!$D$3+K201*Sheet2!$E$3+L201*Sheet2!$F$3","v":0}]
[198,{"$nulls":11},{"$f":"G202*Sheet2!$A$3+H202*Sheet2!$B$3+I202*Sheet2!$C$3+J202*Sheet2!$D$3+K202*Sheet2!$E$3+L202*Sheet2!$F$3","v":0}]
[199,{"$nulls":11},{"$f":"G203*Sheet2!$A$3+H203*Sheet2!$B$3+I203*Sheet2!$C$3+J203*Sheet2!$D$3+K203*Sheet2!$E$3+L203*Sheet2!$F$3","v":0}]
[200,{"$nulls":11},{"$f":"G204*Sheet2!$A$3+H204*Sheet2!$B$3+I204*Sheet2!$C$3+J204*Sheet2!$D$3+K204*Sheet2!$E$3+L204*Sheet2!$F$3","v":0}]
[201,{"$nulls":11},{"$f":"G205*Sheet2!$A$3+H205*Sheet2!$B$3+I205*Sheet2!$C$3+J205*Sheet2!$D$3+K205*Sheet2!$E$3+L205*Sheet2!$F$3","v":0}]
[202,{"$nulls":11},{"$f":"G206*Sheet2!$A$3+H206*Sheet2!$B$3+I206*Sheet2!$C$3+J206*Sheet2!$D$3+K206*Sheet2!$E$3+L206*Sheet2!$F$3","v":0}]
[203,{"$nulls":11},{"$f":"G207*Sheet2!$A$3+H207*Sheet2!$B$3+I207*Sheet2!$C$3+J207*Sheet2!$D$3+K207*Sheet2!$E$3+L207*Sheet2!$F$3","v":0}]
[204,{"$nulls":11},{"$f":"G208*Sheet2!$A$3+H208*Sheet2!$B$3+I208*Sheet2!$C$3+J208*Sheet2!$D$3+K208*Sheet2!$E$3+L208*Sheet2!$F$3","v":0}]
[205,{"$nulls":11},{"$f":"G209*Sheet2!$A$3+H209*Sheet2!$B$3+I209*Sheet2!$C$3+J209*Sheet2!$D$3+K209*Sheet2!$E$3+L209*Sheet2!$F$3","v":0}]
[206,{"$nulls":11},{"$f":"G210*Sheet2!$A$3+H210*Sheet2!$B$3+I210*Sheet2!$C$3+J210*Sheet2!$D$3+K210*Sheet2!$E$3+L210*Sheet2!$F$3","v":0}]
[207,{"$nulls":11},{"$f":"G211*Sheet2!$A$3+H211*Sheet2!$B$3+I211*Sheet2!$C$3+J211*Sheet2!$D$3+K211*Sheet2!$E$3+L211*Sheet2!$F$3","v":0}]
[208,{"$nulls":11},{"$f":"G212*Sheet2!$A$3+H212*Sheet2!$B$3+I212*Sheet2!$C$3+J212*Sheet2!$D$3+K212*Sheet2!$E$3+L212*Sheet2!$F$3","v":0}]
[209,{"$nulls":11},{"$f":"G213*Sheet2!$A$3+H213*Sheet2!$B$3+I213*Sheet2!$C$3+J213*Sheet2!$D$3+K213*Sheet2!$E$3+L213*Sheet2!$F$3","v":0}]
[210,{"$nulls":11},{"$f":"G214*Sheet2!$A$3+H214*Sheet2!$B$3+I214*Sheet2!$C$3+J214*Sheet2!$D$3+K214*Sheet2!$E$3+L214*Sheet2!$F$3","v":0}]
[211,{"$nulls":11},{"$f":"G215*Sheet2!$A$3+H215*Sheet2!$B$3+I215*Sheet2!$C$3+J215*Sheet2!$D$3+K215*Sheet2!$E$3+L215*Sheet2!$F$3","v":0}]
[212,{"$nulls":11},{"$f":"G216*Sheet2!$A$3+H216*Sheet2!$B$3+I216*Sheet2!$C$3+J216*Sheet2!$D$3+K216*Sheet2!$E$3+L216*Sheet2!$F$3","v":0}]
[213,{"$nulls":11},{"$f":"G217*Sheet2!$A$3+H217*Sheet2!$B$3+I217*Sheet2!$C$3+J217*Sheet2!$D$3+K217*Sheet2!$E$3+L217*Sheet2!$F$3","v":0}]
[214,{"$nulls":11},{"$f":"G218*Sheet2!$A$3+H218*Sheet2!$B$3+I218*Sheet2!$C$3+J218*Sheet2!$D$3+K218*Sheet2!$E$3+L218*Sheet2!$F$3","v":0}]
[215,{"$nulls":11},{"$f":"G219*Sheet2!$A$3+H219*Sheet2!$B$3+I219*Sheet2!$C$3+J219*Sheet2!$D$3+K219*Sheet2!$E$3+L219*Sheet2!$F$3","v":0}]
[216,{"$nulls":11},{"$f":"G220*Sheet2!$A$3+H220*Sheet2!$B$3+I220*Sheet2!$C$3+J220*Sheet2!$D$3+K220*Sheet2!$E$3+L220*Sheet2!$F$3","v":0}]
[217,{"$nulls":11},{"$f":"G221*Sheet2!$A$3+H221*Sheet2!$B$3+I221*Sheet2!$C$3+J221*Sheet2!$D$3+K221*Sheet2!$E$3+L221*Sheet2!$F$3","v":0}]
[218,{"$nulls":11},{"$f":"G222*Sheet2!$A$3+H222*Sheet2!$B$3+I222*Sheet2!$C$3+J222*Sheet2!$D$3+K222*Sheet2!$E$3+L222*Sheet2!$F$3","v":0}]
[219,{"$nulls":11},{"$f":"G223*Sheet2!$A$3+H223*Sheet2!$B$3+I223*Sheet2!$C$3+J223*Sheet2!$D$3+K223*Sheet2!$E$3+L223*Sheet2!$F$3","v":0}]
[220,{"$nulls":11},{"$f":"G224*Sheet2!$A$3+H224*Sheet2!$B$3+I224*Sheet2!$C$3+J224*Sheet2!$D$3+K224*Sheet2!$E$3+L224*Sheet2!$F$3","v":0}]
[221,{"$nulls":11},{"$f":"G225*Sheet2!$A$3+H225*Sheet2!$B$3+I225*Sheet2!$C$3+J225*Sheet2!$D$3+K225*Sheet2!$E$3+L225*Sheet2!$F$3","v":0}]
[222,{"$nulls":11},{"$f":"G226*Sheet2!$A$3+H226*Sheet2!$B$3+I226*Sheet2!$C$3+J226*Sheet2!$D$3+K226*Sheet2!$E$3+L226*Sheet2!$F$3","v":0}]
[223,{"$nulls":11},{"$f":"G227*Sheet2!$A$3+H227*Sheet2!$B$3+I227*Sheet2!$C$3+J227*Sheet2!$D$3+K227*Sheet2!$E$3+L227*Sheet2!$F$3","v":0}]
[224,{"$nulls":11},{"$f":"G228*Sheet2!$A$3+H228*Sheet2!$B$3+I228*Sheet2!$C$3+J228*Sheet2!$D$3+K228*Sheet2!$E$3+L228*Sheet2!$F$3","v":0}]
[225,{"$nulls":11},{"$f":"G229*Sheet2!$A$3+H229*Sheet2!$B$3+I229*Sheet2!$C$3+J229*Sheet2!$D$3+K229*Sheet2!$E$3+L229*Sheet2!$F$3","v":0}]
[226,{"$nulls":11},{"$f":"G230*Sheet2!$A$3+H230*Sheet2!$B$3+I230*Sheet2!$C$3+J230*Sheet2!$D$3+K230*Sheet2!$E$3+L230*Sheet2!$F$3","v":0}]
[227,{"$nulls":11},{"$f":"G231*Sheet2!$A$3+H231*Sheet2!$B$3+I231*Sheet2!$C$3+J231*Sheet2!$D$3+K231*Sheet2!$E$3+L231*Sheet2!$F$3","v":0}]
[228,{"$nulls":11},{"$f":"G232*Sheet2!$A$3+H232*Sheet2!$B$3+I232*Sheet2!$C$3+J232*Sheet2!$D$3+K232*Sheet2!$E$3+L232*Sheet2!$F$3","v":0}]
[229,{"$nulls":11},{"$f":"G233*Sheet2!$A$3+H233*Sheet2!$B$3+I233*Sheet2!$C$3+J233*Sheet2!$D$3+K233*Sheet2!$E$3+L233*Sheet2!$F$3","v":0}]
[230,{"$nulls":11},{"$f":"G234*Sheet2!$A$3+H234*Sheet2!$B$3+I234*Sheet2!$C$3+J234*Sheet2!$D$3+K234*Sheet2!$E$3+L234*Sheet2!$F$3","v":0}]
[231,{"$nulls":11},{"$f":"G235*Sheet2!$A$3+H235*Sheet2!$B$3+I235*Sheet2!$C$3+J235*Sheet2!$D$3+K235*Sheet2!$E$3+L235*Sheet2!$F$3","v":0}]
[232,{"$nulls":11},{"$f":"G236*Sheet2!$A$3+H236*Sheet2!$B$3+I236*Sheet2!$C$3+J236*Sheet2!$D$3+K236*Sheet2!$E$3+L236*Sheet2!$F$3","v":0}]
[233,{"$nulls":11},{"$f":"G237*Sheet2!$A$3+H237*Sheet2!$B$3+I237*Sheet2!$C$3+J237*Sheet2!$D$3+K237*Sheet2!$E$3+L237*Sheet2!$F$3","v":0}]
[234,{"$nulls":11},{"$f":"G238*Sheet2!$A$3+H238*Sheet2!$B$3+I238*Sheet2!$C$3+J238*Sheet2!$D$3+K238*Sheet2!$E$3+L238*Sheet2!$F$3","v":0}]
[235,{"$nulls":11},{"$f":"G239*Sheet2!$A$3+H239*Sheet2!$B$3+I239*Sheet2!$C$3+J239*Sheet2!$D$3+K239*Sheet2!$E$3+L239*Sheet2!$F$3","v":0}]
[236,{"$nulls":11},{"$f":"G240*Sheet2!$A$3+H240*Sheet2!$B$3+I240*Sheet2!$C$3+J240*Sheet2!$D$3+K240*Sheet2!$E$3+L240*Sheet2!$F$3","v":0}]
[237,{"$nulls":11},{"$f":"G241*Sheet2!$A$3+H241*Sheet2!$B$3+I241*Sheet2!$C$3+J241*Sheet2!$D$3+K241*Sheet2!$E$3+L241*Sheet2!$F$3","v":0}]
[238,{"$nulls":11},{"$f":"G242*Sheet2!$A$3+H242*Sheet2!$B$3+I242*Sheet2!$C$3+J242*Sheet2!$D$3+K242*Sheet2!$E$3+L242*Sheet2!$F$3","v":0}]
[239,{"$nulls":11},{"$f":"G243*Sheet2!$A$3+H243*Sheet2!$B$3+I243*Sheet2!$C$3+J243*Sheet2!$D$3+K243*Sheet2!$E$3+L243*Sheet2!$F$3","v":0}]
[240,{"$nulls":11},{"$f":"G244*Sheet2!$A$3+H244*Sheet2!$B$3+I244*Sheet2!$C$3+J244*Sheet2!$D$3+K244*Sheet2!$E$3+L244*Sheet2!$F$3","v":0}]
[241,{"$nulls":11},{"$f":"G245*Sheet2!$A$3+H245*Sheet2!$B$3+I245*Sheet2!$C$3+J245*Sheet2!$D$3+K245*Sheet2!$E$3+L245*Sheet2!$F$3","v":0}]
[242,{"$nulls":11},{"$f":"G246*Sheet2!$A$3+H246*Sheet2!$B$3+I246*Sheet2!$C$3+J246*Sheet2!$D$3+K246*Sheet2!$E$3+L246*Sheet2!$F$3","v":0}]
[243,{"$nulls":11},{"$f":"G247*Sheet2!$A$3+H247*Sheet2!$B$3+I247*Sheet2!$C$3+J247*Sheet2!$D$3+K247*Sheet2!$E$3+L247*Sheet2!$F$3","v":0}]
[244,{"$nulls":11},{"$f":"G248*Sheet2!$A$3+H248*Sheet2!$B$3+I248*Sheet2!$C$3+J248*Sheet2!$D$3+K248*Sheet2!$E$3+L248*Sheet2!$F$3","v":0}]
[245,{"$nulls":11},{"$f":"G249*Sheet2!$A$3+H249*Sheet2!$B$3+I249*Sheet2!$C$3+J249*Sheet2!$D$3+K249*Sheet2!$E$3+L249*Sheet2!$F$3","v":0}]
[246,{"$nulls":11},{"$f":"G250*Sheet2!$A$3+H250*Sheet2!$B$3+I250*Sheet2!$C$3+J250*Sheet2!$D$3+K250*Sheet2!$E$3+L250*Sheet2!$F$3","v":0}]
[247,{"$nulls":11},{"$f":"G251*Sheet2!$A$3+H251*Sheet2!$B$3+I251*Sheet2!$C$3+J251*Sheet2!$D$3+K251*Sheet2!$E$3+L251*Sheet2!$F$3","v":0}]
[248,{"$nulls":11},{"$f":"G252*Sheet2!$A$3+H252*Sheet2!$B$3+I252*Sheet2!$C$3+J252*Sheet2!$D$3+K252*Sheet2!$E$3+L252*Sheet2!$F$3","v":0}]
[249,{"$nulls":11},{"$f":"G253*Sheet2!$A$3+H253*Sheet2!$B$3+I253*Sheet2!$C$3+J253*Sheet2!$D$3+K253*Sheet2!$E$3+L253*Sheet2!$F$3","v":0}]
[250,{"$nulls":11},{"$f":"G254*Sheet2!$A$3+H254*Sheet2!$B$3+I254*Sheet2!$C$3+J254*Sheet2!$D$3+K254*Sheet2!$E$3+L254*Sheet2!$F$3","v":0}]
[251,{"$nulls":11},{"$f":"G255*Sheet2!$A$3+H255*Sheet2!$B$3+I255*Sheet2!$C$3+J255*Sheet2!$D$3+K255*Sheet2!$E$3+L255*Sheet2!$F$3","v":0}]
[252,{"$nulls":11},{"$f":"G256*Sheet2!$A$3+H256*Sheet2!$B$3+I256*Sheet2!$C$3+J256*Sheet2!$D$3+K256*Sheet2!$E$3+L256*Sheet2!$F$3","v":0}]
[253,{"$nulls":11},{"$f":"G257*Sheet2!$A$3+H257*Sheet2!$B$3+I257*Sheet2!$C$3+J257*Sheet2!$D$3+K257*Sheet2!$E$3+L257*Sheet2!$F$3","v":0}]
[254,{"$nulls":11},{"$f":"G258*Sheet2!$A$3+H258*Sheet2!$B$3+I258*Sheet2!$C$3+J258*Sheet2!$D$3+K258*Sheet2!$E$3+L258*Sheet2!$F$3","v":0}]
[255,{"$nulls":11},{"$f":"G259*Sheet2!$A$3+H259*Sheet2!$B$3+I259*Sheet2!$C$3+J259*Sheet2!$D$3+K259*Sheet2!$E$3+L259*Sheet2!$F$3","v":0}]
[256,{"$nulls":11},{"$f":"G260*Sheet2!$A$3+H260*Sheet2!$B$3+I260*Sheet2!$C$3+J260*Sheet2!$D$3+K260*Sheet2!$E$3+L260*Sheet2!$F$3","v":0}]
[257,{"$nulls":11},{"$f":"G261*Sheet2!$A$3+H261*Sheet2!$B$3+I261*Sheet2!$C$3+J261*Sheet2!$D$3+K261*Sheet2!$E$3+L261*Sheet2!$F$3","v":0}]
[258,{"$nulls":11},{"$f":"G262*Sheet2!$A$3+H262*Sheet2!$B$3+I262*Sheet2!$C$3+J262*Sheet2!$D$3+K262*Sheet2!$E$3+L262*Sheet2!$F$3","v":0}]
[259,{"$nulls":11},{"$f":"G263*Sheet2!$A$3+H263*Sheet2!$B$3+I263*Sheet2!$C$3+J263*Sheet2!$D$3+K263*Sheet2!$E$3+L263*Sheet2!$F$3","v":0}]
[260,{"$nulls":11},{"$f":"G264*Sheet2!$A$3+H264*Sheet2!$B$3+I264*Sheet2!$C$3+J264*Sheet2!$D$3+K264*Sheet2!$E$3+L264*Sheet2!$F$3","v":0}]
[261,{"$nulls":11},{"$f":"G265*Sheet2!$A$3+H265*Sheet2!$B$3+I265*Sheet2!$C$3+J265*Sheet2!$D$3+K265*Sheet2!$E$3+L265*Sheet2!$F$3","v":0}]
[262,{"$nulls":11},{"$f":"G266*Sheet2!$A$3+H266*Sheet2!$B$3+I266*Sheet2!$C$3+J266*Sheet2!$D$3+K266*Sheet2!$E$3+L266*Sheet2!$F$3","v":0}]
[263,{"$nulls":11},{"$f":"G267*Sheet2!$A$3+H267*Sheet2!$B$3+I267*Sheet2!$C$3+J267*Sheet2!$D$3+K267*Sheet2!$E$3+L267*Sheet2!$F$3","v":0}]
[264,{"$nulls":11},{"$f":"G268*Sheet2!$A$3+H268*Sheet2!$B$3+I268*Sheet2!$C$3+J268*Sheet2!$D$3+K268*Sheet2!$E$3+L268*Sheet2!$F$3","v":0}]
[265,{"$nulls":11},{"$f":"G269*Sheet2!$A$3+H269*Sheet2!$B$3+I269*Sheet2!$C$3+J269*Sheet2!$D$3+K269*Sheet2!$E$3+L269*Sheet2!$F$3","v":0}]
[266,{"$nulls":11},{"$f":"G270*Sheet2!$A$3+H270*Sheet2!$B$3+I270*Sheet2!$C$3+J270*Sheet2!$D$3+K270*Sheet2!$E$3+L270*Sheet2!$F$3","v":0}]
[267,{"$nulls":11},{"$f":"G271*Sheet2!$A$3+H271*Sheet2!$B$3+I271*Sheet2!$C$3+J271*Sheet2!$D$3+K271*Sheet2!$E$3+L271*Sheet2!$F$3","v":0}]
[268,{"$nulls":11},{"$f":"G272*Sheet2!$A$3+H272*Sheet2!$B$3+I272*Sheet2!$C$3+J272*Sheet2!$D$3+K272*Sheet2!$E$3+L272*Sheet2!$F$3","v":0}]
[269,{"$nulls":11},{"$f":"G273*Sheet2!$A$3+H273*Sheet2!$B$3+I273*Sheet2!$C$3+J273*Sheet2!$D$3+K273*Sheet2!$E$3+L273*Sheet2!$F$3","v":0}]
[270,{"$nulls":11},{"$f":"G274*Sheet2!$A$3+H274*Sheet2!$B$3+I274*Sheet2!$C$3+J274*Sheet2!$D$3+K274*Sheet2!$E$3+L274*Sheet2!$F$3","v":0}]
[271,{"$nulls":11},{"$f":"G275*Sheet2!$A$3+H275*Sheet2!$B$3+I275*Sheet2!$C$3+J275*Sheet2!$D$3+K275*Sheet2!$E$3+L275*Sheet2!$F$3","v":0}]
[272,{"$nulls":11},{"$f":"G276*Sheet2!$A$3+H276*Sheet2!$B$3+I276*Sheet2!$C$3+J276*Sheet2!$D$3+K276*Sheet2!$E$3+L276*Sheet2!$F$3","v":0}]
[273,{"$nulls":11},{"$f":"G277*Sheet2!$A$3+H277*Sheet2!$B$3+I277*Sheet2!$C$3+J277*Sheet2!$D$3+K277*Sheet2!$E$3+L277*Sheet2!$F$3","v":0}]
[274,{"$nulls":11},{"$f":"G278*Sheet2!$A$3+H278*Sheet2!$B$3+I278*Sheet2!$C$3+J278*Sheet2!$D$3+K278*Sheet2!$E$3+L278*Sheet2!$F$3","v":0}]
[275,{"$nulls":11},{"$f":"G279*Sheet2!$A$3+H279*Sheet2!$B$3+I279*Sheet2!$C$3+J279*Sheet2!$D$3+K279*Sheet2!$E$3+L279*Sheet2!$F$3","v":0}]
[276,{"$nulls":11},{"$f":"G280*Sheet2!$A$3+H280*Sheet2!$B$3+I280*Sheet2!$C$3+J280*Sheet2!$D$3+K280*Sheet2!$E$3+L280*Sheet2!$F$3","v":0}]
[277,{"$nulls":11},{"$f":"G281*Sheet2!$A$3+H281*Sheet2!$B$3+I281*Sheet2!$C$3+J281*Sheet2!$D$3+K281*Sheet2!$E$3+L281*Sheet2!$F$3","v":0}]
[278,{"$nulls":11},{"$f":"G282*Sheet2!$A$3+H282*Sheet2!$B$3+I282*Sheet2!$C$3+J282*Sheet2!$D$3+K282*Sheet2!$E$3+L282*Sheet2!$F$3","v":0}]
[279,{"$nulls":11},{"$f":"G283*Sheet2!$A$3+H283*Sheet2!$B$3+I283*Sheet2!$C$3+J283*Sheet2!$D$3+K283*Sheet2!$E$3+L283*Sheet2!$F$3","v":0}]
[280,{"$nulls":11},{"$f":"G284*Sheet2!$A$3+H284*Sheet2!$B$3+I284*Sheet2!$C$3+J284*Sheet2!$D$3+K284*Sheet2!$E$3+L284*Sheet2!$F$3","v":0}]
[281,{"$nulls":11},{"$f":"G285*Sheet2!$A$3+H285*Sheet2!$B$3+I285*Sheet2!$C$3+J285*Sheet2!$D$3+K285*Sheet2!$E$3+L285*Sheet2!$F$3","v":0}]
[282,{"$nulls":11},{"$f":"G286*Sheet2!$A$3+H286*Sheet2!$B$3+I286*Sheet2!$C$3+J286*Sheet2!$D$3+K286*Sheet2!$E$3+L286*Sheet2!$F$3","v":0}]
[283,{"$nulls":11},{"$f":"G287*Sheet2!$A$3+H287*Sheet2!$B$3+I287*Sheet2!$C$3+J287*Sheet2!$D$3+K287*Sheet2!$E$3+L287*Sheet2!$F$3","v":0}]
[284,{"$nulls":11},{"$f":"G288*Sheet2!$A$3+H288*Sheet2!$B$3+I288*Sheet2!$C$3+J288*Sheet2!$D$3+K288*Sheet2!$E$3+L288*Sheet2!$F$3","v":0}]
[285,{"$nulls":11},{"$f":"G289*Sheet2!$A$3+H289*Sheet2!$B$3+I289*Sheet2!$C$3+J289*Sheet2!$D$3+K289*Sheet2!$E$3+L289*Sheet2!$F$3","v":0}]
[286,{"$nulls":11},{"$f":"G290*Sheet2!$A$3+H290*Sheet2!$B$3+I290*Sheet2!$C$3+J290*Sheet2!$D$3+K290*Sheet2!$E$3+L290*Sheet2!$F$3","v":0}]
[287,{"$nulls":11},{"$f":"G291*Sheet2!$A$3+H291*Sheet2!$B$3+I291*Sheet2!$C$3+J291*Sheet2!$D$3+K291*Sheet2!$E$3+L291*Sheet2!$F$3","v":0}]
[288,{"$nulls":11},{"$f":"G292*Sheet2!$A$3+H292*Sheet2!$B$3+I292*Sheet2!$C$3+J292*Sheet2!$D$3+K292*Sheet2!$E$3+L292*Sheet2!$F$3","v":0}]
[289,{"$nulls":11},{"$f":"G293*Sheet2!$A$3+H293*Sheet2!$B$3+I293*Sheet2!$C$3+J293*Sheet2!$D$3+K293*Sheet2!$E$3+L293*Sheet2!$F$3","v":0}]
[290,{"$nulls":11},{"$f":"G294*Sheet2!$A$3+H294*Sheet2!$B$3+I294*Sheet2!$C$3+J294*Sheet2!$D$3+K294*Sheet2!$E$3+L294*Sheet2!$F$3","v":0}]
[291,{"$nulls":11},{"$f":"G295*Sheet2!$A$3+H295*Sheet2!$B$3+I295*Sheet2!$C$3+J295*Sheet2!$D$3+K295*Sheet2!$E$3+L295*Sheet2!$F$3","v":0}]
[292,{"$nulls":11},{"$f":"G296*Sheet2!$A$3+H296*Sheet2!$B$3+I296*Sheet2!$C$3+J296*Sheet2!$D$3+K296*Sheet2!$E$3+L296*Sheet2!$F$3","v":0}]
[293,{"$nulls":11},{"$f":"G297*Sheet2!$A$3+H297*Sheet2!$B$3+I297*Sheet2!$C$3+J297*Sheet2!$D$3+K297*Sheet2!$E$3+L297*Sheet2!$F$3","v":0}]
[294,{"$nulls":11},{"$f":"G298*Sheet2!$A$3+H298*Sheet2!$B$3+I298*Sheet2!$C$3+J298*Sheet2!$D$3+K298*Sheet2!$E$3+L298*Sheet2!$F$3","v":0}]
[295,{"$nulls":11},{"$f":"G299*Sheet2!$A$3+H299*Sheet2!$B$3+I299*Sheet2!$C$3+J299*Sheet2!$D$3+K299*Sheet2!$E$3+L299*Sheet2!$F$3","v":0}]
[296,{"$nulls":11},{"$f":"G300*Sheet2!$A$3+H300*Sheet2!$B$3+I300*Sheet2!$C$3+J300*Sheet2!$D$3+K300*Sheet2!$E$3+L300*Sheet2!$F$3","v":0}]
[297,{"$nulls":11},{"$f":"G301*Sheet2!$A$3+H301*Sheet2!$B$3+I301*Sheet2!$C$3+J301*Sheet2!$D$3+K301*Sheet2!$E$3+L301*Sheet2!$F$3","v":0}]
[298,{"$nulls":11},{"$f":"G302*Sheet2!$A$3+H302*Sheet2!$B$3+I302*Sheet2!$C$3+J302*Sheet2!$D$3+K302*Sheet2!$E$3+L302*Sheet2!$F$3","v":0}]
[299,{"$nulls":11},{"$f":"G303*Sheet2!$A$3+H303*Sheet2!$B$3+I303*Sheet2!$C$3+J303*Sheet2!$D$3+K303*Sheet2!$E$3+L303*Sheet2!$F$3","v":0}]
[300,{"$nulls":11},{"$f":"G304*Sheet2!$A$3+H304*Sheet2!$B$3+I304*Sheet2!$C$3+J304*Sheet2!$D$3+K304*Sheet2!$E$3+L304*Sheet2!$F$3","v":0}]
[301,{"$nulls":11},{"$f":"G305*Sheet2!$A$3+H305*Sheet2!$B$3+I305*Sheet2!$C$3+J305*Sheet2!$D$3+K305*Sheet2!$E$3+L305*Sheet2!$F$3","v":0}]
[302,{"$nulls":11},{"$f":"G306*Sheet2!$A$3+H306*Sheet2!$B$3+I306*Sheet2!$C$3+J306*Sheet2!$D$3+K306*Sheet2!$E$3+L306*Sheet2!$F$3","v":0}]
[303,{"$nulls":11},{"$f":"G307*Sheet2!$A$3+H307*Sheet2!$B$3+I307*Sheet2!$C$3+J307*Sheet2!$D$3+K307*Sheet2!$E$3+L307*Sheet2!$F$3","v":0}]
[304,{"$nulls":11},{"$f":"G308*Sheet2!$A$3+H308*Sheet2!$B$3+I308*Sheet2!$C$3+J308*Sheet2!$D$3+K308*Sheet2!$E$3+L308*Sheet2!$F$3","v":0}]
[305,{"$nulls":11},{"$f":"G309*Sheet2!$A$3+H309*Sheet2!$B$3+I309*Sheet2!$C$3+J309*Sheet2!$D$3+K309*Sheet2!$E$3+L309*Sheet2!$F$3","v":0}]
[306,{"$nulls":11},{"$f":"G310*Sheet2!$A$3+H310*Sheet2!$B$3+I310*Sheet2!$C$3+J310*Sheet2!$D$3+K310*Sheet2!$E$3+L310*Sheet2!$F$3","v":0}]
[307,{"$nulls":11},{"$f":"G311*Sheet2!$A$3+H311*Sheet2!$B$3+I311*Sheet2!$C$3+J311*Sheet2!$D$3+K311*Sheet2!$E$3+L311*Sheet2!$F$3","v":0}]
[308,{"$nulls":11},{"$f":"G312*Sheet2!$A$3+H312*Sheet2!$B$3+I312*Sheet2!$C$3+J312*Sheet2!$D$3+K312*Sheet2!$E$3+L312*Sheet2!$F$3","v":0}]
[309,{"$nulls":11},{"$f":"G313*Sheet2!$A$3+H313*Sheet2!$B$3+I313*Sheet2!$C$3+J313*Sheet2!$D$3+K313*Sheet2!$E$3+L313*Sheet2!$F$3","v":0}]
[310,{"$nulls":11},{"$f":"G314*Sheet2!$A$3+H314*Sheet2!$B$3+I314*Sheet2!$C$3+J314*Sheet2!$D$3+K314*Sheet2!$E$3+L314*Sheet2!$F$3","v":0}]
[311,{"$nulls":11},{"$f":"G315*Sheet2!$A$3+H315*Sheet2!$B$3+I315*Sheet2!$C$3+J315*Sheet2!$D$3+K315*Sheet2!$E$3+L315*Sheet2!$F$3","v":0}]
[312,{"$nulls":11},{"$f":"G316*Sheet2!$A$3+H316*Sheet2!$B$3+I316*Sheet2!$C$3+J316*Sheet2!$D$3+K316*Sheet2!$E$3+L316*Sheet2!$F$3","v":0}]
[313,{"$nulls":11},{"$f":"G317*Sheet2!$A$3+H317*Sheet2!$B$3+I317*Sheet2!$C$3+J317*Sheet2!$D$3+K317*Sheet2!$E$3+L317*Sheet2!$F$3","v":0}]
[314,{"$nulls":11},{"$f":"G318*Sheet2!$A$3+H318*Sheet2!$B$3+I318*Sheet2!$C$3+J318*Sheet2!$D$3+K318*Sheet2!$E$3+L318*Sheet2!$F$3","v":0}]
[315,{"$nulls":11},{"$f":"G319*Sheet2!$A$3+H319*Sheet2!$B$3+I319*Sheet2!$C$3+J319*Sheet2!$D$3+K319*Sheet2!$E$3+L319*Sheet2!$F$3","v":0}]
[316,{"$nulls":11},{"$f":"G320*Sheet2!$A$3+H320*Sheet2!$B$3+I320*Sheet2!$C$3+J320*Sheet2!$D$3+K320*Sheet2!$E$3+L320*Sheet2!$F$3","v":0}]
[317,{"$nulls":11},{"$f":"G321*Sheet2!$A$3+H321*Sheet2!$B$3+I321*Sheet2!$C$3+J321*Sheet2!$D$3+K321*Sheet2!$E$3+L321*Sheet2!$F$3","v":0}]
[318,{"$nulls":11},{"$f":"G322*Sheet2!$A$3+H322*Sheet2!$B$3+I322*Sheet2!$C$3+J322*Sheet2!$D$3+K322*Sheet2!$E$3+L322*Sheet2!$F$3","v":0}]
[319,{"$nulls":11},{"$f":"G323*Sheet2!$A$3+H323*Sheet2!$B$3+I323*Sheet2!$C$3+J323*Sheet2!$D$3+K323*Sheet2!$E$3+L323*Sheet2!$F$3","v":0}]
[320,{"$nulls":11},{"$f":"G324*Sheet2!$A$3+H324*Sheet2!$B$3+I324*Sheet2!$C$3+J324*Sheet2!$D$3+K324*Sheet2!$E$3+L324*Sheet2!$F$3","v":0}]
[321,{"$nulls":11},{"$f":"G325*Sheet2!$A$3+H325*Sheet2!$B$3+I325*Sheet2!$C$3+J325*Sheet2!$D$3+K325*Sheet2!$E$3+L325*Sheet2!$F$3","v":0}]
[322,{"$nulls":11},{"$f":"G326*Sheet2!$A$3+H326*Sheet2!$B$3+I326*Sheet2!$C$3+J326*Sheet2!$D$3+K326*Sheet2!$E$3+L326*Sheet2!$F$3","v":0}]
[323,{"$nulls":11},{"$f":"G327*Sheet2!$A$3+H327*Sheet2!$B$3+I327*Sheet2!$C$3+J327*Sheet2!$D$3+K327*Sheet2!$E$3+L327*Sheet2!$F$3","v":0}]
[324,{"$nulls":11},{"$f":"G328*Sheet2!$A$3+H328*Sheet2!$B$3+I328*Sheet2!$C$3+J328*Sheet2!$D$3+K328*Sheet2!$E$3+L328*Sheet2!$F$3","v":0}]
[325,{"$nulls":11},{"$f":"G329*Sheet2!$A$3+H329*Sheet2!$B$3+I329*Sheet2!$C$3+J329*Sheet2!$D$3+K329*Sheet2!$E$3+L329*Sheet2!$F$3","v":0}]
[326,{"$nulls":11},{"$f":"G330*Sheet2!$A$3+H330*Sheet2!$B$3+I330*Sheet2!$C$3+J330*Sheet2!$D$3+K330*Sheet2!$E$3+L330*Sheet2!$F$3","v":0}]
[327,{"$nulls":11},{"$f":"G331*Sheet2!$A$3+H331*Sheet2!$B$3+I331*Sheet2!$C$3+J331*Sheet2!$D$3+K331*Sheet2!$E$3+L331*Sheet2!$F$3","v":0}]
[328,{"$nulls":11},{"$f":"G332*Sheet2!$A$3+H332*Sheet2!$B$3+I332*Sheet2!$C$3+J332*Sheet2!$D$3+K332*Sheet2!$E$3+L332*Sheet2!$F$3","v":0}]
[329,{"$nulls":11},{"$f":"G333*Sheet2!$A$3+H333*Sheet2!$B$3+I333*Sheet2!$C$3+J333*Sheet2!$D$3+K333*Sheet2!$E$3+L333*Sheet2!$F$3","v":0}]
[330,{"$nulls":11},{"$f":"G334*Sheet2!$A$3+H334*Sheet2!$B$3+I334*Sheet2!$C$3+J334*Sheet2!$D$3+K334*Sheet2!$E$3+L334*Sheet2!$F$3","v":0}]
[331,{"$nulls":11},{"$f":"G335*Sheet2!$A$3+H335*Sheet2!$B$3+I335*Sheet2!$C$3+J335*Sheet2!$D$3+K335*Sheet2!$E$3+L335*Sheet2!$F$3","v":0}]
[332,{"$nulls":11},{"$f":"G336*Sheet2!$A$3+H336*Sheet2!$B$3+I336*Sheet2!$C$3+J336*Sheet2!$D$3+K336*Sheet2!$E$3+L336*Sheet2!$F$3","v":0}]
[333,{"$nulls":11},{"$f":"G337*Sheet2!$A$3+H337*Sheet2!$B$3+I337*Sheet2!$C$3+J337*Sheet2!$D$3+K337*Sheet2!$E$3+L337*Sheet2!$F$3","v":0}]
[334,{"$nulls":11},{"$f":"G338*Sheet2!$A$3+H338*Sheet2!$B$3+I338*Sheet2!$C$3+J338*Sheet2!$D$3+K338*Sheet2!$E$3+L338*Sheet2!$F$3","v":0}]
[335,{"$nulls":11},{"$f":"G339*Sheet2!$A$3+H339*Sheet2!$B$3+I339*Sheet2!$C$3+J339*Sheet2!$D$3+K339*Sheet2!$E$3+L339*Sheet2!$F$3","v":0}]
[336,{"$nulls":11},{"$f":"G340*Sheet2!$A$3+H340*Sheet2!$B$3+I340*Sheet2!$C$3+J340*Sheet2!$D$3+K340*Sheet2!$E$3+L340*Sheet2!$F$3","v":0}]
[337,{"$nulls":11},{"$f":"G341*Sheet2!$A$3+H341*Sheet2!$B$3+I341*Sheet2!$C$3+J341*Sheet2!$D$3+K341*Sheet2!$E$3+L341*Sheet2!$F$3","v":0}]
[338,{"$nulls":11},{"$f":"G342*Sheet2!$A$3+H342*Sheet2!$B$3+I342*Sheet2!$C$3+J342*Sheet2!$D$3+K342*Sheet2!$E$3+L342*Sheet2!$F$3","v":0}]
[339,{"$nulls":11},{"$f":"G343*Sheet2!$A$3+H343*Sheet2!$B$3+I343*Sheet2!$C$3+J343*Sheet2!$D$3+K343*Sheet2!$E$3+L343*Sheet2!$F$3","v":0}]
[340,{"$nulls":11},{"$f":"G344*Sheet2!$A$3+H344*Sheet2!$B$3+I344*Sheet2!$C$3+J344*Sheet2!$D$3+K344*Sheet2!$E$3+L344*Sheet2!$F$3","v":0}]
[341,{"$nulls":11},{"$f":"G345*Sheet2!$A$3+H345*Sheet2!$B$3+I345*Sheet2!$C$3+J345*Sheet2!$D$3+K345*Sheet2!$E$3+L345*Sheet2!$F$3","v":0}]
[342,{"$nulls":11},{"$f":"G346*Sheet2!$A$3+H346*Sheet2!$B$3+I346*Sheet2!$C$3+J346*Sheet2!$D$3+K346*Sheet2!$E$3+L346*Sheet2!$F$3","v":0}]
[343,{"$nulls":11},{"$f":"G347*Sheet2!$A$3+H347*Sheet2!$B$3+I347*Sheet2!$C$3+J347*Sheet2!$D$3+K347*Sheet2!$E$3+L347*Sheet2!$F$3","v":0}]
[344,{"$nulls":11},{"$f":"G348*Sheet2!$A$3+H348*Sheet2!$B$3+I348*Sheet2!$C$3+J348*Sheet2!$D$3+K348*Sheet2!$E$3+L348*Sheet2!$F$3","v":0}]
[345,{"$nulls":11},{"$f":"G349*Sheet2!$A$3+H349*Sheet2!$B$3+I349*Sheet2!$C$3+J349*Sheet2!$D$3+K349*Sheet2!$E$3+L349*Sheet2!$F$3","v":0}]
[346,{"$nulls":11},{"$f":"G350*Sheet2!$A$3+H350*Sheet2!$B$3+I350*Sheet2!$C$3+J350*Sheet2!$D$3+K350*Sheet2!$E$3+L350*Sheet2!$F$3","v":0}]
[347,{"$nulls":11},{"$f":"G351*Sheet2!$A$3+H351*Sheet2!$B$3+I351*Sheet2!$C$3+J351*Sheet2!$D$3+K351*Sheet2!$E$3+L351*Sheet2!$F$3","v":0}]
[348,{"$nulls":11},{"$f":"G352*Sheet2!$A$3+H352*Sheet2!$B$3+I352*Sheet2!$C$3+J352*Sheet2!$D$3+K352*Sheet2!$E$3+L352*Sheet2!$F$3","v":0}]
[349,{"$nulls":11},{"$f":"G353*Sheet2!$A$3+H353*Sheet2!$B$3+I353*Sheet2!$C$3+J353*Sheet2!$D$3+K353*Sheet2!$E$3+L353*Sheet2!$F$3","v":0}]
[350,{"$nulls":11},{"$f":"G354*Sheet2!$A$3+H354*Sheet2!$B$3+I354*Sheet2!$C$3+J354*Sheet2!$D$3+K354*Sheet2!$E$3+L354*Sheet2!$F$3","v":0}]
[351,{"$nulls":11},{"$f":"G355*Sheet2!$A$3+H355*Sheet2!$B$3+I355*Sheet2!$C$3+J355*Sheet2!$D$3+K355*Sheet2!$E$3+L355*Sheet2!$F$3","v":0}]
[352,{"$nulls":11},{"$f":"G356*Sheet2!$A$3+H356*Sheet2!$B$3+I356*Sheet2!$C$3+J356*Sheet2!$D$3+K356*Sheet2!$E$3+L356*Sheet2!$F$3","v":0}]
[353,{"$nulls":11},{"$f":"G357*Sheet2!$A$3+H357*Sheet2!$B$3+I357*Sheet2!$C$3+J357*Sheet2!$D$3+K357*Sheet2!$E$3+L357*Sheet2!$F$3","v":0}]
[354,{"$nulls":11},{"$f":"G358*Sheet2!$A$3+H358*Sheet2!$B$3+I358*Sheet2!$C$3+J358*Sheet2!$D$3+K358*Sheet2!$E$3+L358*Sheet2!$F$3","v":0}]
[355,{"$nulls":11},{"$f":"G359*Sheet2!$A$3+H359*Sheet2!$B$3+I359*Sheet2!$C$3+J359*Sheet2!$D$3+K359*Sheet2!$E$3+L359*Sheet2!$F$3","v":0}]
[356,{"$nulls":11},{"$f":"G360*Sheet2!$A$3+H360*Sheet2!$B$3+I360*Sheet2!$C$3+J360*Sheet2!$D$3+K360*Sheet2!$E$3+L360*Sheet2!$F$3","v":0}]
[357,{"$nulls":11},{"$f":"G361*Sheet2!$A$3+H361*Sheet2!$B$3+I361*Sheet2!$C$3+J361*Sheet2!$D$3+K361*Sheet2!$E$3+L361*Sheet2!$F$3","v":0}]
[358,{"$nulls":11},{"$f":"G362*Sheet2!$A$3+H362*Sheet2!$B$3+I362*Sheet2!$C$3+J362*Sheet2!$D$3+K362*Sheet2!$E$3+L362*Sheet2!$F$3","v":0}]
[359,{"$nulls":11},{"$f":"G363*Sheet2!$A$3+H363*Sheet2!$B$3+I363*Sheet2!$C$3+J363*Sheet2!$D$3+K363*Sheet2!$E$3+L363*Sheet2!$F$3","v":0}]
[360,{"$nulls":11},{"$f":"G364*Sheet2!$A$3+H364*Sheet2!$B$3+I364*Sheet2!$C$3+J364*Sheet2!$D$3+K364*Sheet2!$E$3+L364*Sheet2!$F$3","v":0}]
[361,{"$nulls":11},{"$f":"G365*Sheet2!$A$3+H365*Sheet2!$B$3+I365*Sheet2!$C$3+J365*Sheet2!$D$3+K365*Sheet2!$E$3+L365*Sheet2!$F$3","v":0}]
[362,{"$nulls":11},{"$f":"G366*Sheet2!$A$3+H366*Sheet2!$B$3+I366*Sheet2!$C$3+J366*Sheet2!$D$3+K366*Sheet2!$E$3+L366*Sheet2!$F$3","v":0}]
[363,{"$nulls":11},{"$f":"G367*Sheet2!$A$3+H367*Sheet2!$B$3+I367*Sheet2!$C$3+J367*Sheet2!$D$3+K367*Sheet2!$E$3+L367*Sheet2!$F$3","v":0}]
[364,{"$nulls":11},{"$f":"G368*Sheet2!$A$3+H368*Sheet2!$B$3+I368*Sheet2!$C$3+J368*Sheet2!$D$3+K368*Sheet2!$E$3+L368*Sheet2!$F$3","v":0}]
[365,{"$nulls":11},{"$f":"G369*Sheet2!$A$3+H369*Sheet2!$B$3+I369*Sheet2!$C$3+J369*Sheet2!$D$3+K369*Sheet2!$E$3+L369*Sheet2!$F$3","v":0}]
[366,{"$nulls":11},{"$f":"G370*Sheet2!$A$3+H370*Sheet2!$B$3+I370*Sheet2!$C$3+J370*Sheet2!$D$3+K370*Sheet2!$E$3+L370*Sheet2!$F$3","v":0}]
[367,{"$nulls":11},{"$f":"G371*Sheet2!$A$3+H371*Sheet2!$B$3+I371*Sheet2!$C$3+J371*Sheet2!$D$3+K371*Sheet2!$E$3+L371*Sheet2!$F$3","v":0}]
[368,{"$nulls":11},{"$f":"G372*Sheet2!$A$3+H372*Sheet2!$B$3+I372*Sheet2!$C$3+J372*Sheet2!$D$3+K372*Sheet2!$E$3+L372*Sheet2!$F$3","v":0}]
[369,{"$nulls":11},{"$f":"G373*Sheet2!$A$3+H373*Sheet2!$B$3+I373*Sheet2!$C$3+J373*Sheet2!$D$3+K373*Sheet2!$E$3+L373*Sheet2!$F$3","v":0}]
[370,{"$nulls":11},{"$f":"G374*Sheet2!$A$3+H374*Sheet2!$B$3+I374*Sheet2!$C$3+J374*Sheet2!$D$3+K374*Sheet2!$E$3+L374*Sheet2!$F$3","v":0}]
[371,{"$nulls":11},{"$f":"G375*Sheet2!$A$3+H375*Sheet2!$B$3+I375*Sheet2!$C$3+J375*Sheet2!$D$3+K375*Sheet2!$E$3+L375*Sheet2!$F$3","v":0}]
[372,{"$nulls":11},{"$f":"G376*Sheet2!$A$3+H376*Sheet2!$B$3+I376*Sheet2!$C$3+J376*Sheet2!$D$3+K376*Sheet2!$E$3+L376*Sheet2!$F$3","v":0}]
[373,{"$nulls":11},{"$f":"G377*Sheet2!$A$3+H377*Sheet2!$B$3+I377*Sheet2!$C$3+J377*Sheet2!$D$3+K377*Sheet2!$E$3+L377*Sheet2!$F$3","v":0}]
[374,{"$nulls":11},{"$f":"G378*Sheet2!$A$3+H378*Sheet2!$B$3+I378*Sheet2!$C$3+J378*Sheet2!$D$3+K378*Sheet2!$E$3+L378*Sheet2!$F$3","v":0}]
[375,{"$nulls":11},{"$f":"G379*Sheet2!$A$3+H379*Sheet2!$B$3+I379*Sheet2!$C$3+J379*Sheet2!$D$3+K379*Sheet2!$E$3+L379*Sheet2!$F$3","v":0}]
[376,{"$nulls":11},{"$f":"G380*Sheet2!$A$3+H380*Sheet2!$B$3+I380*Sheet2!$C$3+J380*Sheet2!$D$3+K380*Sheet2!$E$3+L380*Sheet2!$F$3","v":0}]
[377,{"$nulls":11},{"$f":"G381*Sheet2!$A$3+H381*Sheet2!$B$3+I381*Sheet2!$C$3+J381*Sheet2!$D$3+K381*Sheet2!$E$3+L381*Sheet2!$F$3","v":0}]
[378,{"$nulls":11},{"$f":"G382*Sheet2!$A$3+H382*Sheet2!$B$3+I382*Sheet2!$C$3+J382*Sheet2!$D$3+K382*Sheet2!$E$3+L382*Sheet2!$F$3","v":0}]
[379,{"$nulls":11},{"$f":"G383*Sheet2!$A$3+H383*Sheet2!$B$3+I383*Sheet2!$C$3+J383*Sheet2!$D$3+K383*Sheet2!$E$3+L383*Sheet2!$F$3","v":0}]
[380,{"$nulls":11},{"$f":"G384*Sheet2!$A$3+H384*Sheet2!$B$3+I384*Sheet2!$C$3+J384*Sheet2!$D$3+K384*Sheet2!$E$3+L384*Sheet2!$F$3","v":0}]
[381,{"$nulls":11},{"$f":"G385*Sheet2!$A$3+H385*Sheet2!$B$3+I385*Sheet2!$C$3+J385*Sheet2!$D$3+K385*Sheet2!$E$3+L385*Sheet2!$F$3","v":0}]
[382,{"$nulls":11},{"$f":"G386*Sheet2!$A$3+H386*Sheet2!$B$3+I386*Sheet2!$C$3+J386*Sheet2!$D$3+K386*Sheet2!$E$3+L386*Sheet2!$F$3","v":0}]
[383,{"$nulls":11},{"$f":"G387*Sheet2!$A$3+H387*Sheet2!$B$3+I387*Sheet2!$C$3+J387*Sheet2!$D$3+K387*Sheet2!$E$3+L387*Sheet2!$F$3","v":0}]
[384,{"$nulls":11},{"$f":"G388*Sheet2!$A$3+H388*Sheet2!$B$3+I388*Sheet2!$C$3+J388*Sheet2!$D$3+K388*Sheet2!$E$3+L388*Sheet2!$F$3","v":0}]
[385,{"$nulls":11},{"$f":"G389*Sheet2!$A$3+H389*Sheet2!$B$3+I389*Sheet2!$C$3+J389*Sheet2!$D$3+K389*Sheet2!$E$3+L389*Sheet2!$F$3","v":0}]
[386,{"$nulls":11},{"$f":"G390*Sheet2!$A$3+H390*Sheet2!$B$3+I390*Sheet2!$C$3+J390*Sheet2!$D$3+K390*Sheet2!$E$3+L390*Sheet2!$F$3","v":0}]
[387,{"$nulls":11},{"$f":"G391*Sheet2!$A$3+H391*Sheet2!$B$3+I391*Sheet2!$C$3+J391*Sheet2!$D$3+K391*Sheet2!$E$3+L391*Sheet2!$F$3","v":0}]
[388,{"$nulls":11},{"$f":"G392*Sheet2!$A$3+H392*Sheet2!$B$3+I392*Sheet2!$C$3+J392*Sheet2!$D$3+K392*Sheet2!$E$3+L392*Sheet2!$F$3","v":0}]
[389,{"$nulls":11},{"$f":"G393*Sheet2!$A$3+H393*Sheet2!$B$3+I393*Sheet2!$C$3+J393*Sheet2!$D$3+K393*Sheet2!$E$3+L393*Sheet2!$F$3","v":0}]
[390,{"$nulls":11},{"$f":"G394*Sheet2!$A$3+H394*Sheet2!$B$3+I394*Sheet2!$C$3+J394*Sheet2!$D$3+K394*Sheet2!$E$3+L394*Sheet2!$F$3","v":0}]
[391,{"$nulls":11},{"$f":"G395*Sheet2!$A$3+H395*Sheet2!$B$3+I395*Sheet2!$C$3+J395*Sheet2!$D$3+K395*Sheet2!$E$3+L395*Sheet2!$F$3","v":0}]
[392,{"$nulls":11},{"$f":"G396*Sheet2!$A$3+H396*Sheet2!$B$3+I396*Sheet2!$C$3+J396*Sheet2!$D$3+K396*Sheet2!$E$3+L396*Sheet2!$F$3","v":0}]
[393,{"$nulls":11},{"$f":"G397*Sheet2!$A$3+H397*Sheet2!$B$3+I397*Sheet2!$C$3+J397*Sheet2!$D$3+K397*Sheet2!$E$3+L397*Sheet2!$F$3","v":0}]
[394,{"$nulls":11},{"$f":"G398*Sheet2!$A$3+H398*Sheet2!$B$3+I398*Sheet2!$C$3+J398*Sheet2!$D$3+K398*Sheet2!$E$3+L398*Sheet2!$F$3","v":0}]
[395,{"$nulls":11},{"$f":"G399*Sheet2!$A$3+H399*Sheet2!$B$3+I399*Sheet2!$C$3+J399*Sheet2!$D$3+K399*Sheet2!$E$3+L399*Sheet2!$F$3","v":0}]
[396,{"$nulls":11},{"$f":"G400*Sheet2!$A$3+H400*Sheet2!$B$3+I400*Sheet2!$C$3+J400*Sheet2!$D$3+K400*Sheet2!$E$3+L400*Sheet2!$F$3","v":0}]
[397,{"$nulls":11},{"$f":"G401*Sheet2!$A$3+H401*Sheet2!$B$3+I401*Sheet2!$C$3+J401*Sheet2!$D$3+K401*Sheet2!$E$3+L401*Sheet2!$F$3","v":0}]
[398,{"$nulls":11},{"$f":"G402*Sheet2!$A$3+H402*Sheet2!$B$3+I402*Sheet2!$C$3+J402*Sheet2!$D$3+K402*Sheet2!$E$3+L402*Sheet2!$F$3","v":0}]
[399,{"$nulls":11},{"$f":"G403*Sheet2!$A$3+H403*Sheet2!$B$3+I403*Sheet2!$C$3+J403*Sheet2!$D$3+K403*Sheet2!$E$3+L403*Sheet2!$F$3","v":0}]
[400,{"$nulls":11},{"$f":"G404*Sheet2!$A$3+H404*Sheet2!$B$3+I404*Sheet2!$C$3+J404*Sheet2!$D$3+K404*Sheet2!$E$3+L404*Sheet2!$F$3","v":0}]
[401,{"$nulls":11},{"$f":"G405*Sheet2!$A$3+H405*Sheet2!$B$3+I405*Sheet2!$C$3+J405*Sheet2!$D$3+K405*Sheet2!$E$3+L405*Sheet2!$F$3","v":0}]
[402,{"$nulls":11},{"$f":"G406*Sheet2!$A$3+H406*Sheet2!$B$3+I406*Sheet2!$C$3+J406*Sheet2!$D$3+K406*Sheet2!$E$3+L406*Sheet2!$F$3","v":0}]
[403,{"$nulls":11},{"$f":"G407*Sheet2!$A$3+H407*Sheet2!$B$3+I407*Sheet2!$C$3+J407*Sheet2!$D$3+K407*Sheet2!$E$3+L407*Sheet2!$F$3","v":0}]
[404,{"$nulls":11},{"$f":"G408*Sheet2!$A$3+H408*Sheet2!$B$3+I408*Sheet2!$C$3+J408*Sheet2!$D$3+K408*Sheet2!$E$3+L408*Sheet2!$F$3","v":0}]
[405,{"$nulls":11},{"$f":"G409*Sheet2!$A$3+H409*Sheet2!$B$3+I409*Sheet2!$C$3+J409*Sheet2!$D$3+K409*Sheet2!$E$3+L409*Sheet2!$F$3","v":0}]
[406,{"$nulls":11},{"$f":"G410*Sheet2!$A$3+H410*Sheet2!$B$3+I410*Sheet2!$C$3+J410*Sheet2!$D$3+K410*Sheet2!$E$3+L410*Sheet2!$F$3","v":0}]
[407,{"$nulls":11},{"$f":"G411*Sheet2!$A$3+H411*Sheet2!$B$3+I411*Sheet2!$C$3+J411*Sheet2!$D$3+K411*Sheet2!$E$3+L411*Sheet2!$F$3","v":0}]
[408,{"$nulls":11},{"$f":"G412*Sheet2!$A$3+H412*Sheet2!$B$3+I412*Sheet2!$C$3+J412*Sheet2!$D$3+K412*Sheet2!$E$3+L412*Sheet2!$F$3","v":0}]
[409,{"$nulls":11},{"$f":"G413*Sheet2!$A$3+H413*Sheet2!$B$3+I413*Sheet2!$C$3+J413*Sheet2!$D$3+K413*Sheet2!$E$3+L413*Sheet2!$F$3","v":0}]
[410,{"$nulls":11},{"$f":"G414*Sheet2!$A$3+H414*Sheet2!$B$3+I414*Sheet2!$C$3+J414*Sheet2!$D$3+K414*Sheet2!$E$3+L414*Sheet2!$F$3","v":0}]
[411,{"$nulls":11},{"$f":"G415*Sheet2!$A$3+H415*Sheet2!$B$3+I415*Sheet2!$C$3+J415*Sheet2!$D$3+K415*Sheet2!$E$3+L415*Sheet2!$F$3","v":0}]
[412,{"$nulls":11},{"$f":"G416*Sheet2!$A$3+H416*Sheet2!$B$3+I416*Sheet2!$C$3+J416*Sheet2!$D$3+K416*Sheet2!$E$3+L416*Sheet2!$F$3","v":0}]
[413,{"$nulls":11},{"$f":"G417*Sheet2!$A$3+H417*Sheet2!$B$3+I417*Sheet2!$C$3+J417*Sheet2!$D$3+K417*Sheet2!$E$3+L417*Sheet2!$F$3","v":0}]
[414,{"$nulls":11},{"$f":"G418*Sheet2!$A$3+H418*Sheet2!$B$3+I418*Sheet2!$C$3+J418*Sheet2!$D$3+K418*Sheet2!$E$3+L418*Sheet2!$F$3","v":0}]
[415,{"$nulls":11},{"$f":"G419*Sheet2!$A$3+H419*Sheet2!$B$3+I419*Sheet2!$C$3+J419*Sheet2!$D$3+K419*Sheet2!$E$3+L419*Sheet2!$F$3","v":0}]
[416,{"$nulls":11},{"$f":"G420*Sheet2!$A$3+H420*Sheet2!$B$3+I420*Sheet2!$C$3+J420*Sheet2!$D$3+K420*Sheet2!$E$3+L420*Sheet2!$F$3","v":0}]
[417,{"$nulls":11},{"$f":"G421*Sheet2!$A$3+H421*Sheet2!$B$3+I421*Sheet2!$C$3+J421*Sheet2!$D$3+K421*Sheet2!$E$3+L421*Sheet2!$F$3","v":0}]
[418,{"$nulls":11},{"$f":"G422*Sheet2!$A$3+H422*Sheet2!$B$3+I422*Sheet2!$C$3+J422*Sheet2!$D$3+K422*Sheet2!$E$3+L422*Sheet2!$F$3","v":0}]
[419,{"$nulls":11},{"$f":"G423*Sheet2!$A$3+H423*Sheet2!$B$3+I423*Sheet2!$C$3+J423*Sheet2!$D$3+K423*Sheet2!$E$3+L423*Sheet2!$F$3","v":0}]
[420,{"$nulls":11},{"$f":"G424*Sheet2!$A$3+H424*Sheet2!$B$3+I424*Sheet2!$C$3+J424*Sheet2!$D$3+K424*Sheet2!$E$3+L424*Sheet2!$F$3","v":0}]
[421,{"$nulls":11},{"$f":"G425*Sheet2!$A$3+H425*Sheet2!$B$3+I425*Sheet2!$C$3+J425*Sheet2!$D$3+K425*Sheet2!$E$3+L425*Sheet2!$F$3","v":0}]
[422,{"$nulls":11},{"$f":"G426*Sheet2!$A$3+H426*Sheet2!$B$3+I426*Sheet2!$C$3+J426*Sheet2!$D$3+K426*Sheet2!$E$3+L426*Sheet2!$F$3","v":0}]
[423,{"$nulls":11},{"$f":"G427*Sheet2!$A$3+H427*Sheet2!$B$3+I427*Sheet2!$C$3+J427*Sheet2!$D$3+K427*Sheet2!$E$3+L427*Sheet2!$F$3","v":0}]
[424,{"$nulls":11},{"$f":"G428*Sheet2!$A$3+H428*Sheet2!$B$3+I428*Sheet2!$C$3+J428*Sheet2!$D$3+K428*Sheet2!$E$3+L428*Sheet2!$F$3","v":0}]
[425,{"$nulls":11},{"$f":"G429*Sheet2!$A$3+H429*Sheet2!$B$3+I429*Sheet2!$C$3+J429*Sheet2!$D$3+K429*Sheet2!$E$3+L429*Sheet2!$F$3","v":0}]
[426,{"$nulls":11},{"$f":"G430*Sheet2!$A$3+H430*Sheet2!$B$3+I430*Sheet2!$C$3+J430*Sheet2!$D$3+K430*Sheet2!$E$3+L430*Sheet2!$F$3","v":0}]
[427,{"$nulls":11},{"$f":"G431*Sheet2!$A$3+H431*Sheet2!$B$3+I431*Sheet2!$C$3+J431*Sheet2!$D$3+K431*Sheet2!$E$3+L431*Sheet2!$F$3","v":0}]
[428,{"$nulls":11},{"$f":"G432*Sheet2!$A$3+H432*Sheet2!$B$3+I432*Sheet2!$C$3+J432*Sheet2!$D$3+K432*Sheet2!$E$3+L432*Sheet2!$F$3","v":0}]
[429,{"$nulls":11},{"$f":"G433*Sheet2!$A$3+H433*Sheet2!$B$3+I433*Sheet2!$C$3+J433*Sheet2!$D$3+K433*Sheet2!$E$3+L433*Sheet2!$F$3","v":0}]
[430,{"$nulls":11},{"$f":"G434*Sheet2!$A$3+H434*Sheet2!$B$3+I434*Sheet2!$C$3+J434*Sheet2!$D$3+K434*Sheet2!$E$3+L434*Sheet2!$F$3","v":0}]
[431,{"$nulls":11},{"$f":"G435*Sheet2!$A$3+H435*Sheet2!$B$3+I435*Sheet2!$C$3+J435*Sheet2!$D$3+K435*Sheet2!$E$3+L435*Sheet2!$F$3","v":0}]
[432,{"$nulls":11},{"$f":"G436*Sheet2!$A$3+H436*Sheet2!$B$3+I436*Sheet2!$C$3+J436*Sheet2!$D$3+K436*Sheet2!$E$3+L436*Sheet2!$F$3","v":0}]
[433,{"$nulls":11},{"$f":"G437*Sheet2!$A$3+H437*Sheet2!$B$3+I437*Sheet2!$C$3+J437*Sheet2!$D$3+K437*Sheet2!$E$3+L437*Sheet2!$F$3","v":0}]
[434,{"$nulls":11},{"$f":"G438*Sheet2!$A$3+H438*Sheet2!$B$3+I438*Sheet2!$C$3+J438*Sheet2!$D$3+K438*Sheet2!$E$3+L438*Sheet2!$F$3","v":0}]
[435,{"$nulls":11},{"$f":"G439*Sheet2!$A$3+H439*Sheet2!$B$3+I439*Sheet2!$C$3+J439*Sheet2!$D$3+K439*Sheet2!$E$3+L439*Sheet2!$F$3","v":0}]
[436,{"$nulls":11},{"$f":"G440*Sheet2!$A$3+H440*Sheet2!$B$3+I440*Sheet2!$C$3+J440*Sheet2!$D$3+K440*Sheet2!$E$3+L440*Sheet2!$F$3","v":0}]
[437,{"$nulls":11},{"$f":"G441*Sheet2!$A$3+H441*Sheet2!$B$3+I441*Sheet2!$C$3+J441*Sheet2!$D$3+K441*Sheet2!$E$3+L441*Sheet2!$F$3","v":0}]
[438,{"$nulls":11},{"$f":"G442*Sheet2!$A$3+H442*Sheet2!$B$3+I442*Sheet2!$C$3+J442*Sheet2!$D$3+K442*Sheet2!$E$3+L442*Sheet2!$F$3","v":0}]
[439,{"$nulls":11},{"$f":"G443*Sheet2!$A$3+H443*Sheet2!$B$3+I443*Sheet2!$C$3+J443*Sheet2!$D$3+K443*Sheet2!$E$3+L443*Sheet2!$F$3","v":0}]
[440,{"$nulls":11},{"$f":"G444*Sheet2!$A$3+H444*Sheet2!$B$3+I444*Sheet2!$C$3+J444*Sheet2!$D$3+K444*Sheet2!$E$3+L444*Sheet2!$F$3","v":0}]
[441,{"$nulls":11},{"$f":"G445*Sheet2!$A$3+H445*Sheet2!$B$3+I445*Sheet2!$C$3+J445*Sheet2!$D$3+K445*Sheet2!$E$3+L445*Sheet2!$F$3","v":0}]
[442,{"$nulls":11},{"$f":"G446*Sheet2!$A$3+H446*Sheet2!$B$3+I446*Sheet2!$C$3+J446*Sheet2!$D$3+K446*Sheet2!$E$3+L446*Sheet2!$F$3","v":0}]
[443,{"$nulls":11},{"$f":"G447*Sheet2!$A$3+H447*Sheet2!$B$3+I447*Sheet2!$C$3+J447*Sheet2!$D$3+K447*Sheet2!$E$3+L447*Sheet2!$F$3","v":0}]
[444,{"$nulls":11},{"$f":"G448*Sheet2!$A$3+H448*Sheet2!$B$3+I448*Sheet2!$C$3+J448*Sheet2!$D$3+K448*Sheet2!$E$3+L448*Sheet2!$F$3","v":0}]
[445,{"$nulls":11},{"$f":"G449*Sheet2!$A$3+H449*Sheet2!$B$3+I449*Sheet2!$C$3+J449*Sheet2!$D$3+K449*Sheet2!$E$3+L449*Sheet2!$F$3","v":0}]
[446,{"$nulls":11},{"$f":"G450*Sheet2!$A$3+H450*Sheet2!$B$3+I450*Sheet2!$C$3+J450*Sheet2!$D$3+K450*Sheet2!$E$3+L450*Sheet2!$F$3","v":0}]
[447,{"$nulls":11},{"$f":"G451*Sheet2!$A$3+H451*Sheet2!$B$3+I451*Sheet2!$C$3+J451*Sheet2!$D$3+K451*Sheet2!$E$3+L451*Sheet2!$F$3","v":0}]
[448,{"$nulls":11},{"$f":"G452*Sheet2!$A$3+H452*Sheet2!$B$3+I452*Sheet2!$C$3+J452*Sheet2!$D$3+K452*Sheet2!$E$3+L452*Sheet2!$F$3","v":0}]
[449,{"$nulls":11},{"$f":"G453*Sheet2!$A$3+H453*Sheet2!$B$3+I453*Sheet2!$C$3+J453*Sheet2!$D$3+K453*Sheet2!$E$3+L453*Sheet2!$F$3","v":0}]
[450,{"$nulls":11},{"$f":"G454*Sheet2!$A$3+H454*Sheet2!$B$3+I454*Sheet2!$C$3+J454*Sheet2!$D$3+K454*Sheet2!$E$3+L454*Sheet2!$F$3","v":0}]
[451,{"$nulls":11},{"$f":"G455*Sheet2!$A$3+H455*Sheet2!$B$3+I455*Sheet2!$C$3+J455*Sheet2!$D$3+K455*Sheet2!$E$3+L455*Sheet2!$F$3","v":0}]
[452,{"$nulls":11},{"$f":"G456*Sheet2!$A$3+H456*Sheet2!$B$3+I456*Sheet2!$C$3+J456*Sheet2!$D$3+K456*Sheet2!$E$3+L456*Sheet2!$F$3","v":0}]
[453,{"$nulls":11},{"$f":"G457*Sheet2!$A$3+H457*Sheet2!$B$3+I457*Sheet2!$C$3+J457*Sheet2!$D$3+K457*Sheet2!$E$3+L457*Sheet2!$F$3","v":0}]
[454,{"$nulls":11},{"$f":"G458*Sheet2!$A$3+H458*Sheet2!$B$3+I458*Sheet2!$C$3+J458*Sheet2!$D$3+K458*Sheet2!$E$3+L458*Sheet2!$F$3","v":0}]
[455,{"$nulls":11},{"$f":"G459*Sheet2!$A$3+H459*Sheet2!$B$3+I459*Sheet2!$C$3+J459*Sheet2!$D$3+K459*Sheet2!$E$3+L459*Sheet2!$F$3","v":0}]
[456,{"$nulls":11},{"$f":"G460*Sheet2!$A$3+H460*Sheet2!$B$3+I460*Sheet2!$C$3+J460*Sheet2!$D$3+K460*Sheet2!$E$3+L460*Sheet2!$F$3","v":0}]
[457,{"$nulls":11},{"$f":"G461*Sheet2!$A$3+H461*Sheet2!$B$3+I461*Sheet2!$C$3+J461*Sheet2!$D$3+K461*Sheet2!$E$3+L461*Sheet2!$F$3","v":0}]
[458,{"$nulls":11},{"$f":"G462*Sheet2!$A$3+H462*Sheet2!$B$3+I462*Sheet2!$C$3+J462*Sheet2!$D$3+K462*Sheet2!$E$3+L462*Sheet2!$F$3","v":0}]
[459,{"$nulls":11},{"$f":"G463*Sheet2!$A$3+H463*Sheet2!$B$3+I463*Sheet2!$C$3+J463*Sheet2!$D$3+K463*Sheet2!$E$3+L463*Sheet2!$F$3","v":0}]
[460,{"$nulls":11},{"$f":"G464*Sheet2!$A$3+H464*Sheet2!$B$3+I464*Sheet2!$C$3+J464*Sheet2!$D$3+K464*Sheet2!$E$3+L464*Sheet2!$F$3","v":0}]
[461,{"$nulls":11},{"$f":"G465*Sheet2!$A$3+H465*Sheet2!$B$3+I465*Sheet2!$C$3+J465*Sheet2!$D$3+K465*Sheet2!$E$3+L465*Sheet2!$F$3","v":0}]
[462,{"$nulls":11},{"$f":"G466*Sheet2!$A$3+H466*Sheet2!$B$3+I466*Sheet2!$C$3+J466*Sheet2!$D$3+K466*Sheet2!$E$3+L466*Sheet2!$F$3","v":0}]
[463,{"$nulls":11},{"$f":"G467*Sheet2!$A$3+H467*Sheet2!$B$3+I467*Sheet2!$C$3+J467*Sheet2!$D$3+K467*Sheet2!$E$3+L467*Sheet2!$F$3","v":0}]
[464,{"$nulls":11},{"$f":"G468*Sheet2!$A$3+H468*Sheet2!$B$3+I468*Sheet2!$C$3+J468*Sheet2!$D$3+K468*Sheet2!$E$3+L468*Sheet2!$F$3","v":0}]
[465,{"$nulls":11},{"$f":"G469*Sheet2!$A$3+H469*Sheet2!$B$3+I469*Sheet2!$C$3+J469*Sheet2!$D$3+K469*Sheet2!$E$3+L469*Sheet2!$F$3","v":0}]
[466,{"$nulls":11},{"$f":"G470*Sheet2!$A$3+H470*Sheet2!$B$3+I470*Sheet2!$C$3+J470*Sheet2!$D$3+K470*Sheet2!$E$3+L470*Sheet2!$F$3","v":0}]
[467,{"$nulls":11},{"$f":"G471*Sheet2!$A$3+H471*Sheet2!$B$3+I471*Sheet2!$C$3+J471*Sheet2!$D$3+K471*Sheet2!$E$3+L471*Sheet2!$F$3","v":0}]
[468,{"$nulls":11},{"$f":"G472*Sheet2!$A$3+H472*Sheet2!$B$3+I472*Sheet2!$C$3+J472*Sheet2!$D$3+K472*Sheet2!$E$3+L472*Sheet2!$F$3","v":0}]
[469,{"$nulls":11},{"$f":"G473*Sheet2!$A$3+H473*Sheet2!$B$3+I473*Sheet2!$C$3+J473*Sheet2!$D$3+K473*Sheet2!$E$3+L473*Sheet2!$F$3","v":0}]
[470,{"$nulls":11},{"$f":"G474*Sheet2!$A$3+H474*Sheet2!$B$3+I474*Sheet2!$C$3+J474*Sheet2!$D$3+K474*Sheet2!$E$3+L474*Sheet2!$F$3","v":0}]
[471,{"$nulls":11},{"$f":"G475*Sheet2!$A$3+H475*Sheet2!$B$3+I475*Sheet2!$C$3+J475*Sheet2!$D$3+K475*Sheet2!$E$3+L475*Sheet2!$F$3","v":0}]
[472,{"$nulls":11},{"$f":"G476*Sheet2!$A$3+H476*Sheet2!$B$3+I476*Sheet2!$C$3+J476*Sheet2!$D$3+K476*Sheet2!$E$3+L476*Sheet2!$F$3","v":0}]
[473,{"$nulls":11},{"$f":"G477*Sheet2!$A$3+H477*Sheet2!$B$3+I477*Sheet2!$C$3+J477*Sheet2!$D$3+K477*Sheet2!$E$3+L477*Sheet2!$F$3","v":0}]
[474,{"$nulls":11},{"$f":"G478*Sheet2!$A$3+H478*Sheet2!$B$3+I478*Sheet2!$C$3+J478*Sheet2!$D$3+K478*Sheet2!$E$3+L478*Sheet2!$F$3","v":0}]
[475,{"$nulls":11},{"$f":"G479*Sheet2!$A$3+H479*Sheet2!$B$3+I479*Sheet2!$C$3+J479*Sheet2!$D$3+K479*Sheet2!$E$3+L479*Sheet2!$F$3","v":0}]
[476,{"$nulls":11},{"$f":"G480*Sheet2!$A$3+H480*Sheet2!$B$3+I480*Sheet2!$C$3+J480*Sheet2!$D$3+K480*Sheet2!$E$3+L480*Sheet2!$F$3","v":0}]
[477,{"$nulls":11},{"$f":"G481*Sheet2!$A$3+H481*Sheet2!$B$3+I481*Sheet2!$C$3+J481*Sheet2!$D$3+K481*Sheet2!$E$3+L481*Sheet2!$F$3","v":0}]
[478,{"$nulls":11},{"$f":"G482*Sheet2!$A$3+H482*Sheet2!$B$3+I482*Sheet2!$C$3+J482*Sheet2!$D$3+K482*Sheet2!$E$3+L482*Sheet2!$F$3","v":0}]
[479,{"$nulls":11},{"$f":"G483*Sheet2!$A$3+H483*Sheet2!$B$3+I483*Sheet2!$C$3+J483*Sheet2!$D$3+K483*Sheet2!$E$3+L483*Sheet2!$F$3","v":0}]
[480,{"$nulls":11},{"$f":"G484*Sheet2!$A$3+H484*Sheet2!$B$3+I484*Sheet2!$C$3+J484*Sheet2!$D$3+K484*Sheet2!$E$3+L484*Sheet2!$F$3","v":0}]
[481,{"$nulls":11},{"$f":"G485*Sheet2!$A$3+H485*Sheet2!$B$3+I485*Sheet2!$C$3+J485*Sheet2!$D$3+K485*Sheet2!$E$3+L485*Sheet2!$F$3","v":0}]
[482,{"$nulls":11},{"$f":"G486*Sheet2!$A$3+H486*Sheet2!$B$3+I486*Sheet2!$C$3+J486*Sheet2!$D$3+K486*Sheet2!$E$3+L486*Sheet2!$F$3","v":0}]
[483,{"$nulls":11},{"$f":"G487*Sheet2!$A$3+H487*Sheet2!$B$3+I487*Sheet2!$C$3+J487*Sheet2!$D$3+K487*Sheet2!$E$3+L487*Sheet2!$F$3","v":0}]
[484,{"$nulls":11},{"$f":"G488*Sheet2!$A$3+H488*Sheet2!$B$3+I488*Sheet2!$C$3+J488*Sheet2!$D$3+K488*Sheet2!$E$3+L488*Sheet2!$F$3","v":0}]
[485,{"$nulls":11},{"$f":"G489*Sheet2!$A$3+H489*Sheet2!$B$3+I489*Sheet2!$C$3+J489*Sheet2!$D$3+K489*Sheet2!$E$3+L489*Sheet2!$F$3","v":0}]
[486,{"$nulls":11},{"$f":"G490*Sheet2!$A$3+H490*Sheet2!$B$3+I490*Sheet2!$C$3+J490*Sheet2!$D$3+K490*Sheet2!$E$3+L490*Sheet2!$F$3","v":0}]
[487,{"$nulls":11},{"$f":"G491*Sheet2!$A$3+H491*Sheet2!$B$3+I491*Sheet2!$C$3+J491*Sheet2!$D$3+K491*Sheet2!$E$3+L491*Sheet2!$F$3","v":0}]
[488,{"$nulls":11},{"$f":"G492*Sheet2!$A$3+H492*Sheet2!$B$3+I492*Sheet2!$C$3+J492*Sheet2!$D$3+K492*Sheet2!$E$3+L492*Sheet2!$F$3","v":0}]
[489,{"$nulls":11},{"$f":"G493*Sheet2!$A$3+H493*Sheet2!$B$3+I493*Sheet2!$C$3+J493*Sheet2!$D$3+K493*Sheet2!$E$3+L493*Sheet2!$F$3","v":0}]
[490,{"$nulls":11},{"$f":"G494*Sheet2!$A$3+H494*Sheet2!$B$3+I494*Sheet2!$C$3+J494*Sheet2!$D$3+K494*Sheet2!$E$3+L494*Sheet2!$F$3","v":0}]
[491,{"$nulls":11},{"$f":"G495*Sheet2!$A$3+H495*Sheet2!$B$3+I495*Sheet2!$C$3+J495*Sheet2!$D$3+K495*Sheet2!$E$3+L495*Sheet2!$F$3","v":0}]
[492,{"$nulls":11},{"$f":"G496*Sheet2!$A$3+H496*Sheet2!$B$3+I496*Sheet2!$C$3+J496*Sheet2!$D$3+K496*Sheet2!$E$3+L496*Sheet2!$F$3","v":0}]
[493,{"$nulls":11},{"$f":"G497*Sheet2!$A$3+H497*Sheet2!$B$3+I497*Sheet2!$C$3+J497*Sheet2!$D$3+K497*Sheet2!$E$3+L497*Sheet2!$F$3","v":0}]
[494,{"$nulls":11},{"$f":"G498*Sheet2!$A$3+H498*Sheet2!$B$3+I498*Sheet2!$C$3+J498*Sheet2!$D$3+K498*Sheet2!$E$3+L498*Sheet2!$F$3","v":0}]
[495,{"$nulls":11},{"$f":"G499*Sheet2!$A$3+H499*Sheet2!$B$3+I499*Sheet2!$C$3+J499*Sheet2!$D$3+K499*Sheet2!$E$3+L499*Sheet2!$F$3","v":0}]
[496,{"$nulls":11},{"$f":"G500*Sheet2!$A$3+H500*Sheet2!$B$3+I500*Sheet2!$C$3+J500*Sheet2!$D$3+K500*Sheet2!$E$3+L500*Sheet2!$F$3","v":0}]
[497,{"$nulls":11},{"$f":"G501*Sheet2!$A$3+H501*Sheet2!$B$3+I501*Sheet2!$C$3+J501*Sheet2!$D$3+K501*Sheet2!$E$3+L501*Sheet2!$F$3","v":0}]
[498,{"$nulls":11},{"$f":"G502*Sheet2!$A$3+H502*Sheet2!$B$3+I502*Sheet2!$C$3+J502*Sheet2!$D$3+K502*Sheet2!$E$3+L502*Sheet2!$F$3","v":0}]
[499,{"$nulls":11},{"$f":"G503*Sheet2!$A$3+H503*Sheet2!$B$3+I503*Sheet2!$C$3+J503*Sheet2!$D$3+K503*Sheet2!$E$3+L503*Sheet2!$F$3","v":0}]
[500,{"$nulls":11},{"$f":"G504*Sheet2!$A$3+H504*Sheet2!$B$3+I504*Sheet2!$C$3+J504*Sheet2!$D$3+K504*Sheet2!$E$3+L504*Sheet2!$F$3","v":0}]
[501,{"$nulls":11},{"$f":"G505*Sheet2!$A$3+H505*Sheet2!$B$3+I505*Sheet2!$C$3+J505*Sheet2!$D$3+K505*Sheet2!$E$3+L505*Sheet2!$F$3","v":0}]
[502,{"$nulls":11},{"$f":"G506*Sheet2!$A$3+H506*Sheet2!$B$3+I506*Sheet2!$C$3+J506*Sheet2!$D$3+K506*Sheet2!$E$3+L506*Sheet2!$F$3","v":0}]
[503,{"$nulls":11},{"$f":"G507*Sheet2!$A$3+H507*Sheet2!$B$3+I507*Sheet2!$C$3+J507*Sheet2!$D$3+K507*Sheet2!$E$3+L507*Sheet2!$F$3","v":0}]
[504,{"$nulls":11},{"$f":"G508*Sheet2!$A$3+H508*Sheet2!$B$3+I508*Sheet2!$C$3+J508*Sheet2!$D$3+K508*Sheet2!$E$3+L508*Sheet2!$F$3","v":0}]
[505,{"$nulls":11},{"$f":"G509*Sheet2!$A$3+H509*Sheet2!$B$3+I509*Sheet2!$C$3+J509*Sheet2!$D$3+K509*Sheet2!$E$3+L509*Sheet2!$F$3","v":0}]
[506,{"$nulls":11},{"$f":"G510*Sheet2!$A$3+H510*Sheet2!$B$3+I510*Sheet2!$C$3+J510*Sheet2!$D$3+K510*Sheet2!$E$3+L510*Sheet2!$F$3","v":0}]
[507,{"$nulls":11},{"$f":"G511*Sheet2!$A$3+H511*Sheet2!$B$3+I511*Sheet2!$C$3+J511*Sheet2!$D$3+K511*Sheet2!$E$3+L511*Sheet2!$F$3","v":0}]
[508,{"$nulls":11},{"$f":"G512*Sheet2!$A$3+H512*Sheet2!$B$3+I512*Sheet2!$C$3+J512*Sheet2!$D$3+K512*Sheet2!$E$3+L512*Sheet2!$F$3","v":0}]
[509,{"$nulls":11},{"$f":"G513*Sheet2!$A$3+H513*Sheet2!$B$3+I513*Sheet2!$C$3+J513*Sheet2!$D$3+K513*Sheet2!$E$3+L513*Sheet2!$F$3","v":0}]
[510,{"$nulls":11},{"$f":"G514*Sheet2!$A$3+H514*Sheet2!$B$3+I514*Sheet2!$C$3+J514*Sheet2!$D$3+K514*Sheet2!$E$3+L514*Sheet2!$F$3","v":0}]
[511,{"$nulls":11},{"$f":"G515*Sheet2!$A$3+H515*Sheet2!$B$3+I515*Sheet2!$C$3+J515*Sheet2!$D$3+K515*Sheet2!$E$3+L515*Sheet2!$F$3","v":0}]
[512,{"$nulls":11},{"$f":"G516*Sheet2!$A$3+H516*Sheet2!$B$3+I516*Sheet2!$C$3+J516*Sheet2!$D$3+K516*Sheet2!$E$3+L516*Sheet2!$F$3","v":0}]
[513,{"$nulls":11},{"$f":"G517*Sheet2!$A$3+H517*Sheet2!$B$3+I517*Sheet2!$C$3+J517*Sheet2!$D$3+K517*Sheet2!$E$3+L517*Sheet2!$F$3","v":0}]
[514,{"$nulls":11},{"$f":"G518*Sheet2!$A$3+H518*Sheet2!$B$3+I518*Sheet2!$C$3+J518*Sheet2!$D$3+K518*Sheet2!$E$3+L518*Sheet2!$F$3","v":0}]
[515,{"$nulls":11},{"$f":"G519*Sheet2!$A$3+H519*Sheet2!$B$3+I519*Sheet2!$C$3+J519*Sheet2!$D$3+K519*Sheet2!$E$3+L519*Sheet2!$F$3","v":0}]
[516,{"$nulls":11},{"$f":"G520*Sheet2!$A$3+H520*Sheet2!$B$3+I520*Sheet2!$C$3+J520*Sheet2!$D$3+K520*Sheet2!$E$3+L520*Sheet2!$F$3","v":0}]
[517,{"$nulls":11},{"$f":"G521*Sheet2!$A$3+H521*Sheet2!$B$3+I521*Sheet2!$C$3+J521*Sheet2!$D$3+K521*Sheet2!$E$3+L521*Sheet2!$F$3","v":0}]
[518,{"$nulls":11},{"$f":"G522*Sheet2!$A$3+H522*Sheet2!$B$3+I522*Sheet2!$C$3+J522*Sheet2!$D$3+K522*Sheet2!$E$3+L522*Sheet2!$F$3","v":0}]
[519,{"$nulls":11},{"$f":"G523*Sheet2!$A$3+H523*Sheet2!$B$3+I523*Sheet2!$C$3+J523*Sheet2!$D$3+K523*Sheet2!$E$3+L523*Sheet2!$F$3","v":0}]
[520,{"$nulls":11},{"$f":"G524*Sheet2!$A$3+H524*Sheet2!$B$3+I524*Sheet2!$C$3+J524*Sheet2!$D$3+K524*Sheet2!$E$3+L524*Sheet2!$F$3","v":0}]
[521,{"$nulls":11},{"$f":"G525*Sheet2!$A$3+H525*Sheet2!$B$3+I525*Sheet2!$C$3+J525*Sheet2!$D$3+K525*Sheet2!$E$3+L525*Sheet2!$F$3","v":0}]
[522,{"$nulls":11},{"$f":"G526*Sheet2!$A$3+H526*Sheet2!$B$3+I526*Sheet2!$C$3+J526*Sheet2!$D$3+K526*Sheet2!$E$3+L526*Sheet2!$F$3","v":0}]
[523,{"$nulls":11},{"$f":"G527*Sheet2!$A$3+H527*Sheet2!$B$3+I527*Sheet2!$C$3+J527*Sheet2!$D$3+K527*Sheet2!$E$3+L527*Sheet2!$F$3","v":0}]
[524,{"$nulls":11},{"$f":"G528*Sheet2!$A$3+H528*Sheet2!$B$3+I528*Sheet2!$C$3+J528*Sheet2!$D$3+K528*Sheet2!$E$3+L528*Sheet2!$F$3","v":0}]
[525,{"$nulls":11},{"$f":"G529*Sheet2!$A$3+H529*Sheet2!$B$3+I529*Sheet2!$C$3+J529*Sheet2!$D$3+K529*Sheet2!$E$3+L529*Sheet2!$F$3","v":0}]
[526,{"$nulls":11},{"$f":"G530*Sheet2!$A$3+H530*Sheet2!$B$3+I530*Sheet2!$C$3+J530*Sheet2!$D$3+K530*Sheet2!$E$3+L530*Sheet2!$F$3","v":0}]
[527,{"$nulls":11},{"$f":"G531*Sheet2!$A$3+H531*Sheet2!$B$3+I531*Sheet2!$C$3+J531*Sheet2!$D$3+K531*Sheet2!$E$3+L531*Sheet2!$F$3","v":0}]
[528,{"$nulls":11},{"$f":"G532*Sheet2!$A$3+H532*Sheet2!$B$3+I532*Sheet2!$C$3+J532*Sheet2!$D$3+K532*Sheet2!$E$3+L532*Sheet2!$F$3","v":0}]
[529,{"$nulls":11},{"$f":"G533*Sheet2!$A$3+H533*Sheet2!$B$3+I533*Sheet2!$C$3+J533*Sheet2!$D$3+K533*Sheet2!$E$3+L533*Sheet2!$F$3","v":0}]
[530,{"$nulls":11},{"$f":"G534*Sheet2!$A$3+H534*Sheet2!$B$3+I534*Sheet2!$C$3+J534*Sheet2!$D$3+K534*Sheet2!$E$3+L534*Sheet2!$F$3","v":0}]
[531,{"$nulls":11},{"$f":"G535*Sheet2!$A$3+H535*Sheet2!$B$3+I535*Sheet2!$C$3+J535*Sheet2!$D$3+K535*Sheet2!$E$3+L535*Sheet2!$F$3","v":0}]
[532,{"$nulls":11},{"$f":"G536*Sheet2!$A$3+H536*Sheet2!$B$3+I536*Sheet2!$C$3+J536*Sheet2!$D$3+K536*Sheet2!$E$3+L536*Sheet2!$F$3","v":0}]
[533,{"$nulls":11},{"$f":"G537*Sheet2!$A$3+H537*Sheet2!$B$3+I537*Sheet2!$C$3+J537*Sheet2!$D$3+K537*Sheet2!$E$3+L537*Sheet2!$F$3","v":0}]
[534,{"$nulls":11},{"$f":"G538*Sheet2!$A$3+H538*Sheet2!$B$3+I538*Sheet2!$C$3+J538*Sheet2!$D$3+K538*Sheet2!$E$3+L538*Sheet2!$F$3","v":0}]
[535,{"$nulls":11},{"$f":"G539*Sheet2!$A$3+H539*Sheet2!$B$3+I539*Sheet2!$C$3+J539*Sheet2!$D$3+K539*Sheet2!$E$3+L539*Sheet2!$F$3","v":0}]
[536,{"$nulls":11},{"$f":"G540*Sheet2!$A$3+H540*Sheet2!$B$3+I540*Sheet2!$C$3+J540*Sheet2!$D$3+K540*Sheet2!$E$3+L540*Sheet2!$F$3","v":0}]
[537,{"$nulls":11},{"$f":"G541*Sheet2!$A$3+H541*Sheet2!$B$3+I541*Sheet2!$C$3+J541*Sheet2!$D$3+K541*Sheet2!$E$3+L541*Sheet2!$F$3","v":0}]
[538,{"$nulls":11},{"$f":"G542*Sheet2!$A$3+H542*Sheet2!$B$3+I542*Sheet2!$C$3+J542*Sheet2!$D$3+K542*Sheet2!$E$3+L542*Sheet2!$F$3","v":0}]
[539,{"$nulls":11},{"$f":"G543*Sheet2!$A$3+H543*Sheet2!$B$3+I543*Sheet2!$C$3+J543*Sheet2!$D$3+K543*Sheet2!$E$3+L543*Sheet2!$F$3","v":0}]
[540,{"$nulls":11},{"$f":"G544*Sheet2!$A$3+H544*Sheet2!$B$3+I544*Sheet2!$C$3+J544*Sheet2!$D$3+K544*Sheet2!$E$3+L544*Sheet2!$F$3","v":0}]
[541,{"$nulls":11},{"$f":"G545*Sheet2!$A$3+H545*Sheet2!$B$3+I545*Sheet2!$C$3+J545*Sheet2!$D$3+K545*Sheet2!$E$3+L545*Sheet2!$F$3","v":0}]
[542,{"$nulls":11},{"$f":"G546*Sheet2!$A$3+H546*Sheet2!$B$3+I546*Sheet2!$C$3+J546*Sheet2!$D$3+K546*Sheet2!$E$3+L546*Sheet2!$F$3","v":0}]
[543,{"$nulls":11},{"$f":"G547*Sheet2!$A$3+H547*Sheet2!$B$3+I547*Sheet2!$C$3+J547*Sheet2!$D$3+K547*Sheet2!$E$3+L547*Sheet2!$F$3","v":0}]
[544,{"$nulls":11},{"$f":"G548*Sheet2!$A$3+H548*Sheet2!$B$3+I548*Sheet2!$C$3+J548*Sheet2!$D$3+K548*Sheet2!$E$3+L548*Sheet2!$F$3","v":0}]
[545,{"$nulls":11},{"$f":"G549*Sheet2!$A$3+H549*Sheet2!$B$3+I549*Sheet2!$C$3+J549*Sheet2!$D$3+K549*Sheet2!$E$3+L549*Sheet2!$F$3","v":0}]
[546,{"$nulls":11},{"$f":"G550*Sheet2!$A$3+H550*Sheet2!$B$3+I550*Sheet2!$C$3+J550*Sheet2!$D$3+K550*Sheet2!$E$3+L550*Sheet2!$F$3","v":0}]
[547,{"$nulls":11},{"$f":"G551*Sheet2!$A$3+H551*Sheet2!$B$3+I551*Sheet2!$C$3+J551*Sheet2!$D$3+K551*Sheet2!$E$3+L551*Sheet2!$F$3","v":0}]
[548,{"$nulls":11},{"$f":"G552*Sheet2!$A$3+H552*Sheet2!$B$3+I552*Sheet2!$C$3+J552*Sheet2!$D$3+K552*Sheet2!$E$3+L552*Sheet2!$F$3","v":0}]
[549,{"$nulls":11},{"$f":"G553*Sheet2!$A$3+H553*Sheet2!$B$3+I553*Sheet2!$C$3+J553*Sheet2!$D$3+K553*Sheet2!$E$3+L553*Sheet2!$F$3","v":0}]
[550,{"$nulls":11},{"$f":"G554*Sheet2!$A$3+H554*Sheet2!$B$3+I554*Sheet2!$C$3+J554*Sheet2!$D$3+K554*Sheet2!$E$3+L554*Sheet2!$F$3","v":0}]
[551,{"$nulls":11},{"$f":"G555*Sheet2!$A$3+H555*Sheet2!$B$3+I555*Sheet2!$C$3+J555*Sheet2!$D$3+K555*Sheet2!$E$3+L555*Sheet2!$F$3","v":0}]
[552,{"$nulls":11},{"$f":"G556*Sheet2!$A$3+H556*Sheet2!$B$3+I556*Sheet2!$C$3+J556*Sheet2!$D$3+K556*Sheet2!$E$3+L556*Sheet2!$F$3","v":0}]
[553,{"$nulls":11},{"$f":"G557*Sheet2!$A$3+H557*Sheet2!$B$3+I557*Sheet2!$C$3+J557*Sheet2!$D$3+K557*Sheet2!$E$3+L557*Sheet2!$F$3","v":0}]
[554,{"$nulls":11},{"$f":"G558*Sheet2!$A$3+H558*Sheet2!$B$3+I558*Sheet2!$C$3+J558*Sheet2!$D$3+K558*Sheet2!$E$3+L558*Sheet2!$F$3","v":0}]
[555,{"$nulls":11},{"$f":"G559*Sheet2!$A$3+H559*Sheet2!$B$3+I559*Sheet2!$C$3+J559*Sheet2!$D$3+K559*Sheet2!$E$3+L559*Sheet2!$F$3","v":0}]
[556,{"$nulls":11},{"$f":"G560*Sheet2!$A$3+H560*Sheet2!$B$3+I560*Sheet2!$C$3+J560*Sheet2!$D$3+K560*Sheet2!$E$3+L560*Sheet2!$F$3","v":0}]
[557,{"$nulls":11},{"$f":"G561*Sheet2!$A$3+H561*Sheet2!$B$3+I561*Sheet2!$C$3+J561*Sheet2!$D$3+K561*Sheet2!$E$3+L561*Sheet2!$F$3","v":0}]
[558,{"$nulls":11},{"$f":"G562*Sheet2!$A$3+H562*Sheet2!$B$3+I562*Sheet2!$C$3+J562*Sheet2!$D$3+K562*Sheet2!$E$3+L562*Sheet2!$F$3","v":0}]
[559,{"$nulls":11},{"$f":"G563*Sheet2!$A$3+H563*Sheet2!$B$3+I563*Sheet2!$C$3+J563*Sheet2!$D$3+K563*Sheet2!$E$3+L563*Sheet2!$F$3","v":0}]
[560,{"$nulls":11},{"$f":"G564*Sheet2!$A$3+H564*Sheet2!$B$3+I564*Sheet2!$C$3+J564*Sheet2!$D$3+K564*Sheet2!$E$3+L564*Sheet2!$F$3","v":0}]
[561,{"$nulls":11},{"$f":"G565*Sheet2!$A$3+H565*Sheet2!$B$3+I565*Sheet2!$C$3+J565*Sheet2!$D$3+K565*Sheet2!$E$3+L565*Sheet2!$F$3","v":0}]
[562,{"$nulls":11},{"$f":"G566*Sheet2!$A$3+H566*Sheet2!$B$3+I566*Sheet2!$C$3+J566*Sheet2!$D$3+K566*Sheet2!$E$3+L566*Sheet2!$F$3","v":0}]
[563,{"$nulls":11},{"$f":"G567*Sheet2!$A$3+H567*Sheet2!$B$3+I567*Sheet2!$C$3+J567*Sheet2!$D$3+K567*Sheet2!$E$3+L567*Sheet2!$F$3","v":0}]
[564,{"$nulls":11},{"$f":"G568*Sheet2!$A$3+H568*Sheet2!$B$3+I568*Sheet2!$C$3+J568*Sheet2!$D$3+K568*Sheet2!$E$3+L568*Sheet2!$F$3","v":0}]
[565,{"$nulls":11},{"$f":"G569*Sheet2!$A$3+H569*Sheet2!$B$3+I569*Sheet2!$C$3+J569*Sheet2!$D$3+K569*Sheet2!$E$3+L569*Sheet2!$F$3","v":0}]
[566,{"$nulls":11},{"$f":"G570*Sheet2!$A$3+H570*Sheet2!$B$3+I570*Sheet2!$C$3+J570*Sheet2!$D$3+K570*Sheet2!$E$3+L570*Sheet2!$F$3","v":0}]
[567,{"$nulls":11},{"$f":"G571*Sheet2!$A$3+H571*Sheet2!$B$3+I571*Sheet2!$C$3+J571*Sheet2!$D$3+K571*Sheet2!$E$3+L571*Sheet2!$F$3","v":0}]
[568,{"$nulls":11},{"$f":"G572*Sheet2!$A$3+H572*Sheet2!$B$3+I572*Sheet2!$C$3+J572*Sheet2!$D$3+K572*Sheet2!$E$3+L572*Sheet2!$F$3","v":0}]
[569,{"$nulls":11},{"$f":"G573*Sheet2!$A$3+H573*Sheet2!$B$3+I573*Sheet2!$C$3+J573*Sheet2!$D$3+K573*Sheet2!$E$3+L573*Sheet2!$F$3","v":0}]
[570,{"$nulls":11},{"$f":"G574*Sheet2!$A$3+H574*Sheet2!$B$3+I574*Sheet2!$C$3+J574*Sheet2!$D$3+K574*Sheet2!$E$3+L574*Sheet2!$F$3","v":0}]
[571,{"$nulls":11},{"$f":"G575*Sheet2!$A$3+H575*Sheet2!$B$3+I575*Sheet2!$C$3+J575*Sheet2!$D$3+K575*Sheet2!$E$3+L575*Sheet2!$F$3","v":0}]
[572,{"$nulls":11},{"$f":"G576*Sheet2!$A$3+H576*Sheet2!$B$3+I576*Sheet2!$C$3+J576*Sheet2!$D$3+K576*Sheet2!$E$3+L576*Sheet2!$F$3","v":0}]
[573,{"$nulls":11},{"$f":"G577*Sheet2!$A$3+H577*Sheet2!$B$3+I577*Sheet2!$C$3+J577*Sheet2!$D$3+K577*Sheet2!$E$3+L577*Sheet2!$F$3","v":0}]
[574,{"$nulls":11},{"$f":"G578*Sheet2!$A$3+H578*Sheet2!$B$3+I578*Sheet2!$C$3+J578*Sheet2!$D$3+K578*Sheet2!$E$3+L578*Sheet2!$F$3","v":0}]
[575,{"$nulls":11},{"$f":"G579*Sheet2!$A$3+H579*Sheet2!$B$3+I579*Sheet2!$C$3+J579*Sheet2!$D$3+K579*Sheet2!$E$3+L579*Sheet2!$F$3","v":0}]
[576,{"$nulls":11},{"$f":"G580*Sheet2!$A$3+H580*Sheet2!$B$3+I580*Sheet2!$C$3+J580*Sheet2!$D$3+K580*Sheet2!$E$3+L580*Sheet2!$F$3","v":0}]
[577,{"$nulls":11},{"$f":"G581*Sheet2!$A$3+H581*Sheet2!$B$3+I581*Sheet2!$C$3+J581*Sheet2!$D$3+K581*Sheet2!$E$3+L581*Sheet2!$F$3","v":0}]
[578,{"$nulls":11},{"$f":"G582*Sheet2!$A$3+H582*Sheet2!$B$3+I582*Sheet2!$C$3+J582*Sheet2!$D$3+K582*Sheet2!$E$3+L582*Sheet2!$F$3","v":0}]
[579,{"$nulls":11},{"$f":"G583*Sheet2!$A$3+H583*Sheet2!$B$3+I583*Sheet2!$C$3+J583*Sheet2!$D$3+K583*Sheet2!$E$3+L583*Sheet2!$F$3","v":0}]
[580,{"$nulls":11},{"$f":"G584*Sheet2!$A$3+H584*Sheet2!$B$3+I584*Sheet2!$C$3+J584*Sheet2!$D$3+K584*Sheet2!$E$3+L584*Sheet2!$F$3","v":0}]
[581,{"$nulls":11},{"$f":"G585*Sheet2!$A$3+H585*Sheet2!$B$3+I585*Sheet2!$C$3+J585*Sheet2!$D$3+K585*Sheet2!$E$3+L585*Sheet2!$F$3","v":0}]
[582,{"$nulls":11},{"$f":"G586*Sheet2!$A$3+H586*Sheet2!$B$3+I586*Sheet2!$C$3+J586*Sheet2!$D$3+K586*Sheet2!$E$3+L586*Sheet2!$F$3","v":0}]
[583,{"$nulls":11},{"$f":"G587*Sheet2!$A$3+H587*Sheet2!$B$3+I587*Sheet2!$C$3+J587*Sheet2!$D$3+K587*Sheet2!$E$3+L587*Sheet2!$F$3","v":0}]
[584,{"$nulls":11},{"$f":"G588*Sheet2!$A$3+H588*Sheet2!$B$3+I588*Sheet2!$C$3+J588*Sheet2!$D$3+K588*Sheet2!$E$3+L588*Sheet2!$F$3","v":0}]
[585,{"$nulls":11},{"$f":"G589*Sheet2!$A$3+H589*Sheet2!$B$3+I589*Sheet2!$C$3+J589*Sheet2!$D$3+K589*Sheet2!$E$3+L589*Sheet2!$F$3","v":0}]
[586,{"$nulls":11},{"$f":"G590*Sheet2!$A$3+H590*Sheet2!$B$3+I590*Sheet2!$C$3+J590*Sheet2!$D$3+K590*Sheet2!$E$3+L590*Sheet2!$F$3","v":0}]
[587,{"$nulls":11},{"$f":"G591*Sheet2!$A$3+H591*Sheet2!$B$3+I591*Sheet2!$C$3+J591*Sheet2!$D$3+K591*Sheet2!$E$3+L591*Sheet2!$F$3","v":0}]
[588,{"$nulls":11},{"$f":"G592*Sheet2!$A$3+H592*Sheet2!$B$3+I592*Sheet2!$C$3+J592*Sheet2!$D$3+K592*Sheet2!$E$3+L592*Sheet2!$F$3","v":0}]
[589,{"$nulls":11},{"$f":"G593*Sheet2!$A$3+H593*Sheet2!$B$3+I593*Sheet2!$C$3+J593*Sheet2!$D$3+K593*Sheet2!$E$3+L593*Sheet2!$F$3","v":0}]
[590,{"$nulls":11},{"$f":"G594*Sheet2!$A$3+H594*Sheet2!$B$3+I594*Sheet2!$C$3+J594*Sheet2!$D$3+K594*Sheet2!$E$3+L594*Sheet2!$F$3","v":0}]
[591,{"$nulls":11},{"$f":"G595*Sheet2!$A$3+H595*Sheet2!$B$3+I595*Sheet2!$C$3+J595*Sheet2!$D$3+K595*Sheet2!$E$3+L595*Sheet2!$F$3","v":0}]
[592,{"$nulls":11},{"$f":"G596*Sheet2!$A$3+H596*Sheet2!$B$3+I596*Sheet2!$C$3+J596*Sheet2!$D$3+K596*Sheet2!$E$3+L596*Sheet2!$F$3","v":0}]
[593,{"$nulls":11},{"$f":"G597*Sheet2!$A$3+H597*Sheet2!$B$3+I597*Sheet2!$C$3+J597*Sheet2!$D$3+K597*Sheet2!$E$3+L597*Sheet2!$F$3","v":0}]
[594,{"$nulls":11},{"$f":"G598*Sheet2!$A$3+H598*Sheet2!$B$3+I598*Sheet2!$C$3+J598*Sheet2!$D$3+K598*Sheet2!$E$3+L598*Sheet2!$F$3","v":0}]
[595,{"$nulls":11},{"$f":"G599*Sheet2!$A$3+H599*Sheet2!$B$3+I599*Sheet2!$C$3+J599*Sheet2!$D$3+K599*Sheet2!$E$3+L599*Sheet2!$F$3","v":0}]
[596,{"$nulls":11},{"$f":"G600*Sheet2!$A$3+H600*Sheet2!$B$3+I600*Sheet2!$C$3+J600*Sheet2!$D$3+K600*Sheet2!$E$3+L600*Sheet2!$F$3","v":0}]
[597,{"$nulls":11},{"$f":"G601*Sheet2!$A$3+H601*Sheet2!$B$3+I601*Sheet2!$C$3+J601*Sheet2!$D$3+K601*Sheet2!$E$3+L601*Sheet2!$F$3","v":0}]
[598,{"$nulls":11},{"$f":"G602*Sheet2!$A$3+H602*Sheet2!$B$3+I602*Sheet2!$C$3+J602*Sheet2!$D$3+K602*Sheet2!$E$3+L602*Sheet2!$F$3","v":0}]
[599,{"$nulls":11},{"$f":"G603*Sheet2!$A$3+H603*Sheet2!$B$3+I603*Sheet2!$C$3+J603*Sheet2!$D$3+K603*Sheet2!$E$3+L603*Sheet2!$F$3","v":0}]
[600,{"$nulls":11},{"$f":"G604*Sheet2!$A$3+H604*Sheet2!$B$3+I604*Sheet2!$C$3+J604*Sheet2!$D$3+K604*Sheet2!$E$3+L604*Sheet2!$F$3","v":0}]
[601,{"$nulls":11},{"$f":"G605*Sheet2!$A$3+H605*Sheet2!$B$3+I605*Sheet2!$C$3+J605*Sheet2!$D$3+K605*Sheet2!$E$3+L605*Sheet2!$F$3","v":0}]
[602,{"$nulls":11},{"$f":"G606*Sheet2!$A$3+H606*Sheet2!$B$3+I606*Sheet2!$C$3+J606*Sheet2!$D$3+K606*Sheet2!$E$3+L606*Sheet2!$F$3","v":0}]
[603,{"$nulls":11},{"$f":"G607*Sheet2!$A$3+H607*Sheet2!$B$3+I607*Sheet2!$C$3+J607*Sheet2!$D$3+K607*Sheet2!$E$3+L607*Sheet2!$F$3","v":0}]
[604,{"$nulls":11},{"$f":"G608*Sheet2!$A$3+H608*Sheet2!$B$3+I608*Sheet2!$C$3+J608*Sheet2!$D$3+K608*Sheet2!$E$3+L608*Sheet2!$F$3","v":0}]
[605,{"$nulls":11},{"$f":"G609*Sheet2!$A$3+H609*Sheet2!$B$3+I609*Sheet2!$C$3+J609*Sheet2!$D$3+K609*Sheet2!$E$3+L609*Sheet2!$F$3","v":0}]
[606,{"$nulls":11},{"$f":"G610*Sheet2!$A$3+H610*Sheet2!$B$3+I610*Sheet2!$C$3+J610*Sheet2!$D$3+K610*Sheet2!$E$3+L610*Sheet2!$F$3","v":0}]
[607,{"$nulls":11},{"$f":"G611*Sheet2!$A$3+H611*Sheet2!$B$3+I611*Sheet2!$C$3+J611*Sheet2!$D$3+K611*Sheet2!$E$3+L611*Sheet2!$F$3","v":0}]
[608,{"$nulls":11},{"$f":"G612*Sheet2!$A$3+H612*Sheet2!$B$3+I612*Sheet2!$C$3+J612*Sheet2!$D$3+K612*Sheet2!$E$3+L612*Sheet2!$F$3","v":0}]
[609,{"$nulls":11},{"$f":"G613*Sheet2!$A$3+H613*Sheet2!$B$3+I613*Sheet2!$C$3+J613*Sheet2!$D$3+K613*Sheet2!$E$3+L613*Sheet2!$F$3","v":0}]
[610,{"$nulls":11},{"$f":"G614*Sheet2!$A$3+H614*Sheet2!$B$3+I614*Sheet2!$C$3+J614*Sheet2!$D$3+K614*Sheet2!$E$3+L614*Sheet2!$F$3","v":0}]
[611,{"$nulls":11},{"$f":"G615*Sheet2!$A$3+H615*Sheet2!$B$3+I615*Sheet2!$C$3+J615*Sheet2!$D$3+K615*Sheet2!$E$3+L615*Sheet2!$F$3","v":0}]
[612,{"$nulls":11},{"$f":"G616*Sheet2!$A$3+H616*Sheet2!$B$3+I616*Sheet2!$C$3+J616*Sheet2!$D$3+K616*Sheet2!$E$3+L616*Sheet2!$F$3","v":0}]
[613,{"$nulls":11},{"$f":"G617*Sheet2!$A$3+H617*Sheet2!$B$3+I617*Sheet2!$C$3+J617*Sheet2!$D$3+K617*Sheet2!$E$3+L617*Sheet2!$F$3","v":0}]
[614,{"$nulls":11},{"$f":"G618*Sheet2!$A$3+H618*Sheet2!$B$3+I618*Sheet2!$C$3+J618*Sheet2!$D$3+K618*Sheet2!$E$3+L618*Sheet2!$F$3","v":0}]
[615,{"$nulls":11},{"$f":"G619*Sheet2!$A$3+H619*Sheet2!$B$3+I619*Sheet2!$C$3+J619*Sheet2!$D$3+K619*Sheet2!$E$3+L619*Sheet2!$F$3","v":0}]
[616,{"$nulls":11},{"$f":"G620*Sheet2!$A$3+H620*Sheet2!$B$3+I620*Sheet2!$C$3+J620*Sheet2!$D$3+K620*Sheet2!$E$3+L620*Sheet2!$F$3","v":0}]
[617,{"$nulls":11},{"$f":"G621*Sheet2!$A$3+H621*Sheet2!$B$3+I621*Sheet2!$C$3+J621*Sheet2!$D$3+K621*Sheet2!$E$3+L621*Sheet2!$F$3","v":0}]
[618,{"$nulls":11},{"$f":"G622*Sheet2!$A$3+H622*Sheet2!$B$3+I622*Sheet2!$C$3+J622*Sheet2!$D$3+K622*Sheet2!$E$3+L622*Sheet2!$F$3","v":0}]
[619,{"$nulls":11},{"$f":"G623*Sheet2!$A$3+H623*Sheet2!$B$3+I623*Sheet2!$C$3+J623*Sheet2!$D$3+K623*Sheet2!$E$3+L623*Sheet2!$F$3","v":0}]
[620,{"$nulls":11},{"$f":"G624*Sheet2!$A$3+H624*Sheet2!$B$3+I624*Sheet2!$C$3+J624*Sheet2!$D$3+K624*Sheet2!$E$3+L624*Sheet2!$F$3","v":0}]
[621,{"$nulls":11},{"$f":"G625*Sheet2!$A$3+H625*Sheet2!$B$3+I625*Sheet2!$C$3+J625*Sheet2!$D$3+K625*Sheet2!$E$3+L625*Sheet2!$F$3","v":0}]
[622,{"$nulls":11},{"$f":"G626*Sheet2!$A$3+H626*Sheet2!$B$3+I626*Sheet2!$C$3+J626*Sheet2!$D$3+K626*Sheet2!$E$3+L626*Sheet2!$F$3","v":0}]
[623,{"$nulls":11},{"$f":"G627*Sheet2!$A$3+H627*Sheet2!$B$3+I627*Sheet2!$C$3+J627*Sheet2!$D$3+K627*Sheet2!$E$3+L627*Sheet2!$F$3","v":0}]
[624,{"$nulls":11},{"$f":"G628*Sheet2!$A$3+H628*Sheet2!$B$3+I628*Sheet2!$C$3+J628*Sheet2!$D$3+K628*Sheet2!$E$3+L628*Sheet2!$F$3","v":0}]
[625,{"$nulls":11},{"$f":"G629*Sheet2!$A$3+H629*Sheet2!$B$3+I629*Sheet2!$C$3+J629*Sheet2!$D$3+K629*Sheet2!$E$3+L629*Sheet2!$F$3","v":0}]
[626,{"$nulls":11},{"$f":"G630*Sheet2!$A$3+H630*Sheet2!$B$3+I630*Sheet2!$C$3+J630*Sheet2!$D$3+K630*Sheet2!$E$3+L630*Sheet2!$F$3","v":0}]
[627,{"$nulls":11},{"$f":"G631*Sheet2!$A$3+H631*Sheet2!$B$3+I631*Sheet2!$C$3+J631*Sheet2!$D$3+K631*Sheet2!$E$3+L631*Sheet2!$F$3","v":0}]
[628,{"$nulls":11},{"$f":"G632*Sheet2!$A$3+H632*Sheet2!$B$3+I632*Sheet2!$C$3+J632*Sheet2!$D$3+K632*Sheet2!$E$3+L632*Sheet2!$F$3","v":0}]
[629,{"$nulls":11},{"$f":"G633*Sheet2!$A$3+H633*Sheet2!$B$3+I633*Sheet2!$C$3+J633*Sheet2!$D$3+K633*Sheet2!$E$3+L633*Sheet2!$F$3","v":0}]
[630,{"$nulls":11},{"$f":"G634*Sheet2!$A$3+H634*Sheet2!$B$3+I634*Sheet2!$C$3+J634*Sheet2!$D$3+K634*Sheet2!$E$3+L634*Sheet2!$F$3","v":0}]
[631,{"$nulls":11},{"$f":"G635*Sheet2!$A$3+H635*Sheet2!$B$3+I635*Sheet2!$C$3+J635*Sheet2!$D$3+K635*Sheet2!$E$3+L635*Sheet2!$F$3","v":0}]
[632,{"$nulls":11},{"$f":"G636*Sheet2!$A$3+H636*Sheet2!$B$3+I636*Sheet2!$C$3+J636*Sheet2!$D$3+K636*Sheet2!$E$3+L636*Sheet2!$F$3","v":0}]
[633,{"$nulls":11},{"$f":"G637*Sheet2!$A$3+H637*Sheet2!$B$3+I637*Sheet2!$C$3+J637*Sheet2!$D$3+K637*Sheet2!$E$3+L637*Sheet2!$F$3","v":0}]
[634,{"$nulls":11},{"$f":"G638*Sheet2!$A$3+H638*Sheet2!$B$3+I638*Sheet2!$C$3+J638*Sheet2!$D$3+K638*Sheet2!$E$3+L638*Sheet2!$F$3","v":0}]
[635,{"$nulls":11},{"$f":"G639*Sheet2!$A$3+H639*Sheet2!$B$3+I639*Sheet2!$C$3+J639*Sheet2!$D$3+K639*Sheet2!$E$3+L639*Sheet2!$F$3","v":0}]
[636,{"$nulls":11},{"$f":"G640*Sheet2!$A$3+H640*Sheet2!$B$3+I640*Sheet2!$C$3+J640*Sheet2!$D$3+K640*Sheet2!$E$3+L640*Sheet2!$F$3","v":0}]
[637,{"$nulls":11},{"$f":"G641*Sheet2!$A$3+H641*Sheet2!$B$3+I641*Sheet2!$C$3+J641*Sheet2!$D$3+K641*Sheet2!$E$3+L641*Sheet2!$F$3","v":0}]
[638,{"$nulls":11},{"$f":"G642*Sheet2!$A$3+H642*Sheet2!$B$3+I642*Sheet2!$C$3+J642*Sheet2!$D$3+K642*Sheet2!$E$3+L642*Sheet2!$F$3","v":0}]
[639,{"$nulls":11},{"$f":"G643*Sheet2!$A$3+H643*Sheet2!$B$3+I643*Sheet2!$C$3+J643*Sheet2!$D$3+K643*Sheet2!$E$3+L643*Sheet2!$F$3","v":0}]
[640,{"$nulls":11},{"$f":"G644*Sheet2!$A$3+H644*Sheet2!$B$3+I644*Sheet2!$C$3+J644*Sheet2!$D$3+K644*Sheet2!$E$3+L644*Sheet2!$F$3","v":0}]
[641,{"$nulls":11},{"$f":"G645*Sheet2!$A$3+H645*Sheet2!$B$3+I645*Sheet2!$C$3+J645*Sheet2!$D$3+K645*Sheet2!$E$3+L645*Sheet2!$F$3","v":0}]
[642,{"$nulls":11},{"$f":"G646*Sheet2!$A$3+H646*Sheet2!$B$3+I646*Sheet2!$C$3+J646*Sheet2!$D$3+K646*Sheet2!$E$3+L646*Sheet2!$F$3","v":0}]
[643,{"$nulls":11},{"$f":"G647*Sheet2!$A$3+H647*Sheet2!$B$3+I647*Sheet2!$C$3+J647*Sheet2!$D$3+K647*Sheet2!$E$3+L647*Sheet2!$F$3","v":0}]
[644,{"$nulls":11},{"$f":"G648*Sheet2!$A$3+H648*Sheet2!$B$3+I648*Sheet2!$C$3+J648*Sheet2!$D$3+K648*Sheet2!$E$3+L648*Sheet2!$F$3","v":0}]
[645,{"$nulls":11},{"$f":"G649*Sheet2!$A$3+H649*Sheet2!$B$3+I649*Sheet2!$C$3+J649*Sheet2!$D$3+K649*Sheet2!$E$3+L649*Sheet2!$F$3","v":0}]
[646,{"$nulls":11},{"$f":"G650*Sheet2!$A$3+H650*Sheet2!$B$3+I650*Sheet2!$C$3+J650*Sheet2!$D$3+K650*Sheet2!$E$3+L650*Sheet2!$F$3","v":0}]
[647,{"$nulls":11},{"$f":"G651*Sheet2!$A$3+H651*Sheet2!$B$3+I651*Sheet2!$C$3+J651*Sheet2!$D$3+K651*Sheet2!$E$3+L651*Sheet2!$F$3","v":0}]
[648,{"$nulls":11},{"$f":"G652*Sheet2!$A$3+H652*Sheet2!$B$3+I652*Sheet2!$C$3+J652*Sheet2!$D$3+K652*Sheet2!$E$3+L652*Sheet2!$F$3","v":0}]
[649,{"$nulls":11},{"$f":"G653*Sheet2!$A$3+H653*Sheet2!$B$3+I653*Sheet2!$C$3+J653*Sheet2!$D$3+K653*Sheet2!$E$3+L653*Sheet2!$F$3","v":0}]
[650,{"$nulls":11},{"$f":"G654*Sheet2!$A$3+H654*Sheet2!$B$3+I654*Sheet2!$C$3+J654*Sheet2!$D$3+K654*Sheet2!$E$3+L654*Sheet2!$F$3","v":0}]
[651,{"$nulls":11},{"$f":"G655*Sheet2!$A$3+H655*Sheet2!$B$3+I655*Sheet2!$C$3+J655*Sheet2!$D$3+K655*Sheet2!$E$3+L655*Sheet2!$F$3","v":0}]
[652,{"$nulls":11},{"$f":"G656*Sheet2!$A$3+H656*Sheet2!$B$3+I656*Sheet2!$C$3+J656*Sheet2!$D$3+K656*Sheet2!$E$3+L656*Sheet2!$F$3","v":0}]
[653,{"$nulls":11},{"$f":"G657*Sheet2!$A$3+H657*Sheet2!$B$3+I657*Sheet2!$C$3+J657*Sheet2!$D$3+K657*Sheet2!$E$3+L657*Sheet2!$F$3","v":0}]
[654,{"$nulls":11},{"$f":"G658*Sheet2!$A$3+H658*Sheet2!$B$3+I658*Sheet2!$C$3+J658*Sheet2!$D$3+K658*Sheet2!$E$3+L658*Sheet2!$F$3","v":0}]
[655,{"$nulls":11},{"$f":"G659*Sheet2!$A$3+H659*Sheet2!$B$3+I659*Sheet2!$C$3+J659*Sheet2!$D$3+K659*Sheet2!$E$3+L659*Sheet2!$F$3","v":0}]
[656,{"$nulls":11},{"$f":"G660*Sheet2!$A$3+H660*Sheet2!$B$3+I660*Sheet2!$C$3+J660*Sheet2!$D$3+K660*Sheet2!$E$3+L660*Sheet2!$F$3","v":0}]
[657,{"$nulls":11},{"$f":"G661*Sheet2!$A$3+H661*Sheet2!$B$3+I661*Sheet2!$C$3+J661*Sheet2!$D$3+K661*Sheet2!$E$3+L661*Sheet2!$F$3","v":0}]
[658,{"$nulls":11},{"$f":"G662*Sheet2!$A$3+H662*Sheet2!$B$3+I662*Sheet2!$C$3+J662*Sheet2!$D$3+K662*Sheet2!$E$3+L662*Sheet2!$F$3","v":0}]
[659,{"$nulls":11},{"$f":"G663*Sheet2!$A$3+H663*Sheet2!$B$3+I663*Sheet2!$C$3+J663*Sheet2!$D$3+K663*Sheet2!$E$3+L663*Sheet2!$F$3","v":0}]
[660,{"$nulls":11},{"$f":"G664*Sheet2!$A$3+H664*Sheet2!$B$3+I664*Sheet2!$C$3+J664*Sheet2!$D$3+K664*Sheet2!$E$3+L664*Sheet2!$F$3","v":0}]
[661,{"$nulls":11},{"$f":"G665*Sheet2!$A$3+H665*Sheet2!$B$3+I665*Sheet2!$C$3+J665*Sheet2!$D$3+K665*Sheet2!$E$3+L665*Sheet2!$F$3","v":0}]
[662,{"$nulls":11},{"$f":"G666*Sheet2!$A$3+H666*Sheet2!$B$3+I666*Sheet2!$C$3+J666*Sheet2!$D$3+K666*Sheet2!$E$3+L666*Sheet2!$F$3","v":0}]
[663,{"$nulls":11},{"$f":"G667*Sheet2!$A$3+H667*Sheet2!$B$3+I667*Sheet2!$C$3+J667*Sheet2!$D$3+K667*Sheet2!$E$3+L667*Sheet2!$F$3","v":0}]
[664,{"$nulls":11},{"$f":"G668*Sheet2!$A$3+H668*Sheet2!$B$3+I668*Sheet2!$C$3+J668*Sheet2!$D$3+K668*Sheet2!$E$3+L668*Sheet2!$F$3","v":0}]
[665,{"$nulls":11},{"$f":"G669*Sheet2!$A$3+H669*Sheet2!$B$3+I669*Sheet2!$C$3+J669*Sheet2!$D$3+K669*Sheet2!$E$3+L669*Sheet2!$F$3","v":0}]
[666,{"$nulls":11},{"$f":"G670*Sheet2!$A$3+H670*Sheet2!$B$3+I670*Sheet2!$C$3+J670*Sheet2!$D$3+K670*Sheet2!$E$3+L670*Sheet2!$F$3","v":0}]
[667,{"$nulls":11},{"$f":"G671*Sheet2!$A$3+H671*Sheet2!$B$3+I671*Sheet2!$C$3+J671*Sheet2!$D$3+K671*Sheet2!$E$3+L671*Sheet2!$F$3","v":0}]
[668,{"$nulls":11},{"$f":"G672*Sheet2!$A$3+H672*Sheet2!$B$3+I672*Sheet2!$C$3+J672*Sheet2!$D$3+K672*Sheet2!$E$3+L672*Sheet2!$F$3","v":0}]
[669,{"$nulls":11},{"$f":"G673*Sheet2!$A$3+H673*Sheet2!$B$3+I673*Sheet2!$C$3+J673*Sheet2!$D$3+K673*Sheet2!$E$3+L673*Sheet2!$F$3","v":0}]
[670,{"$nulls":11},{"$f":"G674*Sheet2!$A$3+H674*Sheet2!$B$3+I674*Sheet2!$C$3+J674*Sheet2!$D$3+K674*Sheet2!$E$3+L674*Sheet2!$F$3","v":0}]
[671,{"$nulls":11},{"$f":"G675*Sheet2!$A$3+H675*Sheet2!$B$3+I675*Sheet2!$C$3+J675*Sheet2!$D$3+K675*Sheet2!$E$3+L675*Sheet2!$F$3","v":0}]
[672,{"$nulls":11},{"$f":"G676*Sheet2!$A$3+H676*Sheet2!$B$3+I676*Sheet2!$C$3+J676*Sheet2!$D$3+K676*Sheet2!$E$3+L676*Sheet2!$F$3","v":0}]
[673,{"$nulls":11},{"$f":"G677*Sheet2!$A$3+H677*Sheet2!$B$3+I677*Sheet2!$C$3+J677*Sheet2!$D$3+K677*Sheet2!$E$3+L677*Sheet2!$F$3","v":0}]
[674,{"$nulls":11},{"$f":"G678*Sheet2!$A$3+H678*Sheet2!$B$3+I678*Sheet2!$C$3+J678*Sheet2!$D$3+K678*Sheet2!$E$3+L678*Sheet2!$F$3","v":0}]
[675,{"$nulls":11},{"$f":"G679*Sheet2!$A$3+H679*Sheet2!$B$3+I679*Sheet2!$C$3+J679*Sheet2!$D$3+K679*Sheet2!$E$3+L679*Sheet2!$F$3","v":0}]
[676,{"$nulls":11},{"$f":"G680*Sheet2!$A$3+H680*Sheet2!$B$3+I680*Sheet2!$C$3+J680*Sheet2!$D$3+K680*Sheet2!$E$3+L680*Sheet2!$F$3","v":0}]
[677,{"$nulls":11},{"$f":"G681*Sheet2!$A$3+H681*Sheet2!$B$3+I681*Sheet2!$C$3+J681*Sheet2!$D$3+K681*Sheet2!$E$3+L681*Sheet2!$F$3","v":0}]
[678,{"$nulls":11},{"$f":"G682*Sheet2!$A$3+H682*Sheet2!$B$3+I682*Sheet2!$C$3+J682*Sheet2!$D$3+K682*Sheet2!$E$3+L682*Sheet2!$F$3","v":0}]
[679,{"$nulls":11},{"$f":"G683*Sheet2!$A$3+H683*Sheet2!$B$3+I683*Sheet2!$C$3+J683*Sheet2!$D$3+K683*Sheet2!$E$3+L683*Sheet2!$F$3","v":0}]
[680,{"$nulls":11},{"$f":"G684*Sheet2!$A$3+H684*Sheet2!$B$3+I684*Sheet2!$C$3+J684*Sheet2!$D$3+K684*Sheet2!$E$3+L684*Sheet2!$F$3","v":0}]
[681,{"$nulls":11},{"$f":"G685*Sheet2!$A$3+H685*Sheet2!$B$3+I685*Sheet2!$C$3+J685*Sheet2!$D$3+K685*Sheet2!$E$3+L685*Sheet2!$F$3","v":0}]
[682,{"$nulls":11},{"$f":"G686*Sheet2!$A$3+H686*Sheet2!$B$3+I686*Sheet2!$C$3+J686*Sheet2!$D$3+K686*Sheet2!$E$3+L686*Sheet2!$F$3","v":0}]
[683,{"$nulls":11},{"$f":"G687*Sheet2!$A$3+H687*Sheet2!$B$3+I687*Sheet2!$C$3+J687*Sheet2!$D$3+K687*Sheet2!$E$3+L687*Sheet2!$F$3","v":0}]
[684,{"$nulls":11},{"$f":"G688*Sheet2!$A$3+H688*Sheet2!$B$3+I688*Sheet2!$C$3+J688*Sheet2!$D$3+K688*Sheet2!$E$3+L688*Sheet2!$F$3","v":0}]
[685,{"$nulls":11},{"$f":"G689*Sheet2!$A$3+H689*Sheet2!$B$3+I689*Sheet2!$C$3+J689*Sheet2!$D$3+K689*Sheet2!$E$3+L689*Sheet2!$F$3","v":0}]
[686,{"$nulls":11},{"$f":"G690*Sheet2!$A$3+H690*Sheet2!$B$3+I690*Sheet2!$C$3+J690*Sheet2!$D$3+K690*Sheet2!$E$3+L690*Sheet2!$F$3","v":0}]
[687,{"$nulls":11},{"$f":"G691*Sheet2!$A$3+H691*Sheet2!$B$3+I691*Sheet2!$C$3+J691*Sheet2!$D$3+K691*Sheet2!$E$3+L691*Sheet2!$F$3","v":0}]
[688,{"$nulls":11},{"$f":"G692*Sheet2!$A$3+H692*Sheet2!$B$3+I692*Sheet2!$C$3+J692*Sheet2!$D$3+K692*Sheet2!$E$3+L692*Sheet2!$F$3","v":0}]
[689,{"$nulls":11},{"$f":"G693*Sheet2!$A$3+H693*Sheet2!$B$3+I693*Sheet2!$C$3+J693*Sheet2!$D$3+K693*Sheet2!$E$3+L693*Sheet2!$F$3","v":0}]
[690,{"$nulls":11},{"$f":"G694*Sheet2!$A$3+H694*Sheet2!$B$3+I694*Sheet2!$C$3+J694*Sheet2!$D$3+K694*Sheet2!$E$3+L694*Sheet2!$F$3","v":0}]
[691,{"$nulls":11},{"$f":"G695*Sheet2!$A$3+H695*Sheet2!$B$3+I695*Sheet2!$C$3+J695*Sheet2!$D$3+K695*Sheet2!$E$3+L695*Sheet2!$F$3","v":0}]
[692,{"$nulls":11},{"$f":"G696*Sheet2!$A$3+H696*Sheet2!$B$3+I696*Sheet2!$C$3+J696*Sheet2!$D$3+K696*Sheet2!$E$3+L696*Sheet2!$F$3","v":0}]
[693,{"$nulls":11},{"$f":"G697*Sheet2!$A$3+H697*Sheet2!$B$3+I697*Sheet2!$C$3+J697*Sheet2!$D$3+K697*Sheet2!$E$3+L697*Sheet2!$F$3","v":0}]
[694,{"$nulls":11},{"$f":"G698*Sheet2!$A$3+H698*Sheet2!$B$3+I698*Sheet2!$C$3+J698*Sheet2!$D$3+K698*Sheet2!$E$3+L698*Sheet2!$F$3","v":0}]
[695,{"$nulls":11},{"$f":"G699*Sheet2!$A$3+H699*Sheet2!$B$3+I699*Sheet2!$C$3+J699*Sheet2!$D$3+K699*Sheet2!$E$3+L699*Sheet2!$F$3","v":0}]
[696,{"$nulls":11},{"$f":"G700*Sheet2!$A$3+H700*Sheet2!$B$3+I700*Sheet2!$C$3+J700*Sheet2!$D$3+K700*Sheet2!$E$3+L700*Sheet2!$F$3","v":0}]
[697,{"$nulls":11},{"$f":"G701*Sheet2!$A$3+H701*Sheet2!$B$3+I701*Sheet2!$C$3+J701*Sheet2!$D$3+K701*Sheet2!$E$3+L701*Sheet2!$F$3","v":0}]
[698,{"$nulls":11},{"$f":"G702*Sheet2!$A$3+H702*Sheet2!$B$3+I702*Sheet2!$C$3+J702*Sheet2!$D$3+K702*Sheet2!$E$3+L702*Sheet2!$F$3","v":0}]
[699,{"$nulls":11},{"$f":"G703*Sheet2!$A$3+H703*Sheet2!$B$3+I703*Sheet2!$C$3+J703*Sheet2!$D$3+K703*Sheet2!$E$3+L703*Sheet2!$F$3","v":0}]
[700,{"$nulls":11},{"$f":"G704*Sheet2!$A$3+H704*Sheet2!$B$3+I704*Sheet2!$C$3+J704*Sheet2!$D$3+K704*Sheet2!$E$3+L704*Sheet2!$F$3","v":0}]
[701,{"$nulls":11},{"$f":"G705*Sheet2!$A$3+H705*Sheet2!$B$3+I705*Sheet2!$C$3+J705*Sheet2!$D$3+K705*Sheet2!$E$3+L705*Sheet2!$F$3","v":0}]
[702,{"$nulls":11},{"$f":"G706*Sheet2!$A$3+H706*Sheet2!$B$3+I706*Sheet2!$C$3+J706*Sheet2!$D$3+K706*Sheet2!$E$3+L706*Sheet2!$F$3","v":0}]
[703,{"$nulls":11},{"$f":"G707*Sheet2!$A$3+H707*Sheet2!$B$3+I707*Sheet2!$C$3+J707*Sheet2!$D$3+K707*Sheet2!$E$3+L707*Sheet2!$F$3","v":0}]
[704,{"$nulls":11},{"$f":"G708*Sheet2!$A$3+H708*Sheet2!$B$3+I708*Sheet2!$C$3+J708*Sheet2!$D$3+K708*Sheet2!$E$3+L708*Sheet2!$F$3","v":0}]
[705,{"$nulls":11},{"$f":"G709*Sheet2!$A$3+H709*Sheet2!$B$3+I709*Sheet2!$C$3+J709*Sheet2!$D$3+K709*Sheet2!$E$3+L709*Sheet2!$F$3","v":0}]
[706,{"$nulls":11},{"$f":"G710*Sheet2!$A$3+H710*Sheet2!$B$3+I710*Sheet2!$C$3+J710*Sheet2!$D$3+K710*Sheet2!$E$3+L710*Sheet2!$F$3","v":0}]
[707,{"$nulls":11},{"$f":"G711*Sheet2!$A$3+H711*Sheet2!$B$3+I711*Sheet2!$C$3+J711*Sheet2!$D$3+K711*Sheet2!$E$3+L711*Sheet2!$F$3","v":0}]
[708,{"$nulls":11},{"$f":"G712*Sheet2!$A$3+H712*Sheet2!$B$3+I712*Sheet2!$C$3+J712*Sheet2!$D$3+K712*Sheet2!$E$3+L712*Sheet2!$F$3","v":0}]
[709,{"$nulls":11},{"$f":"G713*Sheet2!$A$3+H713*Sheet2!$B$3+I713*Sheet2!$C$3+J713*Sheet2!$D$3+K713*Sheet2!$E$3+L713*Sheet2!$F$3","v":0}]
[710,{"$nulls":11},{"$f":"G714*Sheet2!$A$3+H714*Sheet2!$B$3+I714*Sheet2!$C$3+J714*Sheet2!$D$3+K714*Sheet2!$E$3+L714*Sheet2!$F$3","v":0}]
[711,{"$nulls":11},{"$f":"G715*Sheet2!$A$3+H715*Sheet2!$B$3+I715*Sheet2!$C$3+J715*Sheet2!$D$3+K715*Sheet2!$E$3+L715*Sheet2!$F$3","v":0}]
[712,{"$nulls":11},{"$f":"G716*Sheet2!$A$3+H716*Sheet2!$B$3+I716*Sheet2!$C$3+J716*Sheet2!$D$3+K716*Sheet2!$E$3+L716*Sheet2!$F$3","v":0}]
[713,{"$nulls":11},{"$f":"G717*Sheet2!$A$3+H717*Sheet2!$B$3+I717*Sheet2!$C$3+J717*Sheet2!$D$3+K717*Sheet2!$E$3+L717*Sheet2!$F$3","v":0}]
[714,{"$nulls":11},{"$f":"G718*Sheet2!$A$3+H718*Sheet2!$B$3+I718*Sheet2!$C$3+J718*Sheet2!$D$3+K718*Sheet2!$E$3+L718*Sheet2!$F$3","v":0}]
[715,{"$nulls":11},{"$f":"G719*Sheet2!$A$3+H719*Sheet2!$B$3+I719*Sheet2!$C$3+J719*Sheet2!$D$3+K719*Sheet2!$E$3+L719*Sheet2!$F$3","v":0}]
[716,{"$nulls":11},{"$f":"G720*Sheet2!$A$3+H720*Sheet2!$B$3+I720*Sheet2!$C$3+J720*Sheet2!$D$3+K720*Sheet2!$E$3+L720*Sheet2!$F$3","v":0}]
[717,{"$nulls":11},{"$f":"G721*Sheet2!$A$3+H721*Sheet2!$B$3+I721*Sheet2!$C$3+J721*Sheet2!$D$3+K721*Sheet2!$E$3+L721*Sheet2!$F$3","v":0}]
[718,{"$nulls":11},{"$f":"G722*Sheet2!$A$3+H722*Sheet2!$B$3+I722*Sheet2!$C$3+J722*Sheet2!$D$3+K722*Sheet2!$E$3+L722*Sheet2!$F$3","v":0}]
[719,{"$nulls":11},{"$f":"G723*Sheet2!$A$3+H723*Sheet2!$B$3+I723*Sheet2!$C$3+J723*Sheet2!$D$3+K723*Sheet2!$E$3+L723*Sheet2!$F$3","v":0}]
[720,{"$nulls":11},{"$f":"G724*Sheet2!$A$3+H724*Sheet2!$B$3+I724*Sheet2!$C$3+J724*Sheet2!$D$3+K724*Sheet2!$E$3+L724*Sheet2!$F$3","v":0}]
[721,{"$nulls":11},{"$f":"G725*Sheet2!$A$3+H725*Sheet2!$B$3+I725*Sheet2!$C$3+J725*Sheet2!$D$3+K725*Sheet2!$E$3+L725*Sheet2!$F$3","v":0}]
[722,{"$nulls":11},{"$f":"G726*Sheet2!$A$3+H726*Sheet2!$B$3+I726*Sheet2!$C$3+J726*Sheet2!$D$3+K726*Sheet2!$E$3+L726*Sheet2!$F$3","v":0}]
[723,{"$nulls":11},{"$f":"G727*Sheet2!$A$3+H727*Sheet2!$B$3+I727*Sheet2!$C$3+J727*Sheet2!$D$3+K727*Sheet2!$E$3+L727*Sheet2!$F$3","v":0}]
[724,{"$nulls":11},{"$f":"G728*Sheet2!$A$3+H728*Sheet2!$B$3+I728*Sheet2!$C$3+J728*Sheet2!$D$3+K728*Sheet2!$E$3+L728*Sheet2!$F$3","v":0}]
[725,{"$nulls":11},{"$f":"G729*Sheet2!$A$3+H729*Sheet2!$B$3+I729*Sheet2!$C$3+J729*Sheet2!$D$3+K729*Sheet2!$E$3+L729*Sheet2!$F$3","v":0}]
[726,{"$nulls":11},{"$f":"G730*Sheet2!$A$3+H730*Sheet2!$B$3+I730*Sheet2!$C$3+J730*Sheet2!$D$3+K730*Sheet2!$E$3+L730*Sheet2!$F$3","v":0}]
[727,{"$nulls":11},{"$f":"G731*Sheet2!$A$3+H731*Sheet2!$B$3+I731*Sheet2!$C$3+J731*Sheet2!$D$3+K731*Sheet2!$E$3+L731*Sheet2!$F$3","v":0}]
[728,{"$nulls":11},{"$f":"G732*Sheet2!$A$3+H732*Sheet2!$B$3+I732*Sheet2!$C$3+J732*Sheet2!$D$3+K732*Sheet2!$E$3+L732*Sheet2!$F$3","v":0}]
[729,{"$nulls":11},{"$f":"G733*Sheet2!$A$3+H733*Sheet2!$B$3+I733*Sheet2!$C$3+J733*Sheet2!$D$3+K733*Sheet2!$E$3+L733*Sheet2!$F$3","v":0}]
[730,{"$nulls":11},{"$f":"G734*Sheet2!$A$3+H734*Sheet2!$B$3+I734*Sheet2!$C$3+J734*Sheet2!$D$3+K734*Sheet2!$E$3+L734*Sheet2!$F$3","v":0}]
[731,{"$nulls":11},{"$f":"G735*Sheet2!$A$3+H735*Sheet2!$B$3+I735*Sheet2!$C$3+J735*Sheet2!$D$3+K735*Sheet2!$E$3+L735*Sheet2!$F$3","v":0}]
[732,{"$nulls":11},{"$f":"G736*Sheet2!$A$3+H736*Sheet2!$B$3+I736*Sheet2!$C$3+J736*Sheet2!$D$3+K736*Sheet2!$E$3+L736*Sheet2!$F$3","v":0}]
[733,{"$nulls":11},{"$f":"G737*Sheet2!$A$3+H737*Sheet2!$B$3+I737*Sheet2!$C$3+J737*Sheet2!$D$3+K737*Sheet2!$E$3+L737*Sheet2!$F$3","v":0}]
[734,{"$nulls":11},{"$f":"G738*Sheet2!$A$3+H738*Sheet2!$B$3+I738*Sheet2!$C$3+J738*Sheet2!$D$3+K738*Sheet2!$E$3+L738*Sheet2!$F$3","v":0}]
[735,{"$nulls":11},{"$f":"G739*Sheet2!$A$3+H739*Sheet2!$B$3+I739*Sheet2!$C$3+J739*Sheet2!$D$3+K739*Sheet2!$E$3+L739*Sheet2!$F$3","v":0}]
[736,{"$nulls":11},{"$f":"G740*Sheet2!$A$3+H740*Sheet2!$B$3+I740*Sheet2!$C$3+J740*Sheet2!$D$3+K740*Sheet2!$E$3+L740*Sheet2!$F$3","v":0}]
[737,{"$nulls":11},{"$f":"G741*Sheet2!$A$3+H741*Sheet2!$B$3+I741*Sheet2!$C$3+J741*Sheet2!$D$3+K741*Sheet2!$E$3+L741*Sheet2!$F$3","v":0}]
[738,{"$nulls":11},{"$f":"G742*Sheet2!$A$3+H742*Sheet2!$B$3+I742*Sheet2!$C$3+J742*Sheet2!$D$3+K742*Sheet2!$E$3+L742*Sheet2!$F$3","v":0}]
[739,{"$nulls":11},{"$f":"G743*Sheet2!$A$3+H743*Sheet2!$B$3+I743*Sheet2!$C$3+J743*Sheet2!$D$3+K743*Sheet2!$E$3+L743*Sheet2!$F$3","v":0}]
[740,{"$nulls":11},{"$f":"G744*Sheet2!$A$3+H744*Sheet2!$B$3+I744*Sheet2!$C$3+J744*Sheet2!$D$3+K744*Sheet2!$E$3+L744*Sheet2!$F$3","v":0}]
[741,{"$nulls":11},{"$f":"G745*Sheet2!$A$3+H745*Sheet2!$B$3+I745*Sheet2!$C$3+J745*Sheet2!$D$3+K745*Sheet2!$E$3+L745*Sheet2!$F$3","v":0}]
[742,{"$nulls":11},{"$f":"G746*Sheet2!$A$3+H746*Sheet2!$B$3+I746*Sheet2!$C$3+J746*Sheet2!$D$3+K746*Sheet2!$E$3+L746*Sheet2!$F$3","v":0}]
[743,{"$nulls":11},{"$f":"G747*Sheet2!$A$3+H747*Sheet2!$B$3+I747*Sheet2!$C$3+J747*Sheet2!$D$3+K747*Sheet2!$E$3+L747*Sheet2!$F$3","v":0}]
[744,{"$nulls":11},{"$f":"G748*Sheet2!$A$3+H748*Sheet2!$B$3+I748*Sheet2!$C$3+J748*Sheet2!$D$3+K748*Sheet2!$E$3+L748*Sheet2!$F$3","v":0}]
[745,{"$nulls":11},{"$f":"G749*Sheet2!$A$3+H749*Sheet2!$B$3+I749*Sheet2!$C$3+J749*Sheet2!$D$3+K749*Sheet2!$E$3+L749*Sheet2!$F$3","v":0}]
[746,{"$nulls":11},{"$f":"G750*Sheet2!$A$3+H750*Sheet2!$B$3+I750*Sheet2!$C$3+J750*Sheet2!$D$3+K750*Sheet2!$E$3+L750*Sheet2!$F$3","v":0}]
[747,{"$nulls":11},{"$f":"G751*Sheet2!$A$3+H751*Sheet2!$B$3+I751*Sheet2!$C$3+J751*Sheet2!$D$3+K751*Sheet2!$E$3+L751*Sheet2!$F$3","v":0}]
[748,{"$nulls":11},{"$f":"G752*Sheet2!$A$3+H752*Sheet2!$B$3+I752*Sheet2!$C$3+J752*Sheet2!$D$3+K752*Sheet2!$E$3+L752*Sheet2!$F$3","v":0}]
[749,{"$nulls":11},{"$f":"G753*Sheet2!$A$3+H753*Sheet2!$B$3+I753*Sheet2!$C$3+J753*Sheet2!$D$3+K753*Sheet2!$E$3+L753*Sheet2!$F$3","v":0}]
[750,{"$nulls":11},{"$f":"G754*Sheet2!$A$3+H754*Sheet2!$B$3+I754*Sheet2!$C$3+J754*Sheet2!$D$3+K754*Sheet2!$E$3+L754*Sheet2!$F$3","v":0}]
[751,{"$nulls":11},{"$f":"G755*Sheet2!$A$3+H755*Sheet2!$B$3+I755*Sheet2!$C$3+J755*Sheet2!$D$3+K755*Sheet2!$E$3+L755*Sheet2!$F$3","v":0}]
[752,{"$nulls":11},{"$f":"G756*Sheet2!$A$3+H756*Sheet2!$B$3+I756*Sheet2!$C$3+J756*Sheet2!$D$3+K756*Sheet2!$E$3+L756*Sheet2!$F$3","v":0}]
[753,{"$nulls":11},{"$f":"G757*Sheet2!$A$3+H757*Sheet2!$B$3+I757*Sheet2!$C$3+J757*Sheet2!$D$3+K757*Sheet2!$E$3+L757*Sheet2!$F$3","v":0}]
[754,{"$nulls":11},{"$f":"G758*Sheet2!$A$3+H758*Sheet2!$B$3+I758*Sheet2!$C$3+J758*Sheet2!$D$3+K758*Sheet2!$E$3+L758*Sheet2!$F$3","v":0}]
[755,{"$nulls":11},{"$f":"G759*Sheet2!$A$3+H759*Sheet2!$B$3+I759*Sheet2!$C$3+J759*Sheet2!$D$3+K759*Sheet2!$E$3+L759*Sheet2!$F$3","v":0}]
[756,{"$nulls":11},{"$f":"G760*Sheet2!$A$3+H760*Sheet2!$B$3+I760*Sheet2!$C$3+J760*Sheet2!$D$3+K760*Sheet2!$E$3+L760*Sheet2!$F$3","v":0}]
[757,{"$nulls":11},{"$f":"G761*Sheet2!$A$3+H761*Sheet2!$B$3+I761*Sheet2!$C$3+J761*Sheet2!$D$3+K761*Sheet2!$E$3+L761*Sheet2!$F$3","v":0}]
[758,{"$nulls":11},{"$f":"G762*Sheet2!$A$3+H762*Sheet2!$B$3+I762*Sheet2!$C$3+J762*Sheet2!$D$3+K762*Sheet2!$E$3+L762*Sheet2!$F$3","v":0}]
[759,{"$nulls":11},{"$f":"G763*Sheet2!$A$3+H763*Sheet2!$B$3+I763*Sheet2!$C$3+J763*Sheet2!$D$3+K763*Sheet2!$E$3+L763*Sheet2!$F$3","v":0}]
[760,{"$nulls":11},{"$f":"G764*Sheet2!$A$3+H764*Sheet2!$B$3+I764*Sheet2!$C$3+J764*Sheet2!$D$3+K764*Sheet2!$E$3+L764*Sheet2!$F$3","v":0}]
[761,{"$nulls":11},{"$f":"G765*Sheet2!$A$3+H765*Sheet2!$B$3+I765*Sheet2!$C$3+J765*Sheet2!$D$3+K765*Sheet2!$E$3+L765*Sheet2!$F$3","v":0}]
[762,{"$nulls":11},{"$f":"G766*Sheet2!$A$3+H766*Sheet2!$B$3+I766*Sheet2!$C$3+J766*Sheet2!$D$3+K766*Sheet2!$E$3+L766*Sheet2!$F$3","v":0}]
[763,{"$nulls":11},{"$f":"G767*Sheet2!$A$3+H767*Sheet2!$B$3+I767*Sheet2!$C$3+J767*Sheet2!$D$3+K767*Sheet2!$E$3+L767*Sheet2!$F$3","v":0}]
[764,{"$nulls":11},{"$f":"G768*Sheet2!$A$3+H768*Sheet2!$B$3+I768*Sheet2!$C$3+J768*Sheet2!$D$3+K768*Sheet2!$E$3+L768*Sheet2!$F$3","v":0}]
[765,{"$nulls":11},{"$f":"G769*Sheet2!$A$3+H769*Sheet2!$B$3+I769*Sheet2!$C$3+J769*Sheet2!$D$3+K769*Sheet2!$E$3+L769*Sheet2!$F$3","v":0}]
[766,{"$nulls":11},{"$f":"G770*Sheet2!$A$3+H770*Sheet2!$B$3+I770*Sheet2!$C$3+J770*Sheet2!$D$3+K770*Sheet2!$E$3+L770*Sheet2!$F$3","v":0}]
[767,{"$nulls":11},{"$f":"G771*Sheet2!$A$3+H771*Sheet2!$B$3+I771*Sheet2!$C$3+J771*Sheet2!$D$3+K771*Sheet2!$E$3+L771*Sheet2!$F$3","v":0}]
[768,{"$nulls":11},{"$f":"G772*Sheet2!$A$3+H772*Sheet2!$B$3+I772*Sheet2!$C$3+J772*Sheet2!$D$3+K772*Sheet2!$E$3+L772*Sheet2!$F$3","v":0}]
[769,{"$nulls":11},{"$f":"G773*Sheet2!$A$3+H773*Sheet2!$B$3+I773*Sheet2!$C$3+J773*Sheet2!$D$3+K773*Sheet2!$E$3+L773*Sheet2!$F$3","v":0}]
[770,{"$nulls":11},{"$f":"G774*Sheet2!$A$3+H774*Sheet2!$B$3+I774*Sheet2!$C$3+J774*Sheet2!$D$3+K774*Sheet2!$E$3+L774*Sheet2!$F$3","v":0}]
[771,{"$nulls":11},{"$f":"G775*Sheet2!$A$3+H775*Sheet2!$B$3+I775*Sheet2!$C$3+J775*Sheet2!$D$3+K775*Sheet2!$E$3+L775*Sheet2!$F$3","v":0}]
[772,{"$nulls":11},{"$f":"G776*Sheet2!$A$3+H776*Sheet2!$B$3+I776*Sheet2!$C$3+J776*Sheet2!$D$3+K776*Sheet2!$E$3+L776*Sheet2!$F$3","v":0}]
[773,{"$nulls":11},{"$f":"G777*Sheet2!$A$3+H777*Sheet2!$B$3+I777*Sheet2!$C$3+J777*Sheet2!$D$3+K777*Sheet2!$E$3+L777*Sheet2!$F$3","v":0}]
[774,{"$nulls":11},{"$f":"G778*Sheet2!$A$3+H778*Sheet2!$B$3+I778*Sheet2!$C$3+J778*Sheet2!$D$3+K778*Sheet2!$E$3+L778*Sheet2!$F$3","v":0}]
[775,{"$nulls":11},{"$f":"G779*Sheet2!$A$3+H779*Sheet2!$B$3+I779*Sheet2!$C$3+J779*Sheet2!$D$3+K779*Sheet2!$E$3+L779*Sheet2!$F$3","v":0}]
[776,{"$nulls":11},{"$f":"G780*Sheet2!$A$3+H780*Sheet2!$B$3+I780*Sheet2!$C$3+J780*Sheet2!$D$3+K780*Sheet2!$E$3+L780*Sheet2!$F$3","v":0}]
[777,{"$nulls":11},{"$f":"G781*Sheet2!$A$3+H781*Sheet2!$B$3+I781*Sheet2!$C$3+J781*Sheet2!$D$3+K781*Sheet2!$E$3+L781*Sheet2!$F$3","v":0}]
[778,{"$nulls":11},{"$f":"G782*Sheet2!$A$3+H782*Sheet2!$B$3+I782*Sheet2!$C$3+J782*Sheet2!$D$3+K782*Sheet2!$E$3+L782*Sheet2!$F$3","v":0}]
[779,{"$nulls":11},{"$f":"G783*Sheet2!$A$3+H783*Sheet2!$B$3+I783*Sheet2!$C$3+J783*Sheet2!$D$3+K783*Sheet2!$E$3+L783*Sheet2!$F$3","v":0}]
[780,{"$nulls":11},{"$f":"G784*Sheet2!$A$3+H784*Sheet2!$B$3+I784*Sheet2!$C$3+J784*Sheet2!$D$3+K784*Sheet2!$E$3+L784*Sheet2!$F$3","v":0}]
[781,{"$nulls":11},{"$f":"G785*Sheet2!$A$3+H785*Sheet2!$B$3+I785*Sheet2!$C$3+J785*Sheet2!$D$3+K785*Sheet2!$E$3+L785*Sheet2!$F$3","v":0}]
[782,{"$nulls":11},{"$f":"G786*Sheet2!$A$3+H786*Sheet2!$B$3+I786*Sheet2!$C$3+J786*Sheet2!$D$3+K786*Sheet2!$E$3+L786*Sheet2!$F$3","v":0}]
[783,{"$nulls":11},{"$f":"G787*Sheet2!$A$3+H787*Sheet2!$B$3+I787*Sheet2!$C$3+J787*Sheet2!$D$3+K787*Sheet2!$E$3+L787*Sheet2!$F$3","v":0}]
[784,{"$nulls":11},{"$f":"G788*Sheet2!$A$3+H788*Sheet2!$B$3+I788*Sheet2!$C$3+J788*Sheet2!$D$3+K788*Sheet2!$E$3+L788*Sheet2!$F$3","v":0}]
[785,{"$nulls":11},{"$f":"G789*Sheet2!$A$3+H789*Sheet2!$B$3+I789*Sheet2!$C$3+J789*Sheet2!$D$3+K789*Sheet2!$E$3+L789*Sheet2!$F$3","v":0}]
[786,{"$nulls":11},{"$f":"G790*Sheet2!$A$3+H790*Sheet2!$B$3+I790*Sheet2!$C$3+J790*Sheet2!$D$3+K790*Sheet2!$E$3+L790*Sheet2!$F$3","v":0}]
[787,{"$nulls":11},{"$f":"G791*Sheet2!$A$3+H791*Sheet2!$B$3+I791*Sheet2!$C$3+J791*Sheet2!$D$3+K791*Sheet2!$E$3+L791*Sheet2!$F$3","v":0}]
[788,{"$nulls":11},{"$f":"G792*Sheet2!$A$3+H792*Sheet2!$B$3+I792*Sheet2!$C$3+J792*Sheet2!$D$3+K792*Sheet2!$E$3+L792*Sheet2!$F$3","v":0}]
[789,{"$nulls":11},{"$f":"G793*Sheet2!$A$3+H793*Sheet2!$B$3+I793*Sheet2!$C$3+J793*Sheet2!$D$3+K793*Sheet2!$E$3+L793*Sheet2!$F$3","v":0}]
[790,{"$nulls":11},{"$f":"G794*Sheet2!$A$3+H794*Sheet2!$B$3+I794*Sheet2!$C$3+J794*Sheet2!$D$3+K794*Sheet2!$E$3+L794*Sheet2!$F$3","v":0}]
[791,{"$nulls":11},{"$f":"G795*Sheet2!$A$3+H795*Sheet2!$B$3+I795*Sheet2!$C$3+J795*Sheet2!$D$3+K795*Sheet2!$E$3+L795*Sheet2!$F$3","v":0}]
[792,{"$nulls":11},{"$f":"G796*Sheet2!$A$3+H796*Sheet2!$B$3+I796*Sheet2!$C$3+J796*Sheet2!$D$3+K796*Sheet2!$E$3+L796*Sheet2!$F$3","v":0}]
[793,{"$nulls":11},{"$f":"G797*Sheet2!$A$3+H797*Sheet2!$B$3+I797*Sheet2!$C$3+J797*Sheet2!$D$3+K797*Sheet2!$E$3+L797*Sheet2!$F$3","v":0}]
[794,{"$nulls":11},{"$f":"G798*Sheet2!$A$3+H798*Sheet2!$B$3+I798*Sheet2!$C$3+J798*Sheet2!$D$3+K798*Sheet2!$E$3+L798*Sheet2!$F$3","v":0}]
[795,{"$nulls":11},{"$f":"G799*Sheet2!$A$3+H799*Sheet2!$B$3+I799*Sheet2!$C$3+J799*Sheet2!$D$3+K799*Sheet2!$E$3+L799*Sheet2!$F$3","v":0}]
[796,{"$nulls":11},{"$f":"G800*Sheet2!$A$3+H800*Sheet2!$B$3+I800*Sheet2!$C$3+J800*Sheet2!$D$3+K800*Sheet2!$E$3+L800*Sheet2!$F$3","v":0}]
[797,{"$nulls":11},{"$f":"G801*Sheet2!$A$3+H801*Sheet2!$B$3+I801*Sheet2!$C$3+J801*Sheet2!$D$3+K801*Sheet2!$E$3+L801*Sheet2!$F$3","v":0}]
[798,{"$nulls":11},{"$f":"G802*Sheet2!$A$3+H802*Sheet2!$B$3+I802*Sheet2!$C$3+J802*Sheet2!$D$3+K802*Sheet2!$E$3+L802*Sheet2!$F$3","v":0}]
[799,{"$nulls":11},{"$f":"G803*Sheet2!$A$3+H803*Sheet2!$B$3+I803*Sheet2!$C$3+J803*Sheet2!$D$3+K803*Sheet2!$E$3+L803*Sheet2!$F$3","v":0}]
[800,{"$nulls":11},{"$f":"G804*Sheet2!$A$3+H804*Sheet2!$B$3+I804*Sheet2!$C$3+J804*Sheet2!$D$3+K804*Sheet2!$E$3+L804*Sheet2!$F$3","v":0}]
[801,{"$nulls":11},{"$f":"G805*Sheet2!$A$3+H805*Sheet2!$B$3+I805*Sheet2!$C$3+J805*Sheet2!$D$3+K805*Sheet2!$E$3+L805*Sheet2!$F$3","v":0}]
[802,{"$nulls":11},{"$f":"G806*Sheet2!$A$3+H806*Sheet2!$B$3+I806*Sheet2!$C$3+J806*Sheet2!$D$3+K806*Sheet2!$E$3+L806*Sheet2!$F$3","v":0}]
[803,{"$nulls":11},{"$f":"G807*Sheet2!$A$3+H807*Sheet2!$B$3+I807*Sheet2!$C$3+J807*Sheet2!$D$3+K807*Sheet2!$E$3+L807*Sheet2!$F$3","v":0}]
[804,{"$nulls":11},{"$f":"G808*Sheet2!$A$3+H808*Sheet2!$B$3+I808*Sheet2!$C$3+J808*Sheet2!$D$3+K808*Sheet2!$E$3+L808*Sheet2!$F$3","v":0}]
[805,{"$nulls":11},{"$f":"G809*Sheet2!$A$3+H809*Sheet2!$B$3+I809*Sheet2!$C$3+J809*Sheet2!$D$3+K809*Sheet2!$E$3+L809*Sheet2!$F$3","v":0}]
[806,{"$nulls":11},{"$f":"G810*Sheet2!$A$3+H810*Sheet2!$B$3+I810*Sheet2!$C$3+J810*Sheet2!$D$3+K810*Sheet2!$E$3+L810*Sheet2!$F$3","v":0}]
[807,{"$nulls":11},{"$f":"G811*Sheet2!$A$3+H811*Sheet2!$B$3+I811*Sheet2!$C$3+J811*Sheet2!$D$3+K811*Sheet2!$E$3+L811*Sheet2!$F$3","v":0}]
[808,{"$nulls":11},{"$f":"G812*Sheet2!$A$3+H812*Sheet2!$B$3+I812*Sheet2!$C$3+J812*Sheet2!$D$3+K812*Sheet2!$E$3+L812*Sheet2!$F$3","v":0}]
[809,{"$nulls":11},{"$f":"G813*Sheet2!$A$3+H813*Sheet2!$B$3+I813*Sheet2!$C$3+J813*Sheet2!$D$3+K813*Sheet2!$E$3+L813*Sheet2!$F$3","v":0}]
[810,{"$nulls":11},{"$f":"G814*Sheet2!$A$3+H814*Sheet2!$B$3+I814*Sheet2!$C$3+J814*Sheet2!$D$3+K814*Sheet2!$E$3+L814*Sheet2!$F$3","v":0}]
[811,{"$nulls":11},{"$f":"G815*Sheet2!$A$3+H815*Sheet2!$B$3+I815*Sheet2!$C$3+J815*Sheet2!$D$3+K815*Sheet2!$E$3+L815*Sheet2!$F$3","v":0}]
[812,{"$nulls":11},{"$f":"G816*Sheet2!$A$3+H816*Sheet2!$B$3+I816*Sheet2!$C$3+J816*Sheet2!$D$3+K816*Sheet2!$E$3+L816*Sheet2!$F$3","v":0}]
[813,{"$nulls":11},{"$f":"G817*Sheet2!$A$3+H817*Sheet2!$B$3+I817*Sheet2!$C$3+J817*Sheet2!$D$3+K817*Sheet2!$E$3+L817*Sheet2!$F$3","v":0}]
[814,{"$nulls":11},{"$f":"G818*Sheet2!$A$3+H818*Sheet2!$B$3+I818*Sheet2!$C$3+J818*Sheet2!$D$3+K818*Sheet2!$E$3+L818*Sheet2!$F$3","v":0}]
[815,{"$nulls":11},{"$f":"G819*Sheet2!$A$3+H819*Sheet2!$B$3+I819*Sheet2!$C$3+J819*Sheet2!$D$3+K819*Sheet2!$E$3+L819*Sheet2!$F$3","v":0}]
[816,{"$nulls":11},{"$f":"G820*Sheet2!$A$3+H820*Sheet2!$B$3+I820*Sheet2!$C$3+J820*Sheet2!$D$3+K820*Sheet2!$E$3+L820*Sheet2!$F$3","v":0}]
[817,{"$nulls":11},{"$f":"G821*Sheet2!$A$3+H821*Sheet2!$B$3+I821*Sheet2!$C$3+J821*Sheet2!$D$3+K821*Sheet2!$E$3+L821*Sheet2!$F$3","v":0}]
[818,{"$nulls":11},{"$f":"G822*Sheet2!$A$3+H822*Sheet2!$B$3+I822*Sheet2!$C$3+J822*Sheet2!$D$3+K822*Sheet2!$E$3+L822*Sheet2!$F$3","v":0}]
[819,{"$nulls":11},{"$f":"G823*Sheet2!$A$3+H823*Sheet2!$B$3+I823*Sheet2!$C$3+J823*Sheet2!$D$3+K823*Sheet2!$E$3+L823*Sheet2!$F$3","v":0}]
[820,{"$nulls":11},{"$f":"G824*Sheet2!$A$3+H824*Sheet2!$B$3+I824*Sheet2!$C$3+J824*Sheet2!$D$3+K824*Sheet2!$E$3+L824*Sheet2!$F$3","v":0}]
[821,{"$nulls":11},{"$f":"G825*Sheet2!$A$3+H825*Sheet2!$B$3+I825*Sheet2!$C$3+J825*Sheet2!$D$3+K825*Sheet2!$E$3+L825*Sheet2!$F$3","v":0}]
[822,{"$nulls":11},{"$f":"G826*Sheet2!$A$3+H826*Sheet2!$B$3+I826*Sheet2!$C$3+J826*Sheet2!$D$3+K826*Sheet2!$E$3+L826*Sheet2!$F$3","v":0}]
[823,{"$nulls":11},{"$f":"G827*Sheet2!$A$3+H827*Sheet2!$B$3+I827*Sheet2!$C$3+J827*Sheet2!$D$3+K827*Sheet2!$E$3+L827*Sheet2!$F$3","v":0}]
[824,{"$nulls":11},{"$f":"G828*Sheet2!$A$3+H828*Sheet2!$B$3+I828*Sheet2!$C$3+J828*Sheet2!$D$3+K828*Sheet2!$E$3+L828*Sheet2!$F$3","v":0}]
[825,{"$nulls":11},{"$f":"G829*Sheet2!$A$3+H829*Sheet2!$B$3+I829*Sheet2!$C$3+J829*Sheet2!$D$3+K829*Sheet2!$E$3+L829*Sheet2!$F$3","v":0}]
[826,{"$nulls":11},{"$f":"G830*Sheet2!$A$3+H830*Sheet2!$B$3+I830*Sheet2!$C$3+J830*Sheet2!$D$3+K830*Sheet2!$E$3+L830*Sheet2!$F$3","v":0}]
[827,{"$nulls":11},{"$f":"G831*Sheet2!$A$3+H831*Sheet2!$B$3+I831*Sheet2!$C$3+J831*Sheet2!$D$3+K831*Sheet2!$E$3+L831*Sheet2!$F$3","v":0}]
[828,{"$nulls":11},{"$f":"G832*Sheet2!$A$3+H832*Sheet2!$B$3+I832*Sheet2!$C$3+J832*Sheet2!$D$3+K832*Sheet2!$E$3+L832*Sheet2!$F$3","v":0}]
[829,{"$nulls":11},{"$f":"G833*Sheet2!$A$3+H833*Sheet2!$B$3+I833*Sheet2!$C$3+J833*Sheet2!$D$3+K833*Sheet2!$E$3+L833*Sheet2!$F$3","v":0}]
[830,{"$nulls":11},{"$f":"G834*Sheet2!$A$3+H834*Sheet2!$B$3+I834*Sheet2!$C$3+J834*Sheet2!$D$3+K834*Sheet2!$E$3+L834*Sheet2!$F$3","v":0}]
[831,{"$nulls":11},{"$f":"G835*Sheet2!$A$3+H835*Sheet2!$B$3+I835*Sheet2!$C$3+J835*Sheet2!$D$3+K835*Sheet2!$E$3+L835*Sheet2!$F$3","v":0}]
[832,{"$nulls":11},{"$f":"G836*Sheet2!$A$3+H836*Sheet2!$B$3+I836*Sheet2!$C$3+J836*Sheet2!$D$3+K836*Sheet2!$E$3+L836*Sheet2!$F$3","v":0}]
[833,{"$nulls":11},{"$f":"G837*Sheet2!$A$3+H837*Sheet2!$B$3+I837*Sheet2!$C$3+J837*Sheet2!$D$3+K837*Sheet2!$E$3+L837*Sheet2!$F$3","v":0}]
[834,{"$nulls":11},{"$f":"G838*Sheet2!$A$3+H838*Sheet2!$B$3+I838*Sheet2!$C$3+J838*Sheet2!$D$3+K838*Sheet2!$E$3+L838*Sheet2!$F$3","v":0}]
[835,{"$nulls":11},{"$f":"G839*Sheet2!$A$3+H839*Sheet2!$B$3+I839*Sheet2!$C$3+J839*Sheet2!$D$3+K839*Sheet2!$E$3+L839*Sheet2!$F$3","v":0}]
[836,{"$nulls":11},{"$f":"G840*Sheet2!$A$3+H840*Sheet2!$B$3+I840*Sheet2!$C$3+J840*Sheet2!$D$3+K840*Sheet2!$E$3+L840*Sheet2!$F$3","v":0}]
[837,{"$nulls":11},{"$f":"G841*Sheet2!$A$3+H841*Sheet2!$B$3+I841*Sheet2!$C$3+J841*Sheet2!$D$3+K841*Sheet2!$E$3+L841*Sheet2!$F$3","v":0}]
[838,{"$nulls":11},{"$f":"G842*Sheet2!$A$3+H842*Sheet2!$B$3+I842*Sheet2!$C$3+J842*Sheet2!$D$3+K842*Sheet2!$E$3+L842*Sheet2!$F$3","v":0}]
[839,{"$nulls":11},{"$f":"G843*Sheet2!$A$3+H843*Sheet2!$B$3+I843*Sheet2!$C$3+J843*Sheet2!$D$3+K843*Sheet2!$E$3+L843*Sheet2!$F$3","v":0}]
[840,{"$nulls":11},{"$f":"G844*Sheet2!$A$3+H844*Sheet2!$B$3+I844*Sheet2!$C$3+J844*Sheet2!$D$3+K844*Sheet2!$E$3+L844*Sheet2!$F$3","v":0}]
[841,{"$nulls":11},{"$f":"G845*Sheet2!$A$3+H845*Sheet2!$B$3+I845*Sheet2!$C$3+J845*Sheet2!$D$3+K845*Sheet2!$E$3+L845*Sheet2!$F$3","v":0}]
[842,{"$nulls":11},{"$f":"G846*Sheet2!$A$3+H846*Sheet2!$B$3+I846*Sheet2!$C$3+J846*Sheet2!$D$3+K846*Sheet2!$E$3+L846*Sheet2!$F$3","v":0}]
[843,{"$nulls":11},{"$f":"G847*Sheet2!$A$3+H847*Sheet2!$B$3+I847*Sheet2!$C$3+J847*Sheet2!$D$3+K847*Sheet2!$E$3+L847*Sheet2!$F$3","v":0}]
[844,{"$nulls":11},{"$f":"G848*Sheet2!$A$3+H848*Sheet2!$B$3+I848*Sheet2!$C$3+J848*Sheet2!$D$3+K848*Sheet2!$E$3+L848*Sheet2!$F$3","v":0}]
[845,{"$nulls":11},{"$f":"G849*Sheet2!$A$3+H849*Sheet2!$B$3+I849*Sheet2!$C$3+J849*Sheet2!$D$3+K849*Sheet2!$E$3+L849*Sheet2!$F$3","v":0}]
[846,{"$nulls":11},{"$f":"G850*Sheet2!$A$3+H850*Sheet2!$B$3+I850*Sheet2!$C$3+J850*Sheet2!$D$3+K850*Sheet2!$E$3+L850*Sheet2!$F$3","v":0}]
[847,{"$nulls":11},{"$f":"G851*Sheet2!$A$3+H851*Sheet2!$B$3+I851*Sheet2!$C$3+J851*Sheet2!$D$3+K851*Sheet2!$E$3+L851*Sheet2!$F$3","v":0}]
[848,{"$nulls":11},{"$f":"G852*Sheet2!$A$3+H852*Sheet2!$B$3+I852*Sheet2!$C$3+J852*Sheet2!$D$3+K852*Sheet2!$E$3+L852*Sheet2!$F$3","v":0}]
[849,{"$nulls":11},{"$f":"G853*Sheet2!$A$3+H853*Sheet2!$B$3+I853*Sheet2!$C$3+J853*Sheet2!$D$3+K853*Sheet2!$E$3+L853*Sheet2!$F$3","v":0}]
[850,{"$nulls":11},{"$f":"G854*Sheet2!$A$3+H854*Sheet2!$B$3+I854*Sheet2!$C$3+J854*Sheet2!$D$3+K854*Sheet2!$E$3+L854*Sheet2!$F$3","v":0}]
[851,{"$nulls":11},{"$f":"G855*Sheet2!$A$3+H855*Sheet2!$B$3+I855*Sheet2!$C$3+J855*Sheet2!$D$3+K855*Sheet2!$E$3+L855*Sheet2!$F$3","v":0}]
[852,{"$nulls":11},{"$f":"G856*Sheet2!$A$3+H856*Sheet2!$B$3+I856*Sheet2!$C$3+J856*Sheet2!$D$3+K856*Sheet2!$E$3+L856*Sheet2!$F$3","v":0}]
[853,{"$nulls":11},{"$f":"G857*Sheet2!$A$3+H857*Sheet2!$B$3+I857*Sheet2!$C$3+J857*Sheet2!$D$3+K857*Sheet2!$E$3+L857*Sheet2!$F$3","v":0}]
[854,{"$nulls":11},{"$f":"G858*Sheet2!$A$3+H858*Sheet2!$B$3+I858*Sheet2!$C$3+J858*Sheet2!$D$3+K858*Sheet2!$E$3+L858*Sheet2!$F$3","v":0}]
[855,{"$nulls":11},{"$f":"G859*Sheet2!$A$3+H859*Sheet2!$B$3+I859*Sheet2!$C$3+J859*Sheet2!$D$3+K859*Sheet2!$E$3+L859*Sheet2!$F$3","v":0}]
[856,{"$nulls":11},{"$f":"G860*Sheet2!$A$3+H860*Sheet2!$B$3+I860*Sheet2!$C$3+J860*Sheet2!$D$3+K860*Sheet2!$E$3+L860*Sheet2!$F$3","v":0}]
[857,{"$nulls":11},{"$f":"G861*Sheet2!$A$3+H861*Sheet2!$B$3+I861*Sheet2!$C$3+J861*Sheet2!$D$3+K861*Sheet2!$E$3+L861*Sheet2!$F$3","v":0}]
[858,{"$nulls":11},{"$f":"G862*Sheet2!$A$3+H862*Sheet2!$B$3+I862*Sheet2!$C$3+J862*Sheet2!$D$3+K862*Sheet2!$E$3+L862*Sheet2!$F$3","v":0}]
[859,{"$nulls":11},{"$f":"G863*Sheet2!$A$3+H863*Sheet2!$B$3+I863*Sheet2!$C$3+J863*Sheet2!$D$3+K863*Sheet2!$E$3+L863*Sheet2!$F$3","v":0}]
[860,{"$nulls":11},{"$f":"G864*Sheet2!$A$3+H864*Sheet2!$B$3+I864*Sheet2!$C$3+J864*Sheet2!$D$3+K864*Sheet2!$E$3+L864*Sheet2!$F$3","v":0}]
[861,{"$nulls":11},{"$f":"G865*Sheet2!$A$3+H865*Sheet2!$B$3+I865*Sheet2!$C$3+J865*Sheet2!$D$3+K865*Sheet2!$E$3+L865*Sheet2!$F$3","v":0}]
[862,{"$nulls":11},{"$f":"G866*Sheet2!$A$3+H866*Sheet2!$B$3+I866*Sheet2!$C$3+J866*Sheet2!$D$3+K866*Sheet2!$E$3+L866*Sheet2!$F$3","v":0}]
[863,{"$nulls":11},{"$f":"G867*Sheet2!$A$3+H867*Sheet2!$B$3+I867*Sheet2!$C$3+J867*Sheet2!$D$3+K867*Sheet2!$E$3+L867*Sheet2!$F$3","v":0}]
[864,{"$nulls":11},{"$f":"G868*Sheet2!$A$3+H868*Sheet2!$B$3+I868*Sheet2!$C$3+J868*Sheet2!$D$3+K868*Sheet2!$E$3+L868*Sheet2!$F$3","v":0}]
[865,{"$nulls":11},{"$f":"G869*Sheet2!$A$3+H869*Sheet2!$B$3+I869*Sheet2!$C$3+J869*Sheet2!$D$3+K869*Sheet2!$E$3+L869*Sheet2!$F$3","v":0}]
[866,{"$nulls":11},{"$f":"G870*Sheet2!$A$3+H870*Sheet2!$B$3+I870*Sheet2!$C$3+J870*Sheet2!$D$3+K870*Sheet2!$E$3+L870*Sheet2!$F$3","v":0}]
[867,{"$nulls":11},{"$f":"G871*Sheet2!$A$3+H871*Sheet2!$B$3+I871*Sheet2!$C$3+J871*Sheet2!$D$3+K871*Sheet2!$E$3+L871*Sheet2!$F$3","v":0}]
[868,{"$nulls":11},{"$f":"G872*Sheet2!$A$3+H872*Sheet2!$B$3+I872*Sheet2!$C$3+J872*Sheet2!$D$3+K872*Sheet2!$E$3+L872*Sheet2!$F$3","v":0}]
[869,{"$nulls":11},{"$f":"G873*Sheet2!$A$3+H873*Sheet2!$B$3+I873*Sheet2!$C$3+J873*Sheet2!$D$3+K873*Sheet2!$E$3+L873*Sheet2!$F$3","v":0}]
[870,{"$nulls":11},{"$f":"G874*Sheet2!$A$3+H874*Sheet2!$B$3+I874*Sheet2!$C$3+J874*Sheet2!$D$3+K874*Sheet2!$E$3+L874*Sheet2!$F$3","v":0}]
[871,{"$nulls":11},{"$f":"G875*Sheet2!$A$3+H875*Sheet2!$B$3+I875*Sheet2!$C$3+J875*Sheet2!$D$3+K875*Sheet2!$E$3+L875*Sheet2!$F$3","v":0}]
[872,{"$nulls":11},{"$f":"G876*Sheet2!$A$3+H876*Sheet2!$B$3+I876*Sheet2!$C$3+J876*Sheet2!$D$3+K876*Sheet2!$E$3+L876*Sheet2!$F$3","v":0}]
[873,{"$nulls":11},{"$f":"G877*Sheet2!$A$3+H877*Sheet2!$B$3+I877*Sheet2!$C$3+J877*Sheet2!$D$3+K877*Sheet2!$E$3+L877*Sheet2!$F$3","v":0}]
[874,{"$nulls":11},{"$f":"G878*Sheet2!$A$3+H878*Sheet2!$B$3+I878*Sheet2!$C$3+J878*Sheet2!$D$3+K878*Sheet2!$E$3+L878*Sheet2!$F$3","v":0}]
[875,{"$nulls":11},{"$f":"G879*Sheet2!$A$3+H879*Sheet2!$B$3+I879*Sheet2!$C$3+J879*Sheet2!$D$3+K879*Sheet2!$E$3+L879*Sheet2!$F$3","v":0}]
[876,{"$nulls":11},{"$f":"G880*Sheet2!$A$3+H880*Sheet2!$B$3+I880*Sheet2!$C$3+J880*Sheet2!$D$3+K880*Sheet2!$E$3+L880*Sheet2!$F$3","v":0}]
[877,{"$nulls":11},{"$f":"G881*Sheet2!$A$3+H881*Sheet2!$B$3+I881*Sheet2!$C$3+J881*Sheet2!$D$3+K881*Sheet2!$E$3+L881*Sheet2!$F$3","v":0}]
[878,{"$nulls":11},{"$f":"G882*Sheet2!$A$3+H882*Sheet2!$B$3+I882*Sheet2!$C$3+J882*Sheet2!$D$3+K882*Sheet2!$E$3+L882*Sheet2!$F$3","v":0}]
[879,{"$nulls":11},{"$f":"G883*Sheet2!$A$3+H883*Sheet2!$B$3+I883*Sheet2!$C$3+J883*Sheet2!$D$3+K883*Sheet2!$E$3+L883*Sheet2!$F$3","v":0}]
[880,{"$nulls":11},{"$f":"G884*Sheet2!$A$3+H884*Sheet2!$B$3+I884*Sheet2!$C$3+J884*Sheet2!$D$3+K884*Sheet2!$E$3+L884*Sheet2!$F$3","v":0}]
[881,{"$nulls":11},{"$f":"G885*Sheet2!$A$3+H885*Sheet2!$B$3+I885*Sheet2!$C$3+J885*Sheet2!$D$3+K885*Sheet2!$E$3+L885*Sheet2!$F$3","v":0}]
[882,{"$nulls":11},{"$f":"G886*Sheet2!$A$3+H886*Sheet2!$B$3+I886*Sheet2!$C$3+J886*Sheet2!$D$3+K886*Sheet2!$E$3+L886*Sheet2!$F$3","v":0}]
[883,{"$nulls":11},{"$f":"G887*Sheet2!$A$3+H887*Sheet2!$B$3+I887*Sheet2!$C$3+J887*Sheet2!$D$3+K887*Sheet2!$E$3+L887*Sheet2!$F$3","v":0}]
[884,{"$nulls":11},{"$f":"G888*Sheet2!$A$3+H888*Sheet2!$B$3+I888*Sheet2!$C$3+J888*Sheet2!$D$3+K888*Sheet2!$E$3+L888*Sheet2!$F$3","v":0}]
[885,{"$nulls":11},{"$f":"G889*Sheet2!$A$3+H889*Sheet2!$B$3+I889*Sheet2!$C$3+J889*Sheet2!$D$3+K889*Sheet2!$E$3+L889*Sheet2!$F$3","v":0}]
[886,{"$nulls":11},{"$f":"G890*Sheet2!$A$3+H890*Sheet2!$B$3+I890*Sheet2!$C$3+J890*Sheet2!$D$3+K890*Sheet2!$E$3+L890*Sheet2!$F$3","v":0}]
[887,{"$nulls":11},{"$f":"G891*Sheet2!$A$3+H891*Sheet2!$B$3+I891*Sheet2!$C$3+J891*Sheet2!$D$3+K891*Sheet2!$E$3+L891*Sheet2!$F$3","v":0}]
[888,{"$nulls":11},{"$f":"G892*Sheet2!$A$3+H892*Sheet2!$B$3+I892*Sheet2!$C$3+J892*Sheet2!$D$3+K892*Sheet2!$E$3+L892*Sheet2!$F$3","v":0}]
[889,{"$nulls":11},{"$f":"G893*Sheet2!$A$3+H893*Sheet2!$B$3+I893*Sheet2!$C$3+J893*Sheet2!$D$3+K893*Sheet2!$E$3+L893*Sheet2!$F$3","v":0}]
[890,{"$nulls":11},{"$f":"G894*Sheet2!$A$3+H894*Sheet2!$B$3+I894*Sheet2!$C$3+J894*Sheet2!$D$3+K894*Sheet2!$E$3+L894*Sheet2!$F$3","v":0}]
[891,{"$nulls":11},{"$f":"G895*Sheet2!$A$3+H895*Sheet2!$B$3+I895*Sheet2!$C$3+J895*Sheet2!$D$3+K895*Sheet2!$E$3+L895*Sheet2!$F$3","v":0}]
[892,{"$nulls":11},{"$f":"G896*Sheet2!$A$3+H896*Sheet2!$B$3+I896*Sheet2!$C$3+J896*Sheet2!$D$3+K896*Sheet2!$E$3+L896*Sheet2!$F$3","v":0}]
[893,{"$nulls":11},{"$f":"G897*Sheet2!$A$3+H897*Sheet2!$B$3+I897*Sheet2!$C$3+J897*Sheet2!$D$3+K897*Sheet2!$E$3+L897*Sheet2!$F$3","v":0}]
[894,{"$nulls":11},{"$f":"G898*Sheet2!$A$3+H898*Sheet2!$B$3+I898*Sheet2!$C$3+J898*Sheet2!$D$3+K898*Sheet2!$E$3+L898*Sheet2!$F$3","v":0}]
[895,{"$nulls":11},{"$f":"G899*Sheet2!$A$3+H899*Sheet2!$B$3+I899*Sheet2!$C$3+J899*Sheet2!$D$3+K899*Sheet2!$E$3+L899*Sheet2!$F$3","v":0}]
[896,{"$nulls":11},{"$f":"G900*Sheet2!$A$3+H900*Sheet2!$B$3+I900*Sheet2!$C$3+J900*Sheet2!$D$3+K900*Sheet2!$E$3+L900*Sheet2!$F$3","v":0}]
[897,{"$nulls":11},{"$f":"G901*Sheet2!$A$3+H901*Sheet2!$B$3+I901*Sheet2!$C$3+J901*Sheet2!$D$3+K901*Sheet2!$E$3+L901*Sheet2!$F$3","v":0}]
[898,{"$nulls":11},{"$f":"G902*Sheet2!$A$3+H902*Sheet2!$B$3+I902*Sheet2!$C$3+J902*Sheet2!$D$3+K902*Sheet2!$E$3+L902*Sheet2!$F$3","v":0}]
[899,{"$nulls":11},{"$f":"G903*Sheet2!$A$3+H903*Sheet2!$B$3+I903*Sheet2!$C$3+J903*Sheet2!$D$3+K903*Sheet2!$E$3+L903*Sheet2!$F$3","v":0}]
[900,{"$nulls":11},{"$f":"G904*Sheet2!$A$3+H904*Sheet2!$B$3+I904*Sheet2!$C$3+J904*Sheet2!$D$3+K904*Sheet2!$E$3+L904*Sheet2!$F$3","v":0}]
[901,{"$nulls":11},{"$f":"G905*Sheet2!$A$3+H905*Sheet2!$B$3+I905*Sheet2!$C$3+J905*Sheet2!$D$3+K905*Sheet2!$E$3+L905*Sheet2!$F$3","v":0}]
[902,{"$nulls":11},{"$f":"G906*Sheet2!$A$3+H906*Sheet2!$B$3+I906*Sheet2!$C$3+J906*Sheet2!$D$3+K906*Sheet2!$E$3+L906*Sheet2!$F$3","v":0}]
[903,{"$nulls":11},{"$f":"G907*Sheet2!$A$3+H907*Sheet2!$B$3+I907*Sheet2!$C$3+J907*Sheet2!$D$3+K907*Sheet2!$E$3+L907*Sheet2!$F$3","v":0}]
[904,{"$nulls":11},{"$f":"G908*Sheet2!$A$3+H908*Sheet2!$B$3+I908*Sheet2!$C$3+J908*Sheet2!$D$3+K908*Sheet2!$E$3+L908*Sheet2!$F$3","v":0}]
[905,{"$nulls":11},{"$f":"G909*Sheet2!$A$3+H909*Sheet2!$B$3+I909*Sheet2!$C$3+J909*Sheet2!$D$3+K909*Sheet2!$E$3+L909*Sheet2!$F$3","v":0}]
[906,{"$nulls":11},{"$f":"G910*Sheet2!$A$3+H910*Sheet2!$B$3+I910*Sheet2!$C$3+J910*Sheet2!$D$3+K910*Sheet2!$E$3+L910*Sheet2!$F$3","v":0}]
[907,{"$nulls":11},{"$f":"G911*Sheet2!$A$3+H911*Sheet2!$B$3+I911*Sheet2!$C$3+J911*Sheet2!$D$3+K911*Sheet2!$E$3+L911*Sheet2!$F$3","v":0}]
[908,{"$nulls":11},{"$f":"G912*Sheet2!$A$3+H912*Sheet2!$B$3+I912*Sheet2!$C$3+J912*Sheet2!$D$3+K912*Sheet2!$E$3+L912*Sheet2!$F$3","v":0}]
[909,{"$nulls":11},{"$f":"G913*Sheet2!$A$3+H913*Sheet2!$B$3+I913*Sheet2!$C$3+J913*Sheet2!$D$3+K913*Sheet2!$E$3+L913*Sheet2!$F$3","v":0}]
[910,{"$nulls":11},{"$f":"G914*Sheet2!$A$3+H914*Sheet2!$B$3+I914*Sheet2!$C$3+J914*Sheet2!$D$3+K914*Sheet2!$E$3+L914*Sheet2!$F$3","v":0}]
[911,{"$nulls":11},{"$f":"G915*Sheet2!$A$3+H915*Sheet2!$B$3+I915*Sheet2!$C$3+J915*Sheet2!$D$3+K915*Sheet2!$E$3+L915*Sheet2!$F$3","v":0}]
[912,{"$nulls":11},{"$f":"G916*Sheet2!$A$3+H916*Sheet2!$B$3+I916*Sheet2!$C$3+J916*Sheet2!$D$3+K916*Sheet2!$E$3+L916*Sheet2!$F$3","v":0}]
[913,{"$nulls":11},{"$f":"G917*Sheet2!$A$3+H917*Sheet2!$B$3+I917*Sheet2!$C$3+J917*Sheet2!$D$3+K917*Sheet2!$E$3+L917*Sheet2!$F$3","v":0}]
[914,{"$nulls":11},{"$f":"G918*Sheet2!$A$3+H918*Sheet2!$B$3+I918*Sheet2!$C$3+J918*Sheet2!$D$3+K918*Sheet2!$E$3+L918*Sheet2!$F$3","v":0}]
[915,{"$nulls":11},{"$f":"G919*Sheet2!$A$3+H919*Sheet2!$B$3+I919*Sheet2!$C$3+J919*Sheet2!$D$3+K919*Sheet2!$E$3+L919*Sheet2!$F$3","v":0}]
[916,{"$nulls":11},{"$f":"G920*Sheet2!$A$3+H920*Sheet2!$B$3+I920*Sheet2!$C$3+J920*Sheet2!$D$3+K920*Sheet2!$E$3+L920*Sheet2!$F$3","v":0}]
[917,{"$nulls":11},{"$f":"G921*Sheet2!$A$3+H921*Sheet2!$B$3+I921*Sheet2!$C$3+J921*Sheet2!$D$3+K921*Sheet2!$E$3+L921*Sheet2!$F$3","v":0}]
[918,{"$nulls":11},{"$f":"G922*Sheet2!$A$3+H922*Sheet2!$B$3+I922*Sheet2!$C$3+J922*Sheet2!$D$3+K922*Sheet2!$E$3+L922*Sheet2!$F$3","v":0}]
[919,{"$nulls":11},{"$f":"G923*Sheet2!$A$3+H923*Sheet2!$B$3+I923*Sheet2!$C$3+J923*Sheet2!$D$3+K923*Sheet2!$E$3+L923*Sheet2!$F$3","v":0}]
[920,{"$nulls":11},{"$f":"G924*Sheet2!$A$3+H924*Sheet2!$B$3+I924*Sheet2!$C$3+J924*Sheet2!$D$3+K924*Sheet2!$E$3+L924*Sheet2!$F$3","v":0}]
[921,{"$nulls":11},{"$f":"G925*Sheet2!$A$3+H925*Sheet2!$B$3+I925*Sheet2!$C$3+J925*Sheet2!$D$3+K925*Sheet2!$E$3+L925*Sheet2!$F$3","v":0}]
[922,{"$nulls":11},{"$f":"G926*Sheet2!$A$3+H926*Sheet2!$B$3+I926*Sheet2!$C$3+J926*Sheet2!$D$3+K926*Sheet2!$E$3+L926*Sheet2!$F$3","v":0}]
[923,{"$nulls":11},{"$f":"G927*Sheet2!$A$3+H927*Sheet2!$B$3+I927*Sheet2!$C$3+J927*Sheet2!$D$3+K927*Sheet2!$E$3+L927*Sheet2!$F$3","v":0}]
[924,{"$nulls":11},{"$f":"G928*Sheet2!$A$3+H928*Sheet2!$B$3+I928*Sheet2!$C$3+J928*Sheet2!$D$3+K928*Sheet2!$E$3+L928*Sheet2!$F$3","v":0}]
[925,{"$nulls":11},{"$f":"G929*Sheet2!$A$3+H929*Sheet2!$B$3+I929*Sheet2!$C$3+J929*Sheet2!$D$3+K929*Sheet2!$E$3+L929*Sheet2!$F$3","v":0}]
[926,{"$nulls":11},{"$f":"G930*Sheet2!$A$3+H930*Sheet2!$B$3+I930*Sheet2!$C$3+J930*Sheet2!$D$3+K930*Sheet2!$E$3+L930*Sheet2!$F$3","v":0}]
[927,{"$nulls":11},{"$f":"G931*Sheet2!$A$3+H931*Sheet2!$B$3+I931*Sheet2!$C$3+J931*Sheet2!$D$3+K931*Sheet2!$E$3+L931*Sheet2!$F$3","v":0}]
[928,{"$nulls":11},{"$f":"G932*Sheet2!$A$3+H932*Sheet2!$B$3+I932*Sheet2!$C$3+J932*Sheet2!$D$3+K932*Sheet2!$E$3+L932*Sheet2!$F$3","v":0}]
[929,{"$nulls":11},{"$f":"G933*Sheet2!$A$3+H933*Sheet2!$B$3+I933*Sheet2!$C$3+J933*Sheet2!$D$3+K933*Sheet2!$E$3+L933*Sheet2!$F$3","v":0}]
[930,{"$nulls":11},{"$f":"G934*Sheet2!$A$3+H934*Sheet2!$B$3+I934*Sheet2!$C$3+J934*Sheet2!$D$3+K934*Sheet2!$E$3+L934*Sheet2!$F$3","v":0}]
[931,{"$nulls":11},{"$f":"G935*Sheet2!$A$3+H935*Sheet2!$B$3+I935*Sheet2!$C$3+J935*Sheet2!$D$3+K935*Sheet2!$E$3+L935*Sheet2!$F$3","v":0}]
[932,{"$nulls":11},{"$f":"G936*Sheet2!$A$3+H936*Sheet2!$B$3+I936*Sheet2!$C$3+J936*Sheet2!$D$3+K936*Sheet2!$E$3+L936*Sheet2!$F$3","v":0}]
[933,{"$nulls":11},{"$f":"G937*Sheet2!$A$3+H937*Sheet2!$B$3+I937*Sheet2!$C$3+J937*Sheet2!$D$3+K937*Sheet2!$E$3+L937*Sheet2!$F$3","v":0}]
[934,{"$nulls":11},{"$f":"G938*Sheet2!$A$3+H938*Sheet2!$B$3+I938*Sheet2!$C$3+J938*Sheet2!$D$3+K938*Sheet2!$E$3+L938*Sheet2!$F$3","v":0}]
[935,{"$nulls":11},{"$f":"G939*Sheet2!$A$3+H939*Sheet2!$B$3+I939*Sheet2!$C$3+J939*Sheet2!$D$3+K939*Sheet2!$E$3+L939*Sheet2!$F$3","v":0}]
[936,{"$nulls":11},{"$f":"G940*Sheet2!$A$3+H940*Sheet2!$B$3+I940*Sheet2!$C$3+J940*Sheet2!$D$3+K940*Sheet2!$E$3+L940*Sheet2!$F$3","v":0}]
[937,{"$nulls":11},{"$f":"G941*Sheet2!$A$3+H941*Sheet2!$B$3+I941*Sheet2!$C$3+J941*Sheet2!$D$3+K941*Sheet2!$E$3+L941*Sheet2!$F$3","v":0}]
[938,{"$nulls":11},{"$f":"G942*Sheet2!$A$3+H942*Sheet2!$B$3+I942*Sheet2!$C$3+J942*Sheet2!$D$3+K942*Sheet2!$E$3+L942*Sheet2!$F$3","v":0}]
[939,{"$nulls":11},{"$f":"G943*Sheet2!$A$3+H943*Sheet2!$B$3+I943*Sheet2!$C$3+J943*Sheet2!$D$3+K943*Sheet2!$E$3+L943*Sheet2!$F$3","v":0}]
[940,{"$nulls":11},{"$f":"G944*Sheet2!$A$3+H944*Sheet2!$B$3+I944*Sheet2!$C$3+J944*Sheet2!$D$3+K944*Sheet2!$E$3+L944*Sheet2!$F$3","v":0}]
[941,{"$nulls":11},{"$f":"G945*Sheet2!$A$3+H945*Sheet2!$B$3+I945*Sheet2!$C$3+J945*Sheet2!$D$3+K945*Sheet2!$E$3+L945*Sheet2!$F$3","v":0}]
[942,{"$nulls":11},{"$f":"G946*Sheet2!$A$3+H946*Sheet2!$B$3+I946*Sheet2!$C$3+J946*Sheet2!$D$3+K946*Sheet2!$E$3+L946*Sheet2!$F$3","v":0}]
[943,{"$nulls":11},{"$f":"G947*Sheet2!$A$3+H947*Sheet2!$B$3+I947*Sheet2!$C$3+J947*Sheet2!$D$3+K947*Sheet2!$E$3+L947*Sheet2!$F$3","v":0}]
[944,{"$nulls":11},{"$f":"G948*Sheet2!$A$3+H948*Sheet2!$B$3+I948*Sheet2!$C$3+J948*Sheet2!$D$3+K948*Sheet2!$E$3+L948*Sheet2!$F$3","v":0}]
[945,{"$nulls":11},{"$f":"G949*Sheet2!$A$3+H949*Sheet2!$B$3+I949*Sheet2!$C$3+J949*Sheet2!$D$3+K949*Sheet2!$E$3+L949*Sheet2!$F$3","v":0}]
[946,{"$nulls":11},{"$f":"G950*Sheet2!$A$3+H950*Sheet2!$B$3+I950*Sheet2!$C$3+J950*Sheet2!$D$3+K950*Sheet2!$E$3+L950*Sheet2!$F$3","v":0}]
[947,{"$nulls":11},{"$f":"G951*Sheet2!$A$3+H951*Sheet2!$B$3+I951*Sheet2!$C$3+J951*Sheet2!$D$3+K951*Sheet2!$E$3+L951*Sheet2!$F$3","v":0}]
[948,{"$nulls":11},{"$f":"G952*Sheet2!$A$3+H952*Sheet2!$B$3+I952*Sheet2!$C$3+J952*Sheet2!$D$3+K952*Sheet2!$E$3+L952*Sheet2!$F$3","v":0}]
[949,{"$nulls":11},{"$f":"G953*Sheet2!$A$3+H953*Sheet2!$B$3+I953*Sheet2!$C$3+J953*Sheet2!$D$3+K953*Sheet2!$E$3+L953*Sheet2!$F$3","v":0}]
[950,{"$nulls":11},{"$f":"G954*Sheet2!$A$3+H954*Sheet2!$B$3+I954*Sheet2!$C$3+J954*Sheet2!$D$3+K954*Sheet2!$E$3+L954*Sheet2!$F$3","v":0}]
[951,{"$nulls":11},{"$f":"G955*Sheet2!$A$3+H955*Sheet2!$B$3+I955*Sheet2!$C$3+J955*Sheet2!$D$3+K955*Sheet2!$E$3+L955*Sheet2!$F$3","v":0}]
[952,{"$nulls":11},{"$f":"G956*Sheet2!$A$3+H956*Sheet2!$B$3+I956*Sheet2!$C$3+J956*Sheet2!$D$3+K956*Sheet2!$E$3+L956*Sheet2!$F$3","v":0}]
[953,{"$nulls":11},{"$f":"G957*Sheet2!$A$3+H957*Sheet2!$B$3+I957*Sheet2!$C$3+J957*Sheet2!$D$3+K957*Sheet2!$E$3+L957*Sheet2!$F$3","v":0}]
[954,{"$nulls":11},{"$f":"G958*Sheet2!$A$3+H958*Sheet2!$B$3+I958*Sheet2!$C$3+J958*Sheet2!$D$3+K958*Sheet2!$E$3+L958*Sheet2!$F$3","v":0}]
[955,{"$nulls":11},{"$f":"G959*Sheet2!$A$3+H959*Sheet2!$B$3+I959*Sheet2!$C$3+J959*Sheet2!$D$3+K959*Sheet2!$E$3+L959*Sheet2!$F$3","v":0}]
[956,{"$nulls":11},{"$f":"G960*Sheet2!$A$3+H960*Sheet2!$B$3+I960*Sheet2!$C$3+J960*Sheet2!$D$3+K960*Sheet2!$E$3+L960*Sheet2!$F$3","v":0}]
[957,{"$nulls":11},{"$f":"G961*Sheet2!$A$3+H961*Sheet2!$B$3+I961*Sheet2!$C$3+J961*Sheet2!$D$3+K961*Sheet2!$E$3+L961*Sheet2!$F$3","v":0}]
[958,{"$nulls":11},{"$f":"G962*Sheet2!$A$3+H962*Sheet2!$B$3+I962*Sheet2!$C$3+J962*Sheet2!$D$3+K962*Sheet2!$E$3+L962*Sheet2!$F$3","v":0}]
[959,{"$nulls":11},{"$f":"G963*Sheet2!$A$3+H963*Sheet2!$B$3+I963*Sheet2!$C$3+J963*Sheet2!$D$3+K963*Sheet2!$E$3+L963*Sheet2!$F$3","v":0}]
[960,{"$nulls":11},{"$f":"G964*Sheet2!$A$3+H964*Sheet2!$B$3+I964*Sheet2!$C$3+J964*Sheet2!$D$3+K964*Sheet2!$E$3+L964*Sheet2!$F$3","v":0}]
[961,{"$nulls":11},{"$f":"G965*Sheet2!$A$3+H965*Sheet2!$B$3+I965*Sheet2!$C$3+J965*Sheet2!$D$3+K965*Sheet2!$E$3+L965*Sheet2!$F$3","v":0}]
[962,{"$nulls":11},{"$f":"G966*Sheet2!$A$3+H966*Sheet2!$B$3+I966*Sheet2!$C$3+J966*Sheet2!$D$3+K966*Sheet2!$E$3+L966*Sheet2!$F$3","v":0}]
[963,{"$nulls":11},{"$f":"G967*Sheet2!$A$3+H967*Sheet2!$B$3+I967*Sheet2!$C$3+J967*Sheet2!$D$3+K967*Sheet2!$E$3+L967*Sheet2!$F$3","v":0}]
[964,{"$nulls":11},{"$f":"G968*Sheet2!$A$3+H968*Sheet2!$B$3+I968*Sheet2!$C$3+J968*Sheet2!$D$3+K968*Sheet2!$E$3+L968*Sheet2!$F$3","v":0}]
[965,{"$nulls":11},{"$f":"G969*Sheet2!$A$3+H969*Sheet2!$B$3+I969*Sheet2!$C$3+J969*Sheet2!$D$3+K969*Sheet2!$E$3+L969*Sheet2!$F$3","v":0}]
[966,{"$nulls":11},{"$f":"G970*Sheet2!$A$3+H970*Sheet2!$B$3+I970*Sheet2!$C$3+J970*Sheet2!$D$3+K970*Sheet2!$E$3+L970*Sheet2!$F$3","v":0}]
[967,{"$nulls":11},{"$f":"G971*Sheet2!$A$3+H971*Sheet2!$B$3+I971*Sheet2!$C$3+J971*Sheet2!$D$3+K971*Sheet2!$E$3+L971*Sheet2!$F$3","v":0}]
[968,{"$nulls":11},{"$f":"G972*Sheet2!$A$3+H972*Sheet2!$B$3+I972*Sheet2!$C$3+J972*Sheet2!$D$3+K972*Sheet2!$E$3+L972*Sheet2!$F$3","v":0}]
[969,{"$nulls":11},{"$f":"G973*Sheet2!$A$3+H973*Sheet2!$B$3+I973*Sheet2!$C$3+J973*Sheet2!$D$3+K973*Sheet2!$E$3+L973*Sheet2!$F$3","v":0}]
[970,{"$nulls":11},{"$f":"G974*Sheet2!$A$3+H974*Sheet2!$B$3+I974*Sheet2!$C$3+J974*Sheet2!$D$3+K974*Sheet2!$E$3+L974*Sheet2!$F$3","v":0}]
[971,{"$nulls":11},{"$f":"G975*Sheet2!$A$3+H975*Sheet2!$B$3+I975*Sheet2!$C$3+J975*Sheet2!$D$3+K975*Sheet2!$E$3+L975*Sheet2!$F$3","v":0}]
[972,{"$nulls":11},{"$f":"G976*Sheet2!$A$3+H976*Sheet2!$B$3+I976*Sheet2!$C$3+J976*Sheet2!$D$3+K976*Sheet2!$E$3+L976*Sheet2!$F$3","v":0}]
[973,{"$nulls":11},{"$f":"G977*Sheet2!$A$3+H977*Sheet2!$B$3+I977*Sheet2!$C$3+J977*Sheet2!$D$3+K977*Sheet2!$E$3+L977*Sheet2!$F$3","v":0}]
[974,{"$nulls":11},{"$f":"G978*Sheet2!$A$3+H978*Sheet2!$B$3+I978*Sheet2!$C$3+J978*Sheet2!$D$3+K978*Sheet2!$E$3+L978*Sheet2!$F$3","v":0}]
[975,{"$nulls":11},{"$f":"G979*Sheet2!$A$3+H979*Sheet2!$B$3+I979*Sheet2!$C$3+J979*Sheet2!$D$3+K979*Sheet2!$E$3+L979*Sheet2!$F$3","v":0}]
[976,{"$nulls":11},{"$f":"G980*Sheet2!$A$3+H980*Sheet2!$B$3+I980*Sheet2!$C$3+J980*Sheet2!$D$3+K980*Sheet2!$E$3+L980*Sheet2!$F$3","v":0}]
[977,{"$nulls":11},{"$f":"G981*Sheet2!$A$3+H981*Sheet2!$B$3+I981*Sheet2!$C$3+J981*Sheet2!$D$3+K981*Sheet2!$E$3+L981*Sheet2!$F$3","v":0}]
[978,{"$nulls":11},{"$f":"G982*Sheet2!$A$3+H982*Sheet2!$B$3+I982*Sheet2!$C$3+J982*Sheet2!$D$3+K982*Sheet2!$E$3+L982*Sheet2!$F$3","v":0}]

{"sheet":"Sheet2","index":1,"n_rows":3,"n_cols":6,"rows_kept":3,"cut":false,"hidden":false,"merged":[[0,0,0,5]]}
["各种菜品每份重量"]
["北方白菜（份）","张北土豆（份）","太行山丘陵红薯（份）","纯红薯粉条（份）","沙窝萝卜（份）","泥坑藕（份）"]
[15,5,7,2,10,5]

{"sheet":"Sheet3","index":2,"n_rows":0,"n_cols":0,"rows_kept":0,"cut":false,"hidden":false,"merged":[]}